BEGIN:VCALENDAR
VERSION:2.0
PRODID:-//Pro-Duffers Orlando - ECPv6.15.20//NONSGML v1.0//EN
CALSCALE:GREGORIAN
METHOD:PUBLISH
X-ORIGINAL-URL:https://produffersorlando.com
X-WR-CALDESC:Events for Pro-Duffers Orlando
REFRESH-INTERVAL;VALUE=DURATION:PT1H
X-Robots-Tag:noindex
X-PUBLISHED-TTL:PT1H
BEGIN:VTIMEZONE
TZID:America/New_York
BEGIN:DAYLIGHT
TZOFFSETFROM:-0500
TZOFFSETTO:-0400
TZNAME:EDT
DTSTART:20160313T070000
END:DAYLIGHT
BEGIN:STANDARD
TZOFFSETFROM:-0400
TZOFFSETTO:-0500
TZNAME:EST
DTSTART:20161106T060000
END:STANDARD
BEGIN:DAYLIGHT
TZOFFSETFROM:-0500
TZOFFSETTO:-0400
TZNAME:EDT
DTSTART:20170312T070000
END:DAYLIGHT
BEGIN:STANDARD
TZOFFSETFROM:-0400
TZOFFSETTO:-0500
TZNAME:EST
DTSTART:20171105T060000
END:STANDARD
BEGIN:DAYLIGHT
TZOFFSETFROM:-0500
TZOFFSETTO:-0400
TZNAME:EDT
DTSTART:20180311T070000
END:DAYLIGHT
BEGIN:STANDARD
TZOFFSETFROM:-0400
TZOFFSETTO:-0500
TZNAME:EST
DTSTART:20181104T060000
END:STANDARD
BEGIN:DAYLIGHT
TZOFFSETFROM:-0500
TZOFFSETTO:-0400
TZNAME:EDT
DTSTART:20190310T070000
END:DAYLIGHT
BEGIN:STANDARD
TZOFFSETFROM:-0400
TZOFFSETTO:-0500
TZNAME:EST
DTSTART:20191103T060000
END:STANDARD
BEGIN:DAYLIGHT
TZOFFSETFROM:-0500
TZOFFSETTO:-0400
TZNAME:EDT
DTSTART:20200308T070000
END:DAYLIGHT
BEGIN:STANDARD
TZOFFSETFROM:-0400
TZOFFSETTO:-0500
TZNAME:EST
DTSTART:20201101T060000
END:STANDARD
BEGIN:DAYLIGHT
TZOFFSETFROM:-0500
TZOFFSETTO:-0400
TZNAME:EDT
DTSTART:20210314T070000
END:DAYLIGHT
BEGIN:STANDARD
TZOFFSETFROM:-0400
TZOFFSETTO:-0500
TZNAME:EST
DTSTART:20211107T060000
END:STANDARD
BEGIN:DAYLIGHT
TZOFFSETFROM:-0500
TZOFFSETTO:-0400
TZNAME:EDT
DTSTART:20220313T070000
END:DAYLIGHT
BEGIN:STANDARD
TZOFFSETFROM:-0400
TZOFFSETTO:-0500
TZNAME:EST
DTSTART:20221106T060000
END:STANDARD
BEGIN:DAYLIGHT
TZOFFSETFROM:-0500
TZOFFSETTO:-0400
TZNAME:EDT
DTSTART:20230312T070000
END:DAYLIGHT
BEGIN:STANDARD
TZOFFSETFROM:-0400
TZOFFSETTO:-0500
TZNAME:EST
DTSTART:20231105T060000
END:STANDARD
BEGIN:DAYLIGHT
TZOFFSETFROM:-0500
TZOFFSETTO:-0400
TZNAME:EDT
DTSTART:20240310T070000
END:DAYLIGHT
BEGIN:STANDARD
TZOFFSETFROM:-0400
TZOFFSETTO:-0500
TZNAME:EST
DTSTART:20241103T060000
END:STANDARD
BEGIN:DAYLIGHT
TZOFFSETFROM:-0500
TZOFFSETTO:-0400
TZNAME:EDT
DTSTART:20250309T070000
END:DAYLIGHT
BEGIN:STANDARD
TZOFFSETFROM:-0400
TZOFFSETTO:-0500
TZNAME:EST
DTSTART:20251102T060000
END:STANDARD
END:VTIMEZONE
BEGIN:VEVENT
DTSTART;VALUE=DATE:20241014
DTEND;VALUE=DATE:20241015
DTSTAMP:20260424T042215
CREATED:20240207T231908Z
LAST-MODIFIED:20240207T231908Z
UID:4371-1728864000-1728950399@produffersorlando.com
SUMMARY:Indigenous People's Day
DESCRIPTION:
URL:https://produffersorlando.com/event/indigenous-peoples-day/
CATEGORIES:Monday
END:VEVENT
BEGIN:VEVENT
DTSTART;VALUE=DATE:20240902
DTEND;VALUE=DATE:20240903
DTSTAMP:20260424T042215
CREATED:20240207T231734Z
LAST-MODIFIED:20240207T231734Z
UID:4369-1725235200-1725321599@produffersorlando.com
SUMMARY:Labor Day
DESCRIPTION:
URL:https://produffersorlando.com/event/labor-day-3/
CATEGORIES:Monday
END:VEVENT
BEGIN:VEVENT
DTSTART;VALUE=DATE:20240527
DTEND;VALUE=DATE:20240528
DTSTAMP:20260424T042215
CREATED:20240207T231202Z
LAST-MODIFIED:20240207T231202Z
UID:4359-1716768000-1716854399@produffersorlando.com
SUMMARY:Memorial Day
DESCRIPTION:
URL:https://produffersorlando.com/event/memorial-day-2/
CATEGORIES:Monday
END:VEVENT
BEGIN:VEVENT
DTSTART;TZID=America/New_York:20240401T080000
DTEND;TZID=America/New_York:20240401T170000
DTSTAMP:20260424T042215
CREATED:20240129T175014Z
LAST-MODIFIED:20240129T175014Z
UID:4327-1711958400-1711990800@produffersorlando.com
SUMMARY:April Fools Day
DESCRIPTION:
URL:https://produffersorlando.com/event/april-fools-day-2/
CATEGORIES:Monday
END:VEVENT
BEGIN:VEVENT
DTSTART;TZID=America/New_York:20220606T083000
DTEND;TZID=America/New_York:20220606T140000
DTSTAMP:20260424T042215
CREATED:20220501T001846Z
LAST-MODIFIED:20220531T135839Z
UID:3349-1654504200-1654524000@produffersorlando.com
SUMMARY:Golf at Heathrow (Possible Parking Lot Rehab)
DESCRIPTION:24 Player\nShotgun Start\nRange\nContact: David
URL:https://produffersorlando.com/event/golf-at-dubsdread-15/
LOCATION:Heathrow Country Club\, 1200 Bridgewater Drive\, Heathrow\, FL\, 32746\, United States
CATEGORIES:Monday
END:VEVENT
BEGIN:VEVENT
DTSTART;TZID=America/New_York:20180716T080000
DTEND;TZID=America/New_York:20180716T170000
DTSTAMP:20260424T042215
CREATED:20180623T045951Z
LAST-MODIFIED:20180623T045951Z
UID:1187-1531728000-1531760400@produffersorlando.com
SUMMARY:Golf at Heathrow
DESCRIPTION:28 Players\n(MONDAY) Shotgun Start\nRange\nContact: JP
URL:https://produffersorlando.com/event/golf-at-heathrow/
LOCATION:Heathrow Country Club\, 1200 Bridgewater Drive\, Heathrow\, FL\, 32746\, United States
CATEGORIES:Monday
END:VEVENT
BEGIN:VEVENT
DTSTART;VALUE=DATE:20170904
DTEND;VALUE=DATE:20170905
DTSTAMP:20260424T042215
CREATED:20170822T024942Z
LAST-MODIFIED:20170822T024942Z
UID:833-1504483200-1504569599@produffersorlando.com
SUMMARY:Labor Day
DESCRIPTION:
URL:https://produffersorlando.com/event/labor-day/
CATEGORIES:Monday
END:VEVENT
END:VCALENDAR