BEGIN:VCALENDAR
VERSION:2.0
PRODID:-//Pro-Duffers Orlando - ECPv6.15.20//NONSGML v1.0//EN
CALSCALE:GREGORIAN
METHOD:PUBLISH
X-ORIGINAL-URL:https://produffersorlando.com
X-WR-CALDESC:Events for Pro-Duffers Orlando
REFRESH-INTERVAL;VALUE=DURATION:PT1H
X-Robots-Tag:noindex
X-PUBLISHED-TTL:PT1H
BEGIN:VTIMEZONE
TZID:America/New_York
BEGIN:DAYLIGHT
TZOFFSETFROM:-0500
TZOFFSETTO:-0400
TZNAME:EDT
DTSTART:20160313T070000
END:DAYLIGHT
BEGIN:STANDARD
TZOFFSETFROM:-0400
TZOFFSETTO:-0500
TZNAME:EST
DTSTART:20161106T060000
END:STANDARD
BEGIN:DAYLIGHT
TZOFFSETFROM:-0500
TZOFFSETTO:-0400
TZNAME:EDT
DTSTART:20170312T070000
END:DAYLIGHT
BEGIN:STANDARD
TZOFFSETFROM:-0400
TZOFFSETTO:-0500
TZNAME:EST
DTSTART:20171105T060000
END:STANDARD
BEGIN:DAYLIGHT
TZOFFSETFROM:-0500
TZOFFSETTO:-0400
TZNAME:EDT
DTSTART:20180311T070000
END:DAYLIGHT
BEGIN:STANDARD
TZOFFSETFROM:-0400
TZOFFSETTO:-0500
TZNAME:EST
DTSTART:20181104T060000
END:STANDARD
BEGIN:DAYLIGHT
TZOFFSETFROM:-0500
TZOFFSETTO:-0400
TZNAME:EDT
DTSTART:20190310T070000
END:DAYLIGHT
BEGIN:STANDARD
TZOFFSETFROM:-0400
TZOFFSETTO:-0500
TZNAME:EST
DTSTART:20191103T060000
END:STANDARD
BEGIN:DAYLIGHT
TZOFFSETFROM:-0500
TZOFFSETTO:-0400
TZNAME:EDT
DTSTART:20200308T070000
END:DAYLIGHT
BEGIN:STANDARD
TZOFFSETFROM:-0400
TZOFFSETTO:-0500
TZNAME:EST
DTSTART:20201101T060000
END:STANDARD
END:VTIMEZONE
BEGIN:VEVENT
DTSTART;TZID=America/New_York:20190511T090000
DTEND;TZID=America/New_York:20190511T140000
DTSTAMP:20260424T084051
CREATED:20190502T165747Z
LAST-MODIFIED:20190502T165747Z
UID:1590-1557565200-1557583200@produffersorlando.com
SUMMARY:Golf at Northshore
DESCRIPTION:24 Players\nTee-Times
URL:https://produffersorlando.com/event/golf-at-northshore-6/
LOCATION:North Shore Golf Club\, 11507 N Shore Golf Club Blvd\, Orlando\, FL\, 32832\, United States
CATEGORIES:Saturday
END:VEVENT
BEGIN:VEVENT
DTSTART;TZID=America/New_York:20190504T070000
DTEND;TZID=America/New_York:20190504T150000
DTSTAMP:20260424T084051
CREATED:20190417T221207Z
LAST-MODIFIED:20190417T221207Z
UID:1505-1556953200-1556982000@produffersorlando.com
SUMMARY:PDO Foundation Charity Tournament at Champions Gate Country Club
DESCRIPTION:
URL:https://produffersorlando.com/event/pdo-foundation-charity-tournament-at-champions-gate-country-club/
LOCATION:Champions Gate Country Club\, 8950 Clifton Draw Drive\, Davenport\, FL\, 33896\, United States
CATEGORIES:Saturday
END:VEVENT
BEGIN:VEVENT
DTSTART;TZID=America/New_York:20190323T083000
DTEND;TZID=America/New_York:20190323T140000
DTSTAMP:20260424T084051
CREATED:20190302T234008Z
LAST-MODIFIED:20190302T234008Z
UID:1492-1553329800-1553349600@produffersorlando.com
SUMMARY:Golf at Eastwood
DESCRIPTION:12 Players\nContact: Max
URL:https://produffersorlando.com/event/golf-at-eastwood-7/
LOCATION:Eastwood Golf Club\, 13950 Golfway Blvd\, Orlando\, FL\, 32828\, United States
CATEGORIES:Saturday
END:VEVENT
BEGIN:VEVENT
DTSTART;TZID=America/New_York:20190316T083000
DTEND;TZID=America/New_York:20190316T140000
DTSTAMP:20260424T084051
CREATED:20190302T233811Z
LAST-MODIFIED:20190302T233811Z
UID:1490-1552725000-1552744800@produffersorlando.com
SUMMARY:Golf at Wekiva
DESCRIPTION:12 Players\nRange\nContact: Tony
URL:https://produffersorlando.com/event/golf-at-wekiva-3/
LOCATION:Wekiva Golf Club\, 4100 Wekiva Club Court\, Longwood\, FL\, 32779\, United States
CATEGORIES:Saturday
END:VEVENT
BEGIN:VEVENT
DTSTART;TZID=America/New_York:20190309T083000
DTEND;TZID=America/New_York:20190309T140000
DTSTAMP:20260424T084051
CREATED:20190227T215620Z
LAST-MODIFIED:20190227T215620Z
UID:1449-1552120200-1552140000@produffersorlando.com
SUMMARY:Golf at Metrowest
DESCRIPTION:12 Players\nContact: Jorge
URL:https://produffersorlando.com/event/golf-at-metrowest-9/
LOCATION:Metrowest Golf Club\, 2100 Hiawassee
CATEGORIES:Saturday
END:VEVENT
BEGIN:VEVENT
DTSTART;VALUE=DATE:20180505
DTEND;VALUE=DATE:20180506
DTSTAMP:20260424T084051
CREATED:20170820T230726Z
LAST-MODIFIED:20170906T231737Z
UID:831-1525478400-1525564799@produffersorlando.com
SUMMARY:PDO Foundation Annual Charity Golf Tournament
DESCRIPTION:
URL:https://produffersorlando.com/event/pdo-foundation-annual-charity-golf-tournament/
LOCATION:FL
CATEGORIES:Saturday
END:VEVENT
BEGIN:VEVENT
DTSTART;TZID=America/New_York:20171209T180000
DTEND;TZID=America/New_York:20171209T210000
DTSTAMP:20260424T084051
CREATED:20171104T051444Z
LAST-MODIFIED:20171104T051444Z
UID:960-1512842400-1512853200@produffersorlando.com
SUMMARY:Pro Duffers Orlando Gala
DESCRIPTION:3 IN 1 CAFE
URL:https://produffersorlando.com/event/pro-duffers-orlando-gala/
LOCATION:FL
CATEGORIES:Saturday
END:VEVENT
BEGIN:VEVENT
DTSTART;TZID=America/New_York:20170909T100000
DTEND;TZID=America/New_York:20170909T120000
DTSTAMP:20260424T084051
CREATED:20170811T070409Z
LAST-MODIFIED:20170912T065838Z
UID:742-1504951200-1504958400@produffersorlando.com
SUMMARY:Duffer Day (CANCELED)
DESCRIPTION:EVENT CANCELLED DUE TO HURRICANE IRMA \n10am to 12pm at \nNew Beginnings Church \n8287 Curry Ford Road \nOrlando\, Fl
URL:https://produffersorlando.com/event/__trashed-4__trashed/
LOCATION:FL
CATEGORIES:Saturday
END:VEVENT
BEGIN:VEVENT
DTSTART;VALUE=DATE:20170812
DTEND;VALUE=DATE:20170813
DTSTAMP:20260424T084051
CREATED:20170702T041158Z
LAST-MODIFIED:20170706T150423Z
UID:334-1502496000-1502582399@produffersorlando.com
SUMMARY:2017 Tee-Lo Golf Tournament
DESCRIPTION:For more information or if interested in entering this tournament\, please read the linked article about the tournament or feel free to contact us.
URL:https://produffersorlando.com/event/2017-tee-lo-golf-tournament/
LOCATION:Orange Lake Golf\, 8505 W Irlo Bronson Memorial Hwy\, Kissimmee\, FL\, 34747\, United States
CATEGORIES:Saturday
END:VEVENT
END:VCALENDAR