BEGIN:VCALENDAR
VERSION:2.0
PRODID:-//Pro-Duffers Orlando - ECPv6.15.20//NONSGML v1.0//EN
CALSCALE:GREGORIAN
METHOD:PUBLISH
X-ORIGINAL-URL:https://produffersorlando.com
X-WR-CALDESC:Events for Pro-Duffers Orlando
REFRESH-INTERVAL;VALUE=DURATION:PT1H
X-Robots-Tag:noindex
X-PUBLISHED-TTL:PT1H
BEGIN:VTIMEZONE
TZID:America/New_York
BEGIN:DAYLIGHT
TZOFFSETFROM:-0500
TZOFFSETTO:-0400
TZNAME:EDT
DTSTART:20230312T070000
END:DAYLIGHT
BEGIN:STANDARD
TZOFFSETFROM:-0400
TZOFFSETTO:-0500
TZNAME:EST
DTSTART:20231105T060000
END:STANDARD
BEGIN:DAYLIGHT
TZOFFSETFROM:-0500
TZOFFSETTO:-0400
TZNAME:EDT
DTSTART:20240310T070000
END:DAYLIGHT
BEGIN:STANDARD
TZOFFSETFROM:-0400
TZOFFSETTO:-0500
TZNAME:EST
DTSTART:20241103T060000
END:STANDARD
BEGIN:DAYLIGHT
TZOFFSETFROM:-0500
TZOFFSETTO:-0400
TZNAME:EDT
DTSTART:20250309T070000
END:DAYLIGHT
BEGIN:STANDARD
TZOFFSETFROM:-0400
TZOFFSETTO:-0500
TZNAME:EST
DTSTART:20251102T060000
END:STANDARD
END:VTIMEZONE
BEGIN:VEVENT
DTSTART;TZID=America/New_York:20240509T083000
DTEND;TZID=America/New_York:20240509T140000
DTSTAMP:20260424T165445
CREATED:20240430T233415Z
LAST-MODIFIED:20240430T233415Z
UID:4526-1715243400-1715263200@produffersorlando.com
SUMMARY:Golf at MetroWest
DESCRIPTION:24 Players\nShotgun Start\nContact: Matt
URL:https://produffersorlando.com/event/golf-at-metrowest-19/
LOCATION:Metrowest Golf Club\, 2100 Hiawassee
CATEGORIES:Thursday
END:VEVENT
BEGIN:VEVENT
DTSTART;TZID=America/New_York:20240516T080000
DTEND;TZID=America/New_York:20240516T170000
DTSTAMP:20260424T165445
CREATED:20240502T165739Z
LAST-MODIFIED:20240502T165739Z
UID:4532-1715846400-1715878800@produffersorlando.com
SUMMARY:Golf at Highland Reserve
DESCRIPTION:24 Players\nTee-Times\nContact: Donnie
URL:https://produffersorlando.com/event/golf-at-highland-reserve-21/
LOCATION:Highland Reserve Golf Club\, 500 Highlands Reserve Blvd\, Davenport\, FL\, 33897\, United States
CATEGORIES:Thursday
END:VEVENT
BEGIN:VEVENT
DTSTART;TZID=America/New_York:20240523T083000
DTEND;TZID=America/New_York:20240523T140000
DTSTAMP:20260424T165445
CREATED:20240306T202147Z
LAST-MODIFIED:20240306T202147Z
UID:4498-1716453000-1716472800@produffersorlando.com
SUMMARY:Golf at Providence
DESCRIPTION:24 Players\nShotgun Start
URL:https://produffersorlando.com/event/golf-at-providence-7/
LOCATION:Providence Golf Club\, 1518 Clubhouse Blvd\, Davenport\, FL\, 33837\, United States
CATEGORIES:Thursday
END:VEVENT
BEGIN:VEVENT
DTSTART;TZID=America/New_York:20240530T083000
DTEND;TZID=America/New_York:20240530T140000
DTSTAMP:20260424T165445
CREATED:20240516T125920Z
LAST-MODIFIED:20240516T125920Z
UID:4550-1717057800-1717077600@produffersorlando.com
SUMMARY:Golf at Forest Lake
DESCRIPTION:24 Players\nShotgun Start\nContact: John
URL:https://produffersorlando.com/event/golf-at-forest-lake-28/
LOCATION:Forest Lake Golf Club\, 10521 Clarcona Ocoee Rd\, Apopka\, FL\, 32703\, United States
CATEGORIES:Thursday
END:VEVENT
END:VCALENDAR