BEGIN:VCALENDAR
VERSION:2.0
PRODID:-//Pro-Duffers Orlando - ECPv6.15.20//NONSGML v1.0//EN
CALSCALE:GREGORIAN
METHOD:PUBLISH
X-ORIGINAL-URL:https://produffersorlando.com
X-WR-CALDESC:Events for Pro-Duffers Orlando
REFRESH-INTERVAL;VALUE=DURATION:PT1H
X-Robots-Tag:noindex
X-PUBLISHED-TTL:PT1H
BEGIN:VTIMEZONE
TZID:America/New_York
BEGIN:DAYLIGHT
TZOFFSETFROM:-0500
TZOFFSETTO:-0400
TZNAME:EDT
DTSTART:20230312T070000
END:DAYLIGHT
BEGIN:STANDARD
TZOFFSETFROM:-0400
TZOFFSETTO:-0500
TZNAME:EST
DTSTART:20231105T060000
END:STANDARD
BEGIN:DAYLIGHT
TZOFFSETFROM:-0500
TZOFFSETTO:-0400
TZNAME:EDT
DTSTART:20240310T070000
END:DAYLIGHT
BEGIN:STANDARD
TZOFFSETFROM:-0400
TZOFFSETTO:-0500
TZNAME:EST
DTSTART:20241103T060000
END:STANDARD
BEGIN:DAYLIGHT
TZOFFSETFROM:-0500
TZOFFSETTO:-0400
TZNAME:EDT
DTSTART:20250309T070000
END:DAYLIGHT
BEGIN:STANDARD
TZOFFSETFROM:-0400
TZOFFSETTO:-0500
TZNAME:EST
DTSTART:20251102T060000
END:STANDARD
END:VTIMEZONE
BEGIN:VEVENT
DTSTART;TZID=America/New_York:20240905T084000
DTEND;TZID=America/New_York:20240905T140000
DTSTAMP:20260424T113543
CREATED:20231224T011614Z
LAST-MODIFIED:20240829T174648Z
UID:4285-1725525600-1725544800@produffersorlando.com
SUMMARY:Reunion (Palmer)
DESCRIPTION:24 Players\nTee-times\nRange\nContact: Mack Johnson
URL:https://produffersorlando.com/event/remington-7/
LOCATION:Reunion Resort Golf Course\, 7593 Grathing Dr\, Kissimmee\, FL\, 34747\, United States
CATEGORIES:Thursday
END:VEVENT
BEGIN:VEVENT
DTSTART;TZID=America/New_York:20240912T083000
DTEND;TZID=America/New_York:20240912T140000
DTSTAMP:20260424T113543
CREATED:20240807T055546Z
LAST-MODIFIED:20240807T055546Z
UID:4668-1726129800-1726149600@produffersorlando.com
SUMMARY:Golf at Forest Lake (PDO Club Championship Day 2)
DESCRIPTION:30 Players\nShotgun Start\nContact: John V.
URL:https://produffersorlando.com/event/golf-at-forest-lake-pdo-club-championship-day-2/
LOCATION:Forest Lake Golf Club\, 10521 Clarcona Ocoee Rd\, Apopka\, FL\, 32703\, United States
CATEGORIES:Thursday
END:VEVENT
BEGIN:VEVENT
DTSTART;TZID=America/New_York:20240919T083000
DTEND;TZID=America/New_York:20240919T140000
DTSTAMP:20260424T113543
CREATED:20240807T060047Z
LAST-MODIFIED:20240807T060047Z
UID:4673-1726734600-1726754400@produffersorlando.com
SUMMARY:Golf at Rio Pinar (PDO Club Championship Day 4)
DESCRIPTION:30 Players Shotgun Start\nRange\nContact: Tom J.
URL:https://produffersorlando.com/event/golf-at-rio-pinar-pdo-club-championship-day-4/
LOCATION:Rio Pinar Country Club\, 8600 El Prado Ave\, Orlando\, FL\, 32825\, United States
CATEGORIES:Thursday
END:VEVENT
BEGIN:VEVENT
DTSTART;TZID=America/New_York:20240926T083000
DTEND;TZID=America/New_York:20240926T140000
DTSTAMP:20260424T113543
CREATED:20240731T163523Z
LAST-MODIFIED:20240731T163523Z
UID:4655-1727339400-1727359200@produffersorlando.com
SUMMARY:Golf at Orange Lake (Reserve)
DESCRIPTION:24 Players\nShotgun Start\nRange\nContact: Anthony
URL:https://produffersorlando.com/event/golf-at-orange-lake-reserve-7/
LOCATION:Orange Lake Golf\, 8505 W Irlo Bronson Memorial Hwy\, Kissimmee\, FL\, 34747\, United States
CATEGORIES:Thursday
END:VEVENT
END:VCALENDAR