BEGIN:VCALENDAR
VERSION:2.0
PRODID:-//Pro-Duffers Orlando - ECPv6.15.20//NONSGML v1.0//EN
CALSCALE:GREGORIAN
METHOD:PUBLISH
X-ORIGINAL-URL:https://produffersorlando.com
X-WR-CALDESC:Events for Pro-Duffers Orlando
REFRESH-INTERVAL;VALUE=DURATION:PT1H
X-Robots-Tag:noindex
X-PUBLISHED-TTL:PT1H
BEGIN:VTIMEZONE
TZID:America/New_York
BEGIN:DAYLIGHT
TZOFFSETFROM:-0500
TZOFFSETTO:-0400
TZNAME:EDT
DTSTART:20200308T070000
END:DAYLIGHT
BEGIN:STANDARD
TZOFFSETFROM:-0400
TZOFFSETTO:-0500
TZNAME:EST
DTSTART:20201101T060000
END:STANDARD
BEGIN:DAYLIGHT
TZOFFSETFROM:-0500
TZOFFSETTO:-0400
TZNAME:EDT
DTSTART:20210314T070000
END:DAYLIGHT
BEGIN:STANDARD
TZOFFSETFROM:-0400
TZOFFSETTO:-0500
TZNAME:EST
DTSTART:20211107T060000
END:STANDARD
BEGIN:DAYLIGHT
TZOFFSETFROM:-0500
TZOFFSETTO:-0400
TZNAME:EDT
DTSTART:20220313T070000
END:DAYLIGHT
BEGIN:STANDARD
TZOFFSETFROM:-0400
TZOFFSETTO:-0500
TZNAME:EST
DTSTART:20221106T060000
END:STANDARD
END:VTIMEZONE
BEGIN:VEVENT
DTSTART;TZID=America/New_York:20211230T080000
DTEND;TZID=America/New_York:20211230T170000
DTSTAMP:20260424T094926
CREATED:20211201T173358Z
LAST-MODIFIED:20211201T173358Z
UID:3167-1640851200-1640883600@produffersorlando.com
SUMMARY:Golf at Stoneybrook East
DESCRIPTION:24 Players\nTee-Times\nContact: Mike
URL:https://produffersorlando.com/event/golf-at-stoneybrook-east-6/
LOCATION:Stoneybrook East Golf Club\, 2900 Northampton Ave\, Orlando\, FL\, 32828\, United States
CATEGORIES:Thursday
END:VEVENT
BEGIN:VEVENT
DTSTART;TZID=America/New_York:20211223T083000
DTEND;TZID=America/New_York:20211223T140000
DTSTAMP:20260424T094926
CREATED:20211201T172926Z
LAST-MODIFIED:20211201T172926Z
UID:3163-1640248200-1640268000@produffersorlando.com
SUMMARY:Golf at Zellwood
DESCRIPTION:24 Players\nShotgun Start\nContact: Jay
URL:https://produffersorlando.com/event/golf-at-zellwood-3/
LOCATION:Zellwood Station Golf Club\, 2126 Spillman Drive\, Zellwood\, FL\, 32798\, United States
CATEGORIES:Thursday
END:VEVENT
BEGIN:VEVENT
DTSTART;TZID=America/New_York:20211216T090000
DTEND;TZID=America/New_York:20211216T140000
DTSTAMP:20260424T094926
CREATED:20211201T172109Z
LAST-MODIFIED:20211201T172109Z
UID:3158-1639645200-1639663200@produffersorlando.com
SUMMARY:Golf at Sweetwater
DESCRIPTION:28 Players\nShotgun Start\nContact: Lee Mann
URL:https://produffersorlando.com/event/golf-at-sweetwater/
LOCATION:Sweetwater\, 2700 Sweetwater Country Club Drive\, Apopka\, FL\, 32712\, United States
CATEGORIES:Thursday
END:VEVENT
BEGIN:VEVENT
DTSTART;TZID=America/New_York:20211209T083000
DTEND;TZID=America/New_York:20211209T140000
DTSTAMP:20260424T094926
CREATED:20211201T170620Z
LAST-MODIFIED:20211201T170620Z
UID:3154-1639038600-1639058400@produffersorlando.com
SUMMARY:Golf at Ventura
DESCRIPTION:24 Players\nShotgun Start\nContact : Chuck
URL:https://produffersorlando.com/event/golf-at-ventura-10/
LOCATION:Ventura Country Club\, 3333 Woodgate Blvd\, Orlando\, FL\, 32822\, United States
CATEGORIES:Thursday
END:VEVENT
BEGIN:VEVENT
DTSTART;TZID=America/New_York:20211202T083000
DTEND;TZID=America/New_York:20211202T170000
DTSTAMP:20260424T094926
CREATED:20211125T115531Z
LAST-MODIFIED:20211125T115531Z
UID:3144-1638433800-1638464400@produffersorlando.com
SUMMARY:Golf at Winter Pines
DESCRIPTION:24 Players\nShotgun Start\nRange Contact: Steve
URL:https://produffersorlando.com/event/golf-at-winter-pines-2/
LOCATION:Winter Pines\, 950 Ranger Blvd\, Winter Park\, FL\, 32792\, United States
CATEGORIES:Thursday
END:VEVENT
BEGIN:VEVENT
DTSTART;VALUE=DATE:20211125
DTEND;VALUE=DATE:20211126
DTSTAMP:20260424T094926
CREATED:20210823T215812Z
LAST-MODIFIED:20210823T215812Z
UID:3075-1637798400-1637884799@produffersorlando.com
SUMMARY:THANKSGIVING DAY
DESCRIPTION:
URL:https://produffersorlando.com/event/thanksgiving-day-6/
LOCATION:FL
CATEGORIES:Thursday
END:VEVENT
BEGIN:VEVENT
DTSTART;TZID=America/New_York:20211118T083000
DTEND;TZID=America/New_York:20211118T140000
DTSTAMP:20260424T094926
CREATED:20211102T094542Z
LAST-MODIFIED:20211102T094542Z
UID:3131-1637224200-1637244000@produffersorlando.com
SUMMARY:Golf at St. Cloud
DESCRIPTION:24 Players\nTee-Times\nContact: Doug
URL:https://produffersorlando.com/event/golf-at-st-cloud-6/
LOCATION:St Cloud\, 5310 Michigan Ave\, Saint Cloud\, FL\, 34772\, United States
CATEGORIES:Thursday
END:VEVENT
BEGIN:VEVENT
DTSTART;TZID=America/New_York:20211111T080000
DTEND;TZID=America/New_York:20211111T140000
DTSTAMP:20260424T094926
CREATED:20211102T094224Z
LAST-MODIFIED:20211102T094224Z
UID:3128-1636617600-1636639200@produffersorlando.com
SUMMARY:Golf at Highland Reserve
DESCRIPTION:24 Players\nShotgun Start\nHot Dog Included\nContact: Joanna
URL:https://produffersorlando.com/event/golf-at-highland-reserve-13/
LOCATION:Highland Reserve Golf Club\, 500 Highlands Reserve Blvd\, Davenport\, FL\, 33897\, United States
CATEGORIES:Thursday
END:VEVENT
BEGIN:VEVENT
DTSTART;TZID=America/New_York:20211104T083000
DTEND;TZID=America/New_York:20211104T140000
DTSTAMP:20260424T094926
CREATED:20211014T015009Z
LAST-MODIFIED:20211014T015009Z
UID:3114-1636014600-1636034400@produffersorlando.com
SUMMARY:Golf at Ventura
DESCRIPTION:24 Players\nShotgun Start\nContact: Josh
URL:https://produffersorlando.com/event/golf-at-ventura-9/
LOCATION:Ventura Country Club\, 3333 Woodgate Blvd\, Orlando\, FL\, 32822\, United States
CATEGORIES:Thursday
END:VEVENT
BEGIN:VEVENT
DTSTART;TZID=America/New_York:20211021T080000
DTEND;TZID=America/New_York:20211021T170000
DTSTAMP:20260424T094926
CREATED:20210823T170826Z
LAST-MODIFIED:20210823T170826Z
UID:3063-1634803200-1634835600@produffersorlando.com
SUMMARY:Golf at Eagle Creek PDO Club Championship Day 4
DESCRIPTION:32 Players\nShotgun Start\nRange\nContact: Mike
URL:https://produffersorlando.com/event/golf-at-eagle-creek-pdo-club-championship-day-4/
LOCATION:Eagle Creek Golf Club\, 10350 Emerson Lake Blvd\, Orlando\, FL\, 32832\, United States
CATEGORIES:Thursday
END:VEVENT
BEGIN:VEVENT
DTSTART;TZID=America/New_York:20211014T083000
DTEND;TZID=America/New_York:20211014T140000
DTSTAMP:20260424T094926
CREATED:20210823T170233Z
LAST-MODIFIED:20210823T170233Z
UID:3059-1634200200-1634220000@produffersorlando.com
SUMMARY:Golf at Rio Pinar PDO Club Championship Day 2
DESCRIPTION:32 Players\nShotgun Start\nRange\nContact: Tom
URL:https://produffersorlando.com/event/golf-at-rio-pinar-pdo-club-championship-day-2/
LOCATION:Rio Pinar Country Club\, 8600 El Prado Ave\, Orlando\, FL\, 32825\, United States
CATEGORIES:Thursday
END:VEVENT
BEGIN:VEVENT
DTSTART;TZID=America/New_York:20211007T083000
DTEND;TZID=America/New_York:20211007T140000
DTSTAMP:20260424T094926
CREATED:20210823T165020Z
LAST-MODIFIED:20210823T165020Z
UID:3055-1633595400-1633615200@produffersorlando.com
SUMMARY:Golf at Harmony
DESCRIPTION:24 Players\nT-Times\nContact: John
URL:https://produffersorlando.com/event/golf-at-harmony-6/
LOCATION:Harmony Golf Preserve\, 7252 5 Oaks Drive\, Saint Cloud\, FL\, 34773\, United States
CATEGORIES:Thursday
END:VEVENT
BEGIN:VEVENT
DTSTART;TZID=America/New_York:20210930T083000
DTEND;TZID=America/New_York:20210930T140000
DTSTAMP:20260424T094926
CREATED:20210727T014951Z
LAST-MODIFIED:20210727T014951Z
UID:3032-1632990600-1633010400@produffersorlando.com
SUMMARY:Golf at Orange County National C.C.
DESCRIPTION:24 Players\nShotgun Start\nRange\nContact: Ray
URL:https://produffersorlando.com/event/golf-at-orange-county-national-c-c/
LOCATION:Orange County National Golf Center\, 16301 Phil Ritson Way\, Winter Garden\, FL\, 34787\, United States
CATEGORIES:Thursday
END:VEVENT
BEGIN:VEVENT
DTSTART;TZID=America/New_York:20210923T083000
DTEND;TZID=America/New_York:20210923T140000
DTSTAMP:20260424T094926
CREATED:20210823T215100Z
LAST-MODIFIED:20210823T215100Z
UID:3069-1632385800-1632405600@produffersorlando.com
SUMMARY:Golf at Forest Lake
DESCRIPTION:28 Players\nShotgun Start\nContact: John
URL:https://produffersorlando.com/event/golf-at-forest-lake-19/
LOCATION:Forest Lake Golf Club\, 10521 Clarcona Ocoee Rd\, Apopka\, FL\, 32703\, United States
CATEGORIES:Thursday
END:VEVENT
BEGIN:VEVENT
DTSTART;TZID=America/New_York:20210916T080000
DTEND;TZID=America/New_York:20210916T140000
DTSTAMP:20260424T094926
CREATED:20210727T013443Z
LAST-MODIFIED:20210727T013443Z
UID:3026-1631779200-1631800800@produffersorlando.com
SUMMARY:Golf at Hawks Landing
DESCRIPTION:28 Players\nShotgun Start\nRange\nContact: Augie
URL:https://produffersorlando.com/event/golf-at-hawks-landing-7/
LOCATION:Hawk’s Landing Golf Club at the Orlando World Center Marriott\, 8701 World Center Drive\, Orlando\, FL\, 32821\, United States
CATEGORIES:Thursday
END:VEVENT
BEGIN:VEVENT
DTSTART;TZID=America/New_York:20210909T080000
DTEND;TZID=America/New_York:20210909T140000
DTSTAMP:20260424T094926
CREATED:20210701T024716Z
LAST-MODIFIED:20210727T012534Z
UID:2993-1631174400-1631196000@produffersorlando.com
SUMMARY:Golf at Reunion Nicklaus
DESCRIPTION:28 Players\nShotgun Start\nRange\nContact: Mack
URL:https://produffersorlando.com/event/golf-at-mission-inn-los-colinas-6/
LOCATION:Reunion Resort Golf Course\, 7593 Grathing Dr\, Kissimmee\, FL\, 34747\, United States
CATEGORIES:Thursday
END:VEVENT
BEGIN:VEVENT
DTSTART;TZID=America/New_York:20210826T083000
DTEND;TZID=America/New_York:20210826T140000
DTSTAMP:20260424T094926
CREATED:20210727T005836Z
LAST-MODIFIED:20210826T114323Z
UID:3012-1629966600-1629986400@produffersorlando.com
SUMMARY:Golf at Redtail (CANCELED DUE TO WEATHER)
DESCRIPTION:24 Players\nShotgun Start\nContact: Christian
URL:https://produffersorlando.com/event/golf-at-redtail-11/
LOCATION:Redtail Golf Club\, 21600 Covered Bridge Lane\, Sorrento\, FL\, 32776\, United States
CATEGORIES:Thursday
END:VEVENT
BEGIN:VEVENT
DTSTART;TZID=America/New_York:20210819T083000
DTEND;TZID=America/New_York:20210819T140000
DTSTAMP:20260424T094926
CREATED:20210727T005238Z
LAST-MODIFIED:20210727T005238Z
UID:3008-1629361800-1629381600@produffersorlando.com
SUMMARY:Golf at Disney Palm
DESCRIPTION:24 Players\nTee-Times\nRange\nContact:Zack
URL:https://produffersorlando.com/event/golf-at-disney-palm-4/
LOCATION:Disney’s Palm Golf Course\, 1950 Magnolia Palm Drive\, Orlando\, FL\, 32830\, United States
CATEGORIES:Thursday
END:VEVENT
BEGIN:VEVENT
DTSTART;TZID=America/New_York:20210812T083000
DTEND;TZID=America/New_York:20210812T140000
DTSTAMP:20260424T094926
CREATED:20210727T004653Z
LAST-MODIFIED:20210727T004653Z
UID:3004-1628757000-1628776800@produffersorlando.com
SUMMARY:Golf at Celebration
DESCRIPTION:24 players\nTee-Time Start\nLunch Included\nContact:
URL:https://produffersorlando.com/event/golf-at-celebration-11/
LOCATION:Celebration Golf Club\, 701 GolfparkDrive\, Kissimmee\, FL\, 34747\, United States
CATEGORIES:Thursday
END:VEVENT
BEGIN:VEVENT
DTSTART;TZID=America/New_York:20210729T083000
DTEND;TZID=America/New_York:20210729T140000
DTSTAMP:20260424T094926
CREATED:20210701T023925Z
LAST-MODIFIED:20210701T023925Z
UID:2991-1627547400-1627567200@produffersorlando.com
SUMMARY:Golf at Reunion (Watson)
DESCRIPTION:28 Players\nTee-Times\nRange\nContact: Mack Johnson
URL:https://produffersorlando.com/event/golf-at-reunion-watson/
LOCATION:Reunion Resort Golf Course\, 7593 Grathing Dr\, Kissimmee\, FL\, 34747\, United States
CATEGORIES:Thursday
END:VEVENT
BEGIN:VEVENT
DTSTART;TZID=America/New_York:20210722T083000
DTEND;TZID=America/New_York:20210722T140000
DTSTAMP:20260424T094926
CREATED:20210509T211100Z
LAST-MODIFIED:20210509T211100Z
UID:2955-1626942600-1626962400@produffersorlando.com
SUMMARY:Golf at ChampionsGate National
DESCRIPTION:24 Players\nShotgun Start\nRange\nContact: Tony
URL:https://produffersorlando.com/event/golf-at-championsgate-national/
LOCATION:Champions Gate Golf Club\, 8575 White Shark Blvd\, Davenport\, FL\, 33896\, United States
CATEGORIES:Thursday
END:VEVENT
BEGIN:VEVENT
DTSTART;TZID=America/New_York:20210715T080000
DTEND;TZID=America/New_York:20210715T143000
DTSTAMP:20260424T094926
CREATED:20210501T120034Z
LAST-MODIFIED:20210501T120034Z
UID:2915-1626336000-1626359400@produffersorlando.com
SUMMARY:Golf at Orange County National Crooked Cat
DESCRIPTION:24 Players\nShotgun Start\nRange\nSCF\nContact: Ray
URL:https://produffersorlando.com/event/golf-at-orange-county-national-crooked-cat-2/
LOCATION:Orange County National Golf Center\, 16301 Phil Ritson Way\, Winter Garden\, FL\, 34787\, United States
CATEGORIES:Thursday
END:VEVENT
BEGIN:VEVENT
DTSTART;TZID=America/New_York:20210708T080000
DTEND;TZID=America/New_York:20210708T170000
DTSTAMP:20260424T094926
CREATED:20210509T205433Z
LAST-MODIFIED:20210509T205433Z
UID:2950-1625731200-1625763600@produffersorlando.com
SUMMARY:Golf at Hawks Landing
DESCRIPTION:28 Players\nShotgun Start\nRange\nContact: Augie
URL:https://produffersorlando.com/event/golf-at-hawks-landing-5/
LOCATION:Hawk’s Landing Golf Club at the Orlando World Center Marriott\, 8701 World Center Drive\, Orlando\, FL\, 32821\, United States
CATEGORIES:Thursday
END:VEVENT
BEGIN:VEVENT
DTSTART;TZID=America/New_York:20210701T084800
DTEND;TZID=America/New_York:20210701T140000
DTSTAMP:20260424T094926
CREATED:20210615T133915Z
LAST-MODIFIED:20210615T133915Z
UID:2980-1625129280-1625148000@produffersorlando.com
SUMMARY:Golf at Southern Dunes (PDO Club Outing)
DESCRIPTION:24 Players\nTee-Times\nRange\nSCF $10.00\nContact: Kevin
URL:https://produffersorlando.com/event/golf-at-southern-dunes-pdo-club-outing/
LOCATION:Southern Dunes Golf and Country Club\, 2888 Southern Dunes Blvd\, Haines City\, FL\, 33844\, United States
CATEGORIES:Thursday
END:VEVENT
BEGIN:VEVENT
DTSTART;TZID=America/New_York:20210624T083000
DTEND;TZID=America/New_York:20210624T140000
DTSTAMP:20260424T094926
CREATED:20210424T122304Z
LAST-MODIFIED:20210424T122304Z
UID:2903-1624523400-1624543200@produffersorlando.com
SUMMARY:Golf at Shingle Creek
DESCRIPTION:28 Players\nShotgun Start\nRange\nS.C.F. Unknown\nContact: Cory
URL:https://produffersorlando.com/event/golf-at-shingle-creek-10/
LOCATION:Shingle Creek Golf Club\, 9939 Universal Boulevard\, Orlando\, FL\, 32819\, United States
CATEGORIES:Thursday
END:VEVENT
BEGIN:VEVENT
DTSTART;TZID=America/New_York:20210617T083000
DTEND;TZID=America/New_York:20210617T140000
DTSTAMP:20260424T094926
CREATED:20210424T121023Z
LAST-MODIFIED:20210424T121023Z
UID:2898-1623918600-1623938400@produffersorlando.com
SUMMARY:Golf at Orange Lake Legends
DESCRIPTION:24 Players\nShotgun Start\nRange\nS.C.F.\nContact: Jeff
URL:https://produffersorlando.com/event/golf-at-orange-lake-legends-2/
LOCATION:Orange Lake Golf\, 8505 W Irlo Bronson Memorial Hwy\, Kissimmee\, FL\, 34747\, United States
CATEGORIES:Thursday
END:VEVENT
BEGIN:VEVENT
DTSTART;TZID=America/New_York:20210610T080000
DTEND;TZID=America/New_York:20210610T140000
DTSTAMP:20260424T094926
CREATED:20210424T072217Z
LAST-MODIFIED:20210424T072217Z
UID:2894-1623312000-1623333600@produffersorlando.com
SUMMARY:Golf at Reunion Nicklaus
DESCRIPTION:28 Players\nTee-Times\nRange\nS.C.F. Unknown\nContact Mack
URL:https://produffersorlando.com/event/golf-at-reunion-nicklaus-5/
LOCATION:Reunion Resort Golf Course\, 7593 Grathing Dr\, Kissimmee\, FL\, 34747\, United States
CATEGORIES:Thursday
END:VEVENT
BEGIN:VEVENT
DTSTART;TZID=America/New_York:20210527T083000
DTEND;TZID=America/New_York:20210527T140000
DTSTAMP:20260424T094926
CREATED:20210320T193248Z
LAST-MODIFIED:20210320T193248Z
UID:2839-1622104200-1622124000@produffersorlando.com
SUMMARY:Golf at Providence
DESCRIPTION:28 Players\nTee-Times\nS.C.F. $10.00\nContact: Matt
URL:https://produffersorlando.com/event/golf-at-providence-5/
LOCATION:Providence Golf Club\, 1518 Clubhouse Blvd\, Davenport\, FL\, 33837\, United States
CATEGORIES:Thursday
END:VEVENT
BEGIN:VEVENT
DTSTART;TZID=America/New_York:20210520T083000
DTEND;TZID=America/New_York:20210520T140000
DTSTAMP:20260424T094926
CREATED:20210320T191658Z
LAST-MODIFIED:20210320T192108Z
UID:2834-1621499400-1621519200@produffersorlando.com
SUMMARY:Golf at Remington
DESCRIPTION:24 Players\nShotgun Start\nS.C.F. $5.00\nContact: Austin
URL:https://produffersorlando.com/event/golf-at-remington-12/
LOCATION:Remington Golf Club\, 2995 Remingtong Blvd\, Kissimmee\, FL\, 34774\, United States
CATEGORIES:Thursday
END:VEVENT
BEGIN:VEVENT
DTSTART;TZID=America/New_York:20210513T083000
DTEND;TZID=America/New_York:20210513T140000
DTSTAMP:20260424T094926
CREATED:20210415T234838Z
LAST-MODIFIED:20210415T235042Z
UID:2882-1620894600-1620914400@produffersorlando.com
SUMMARY:Golf at Orange Lake/Reserve
DESCRIPTION:24 Players\nShotgun Start\n(1A/B\,18A/B\,17A/B)\nRange\nContact: Jimmy
URL:https://produffersorlando.com/event/golf-at-orange-lake-reserve-3/
LOCATION:Orange Lake Golf\, 8505 W Irlo Bronson Memorial Hwy\, Kissimmee\, FL\, 34747\, United States
CATEGORIES:Thursday
END:VEVENT
END:VCALENDAR