BEGIN:VCALENDAR
VERSION:2.0
PRODID:-//Pro-Duffers Orlando - ECPv6.15.20//NONSGML v1.0//EN
CALSCALE:GREGORIAN
METHOD:PUBLISH
X-WR-CALNAME:Pro-Duffers Orlando
X-ORIGINAL-URL:https://produffersorlando.com
X-WR-CALDESC:Events for Pro-Duffers Orlando
REFRESH-INTERVAL;VALUE=DURATION:PT1H
X-Robots-Tag:noindex
X-PUBLISHED-TTL:PT1H
BEGIN:VTIMEZONE
TZID:America/New_York
BEGIN:DAYLIGHT
TZOFFSETFROM:-0500
TZOFFSETTO:-0400
TZNAME:EDT
DTSTART:20200308T070000
END:DAYLIGHT
BEGIN:STANDARD
TZOFFSETFROM:-0400
TZOFFSETTO:-0500
TZNAME:EST
DTSTART:20201101T060000
END:STANDARD
BEGIN:DAYLIGHT
TZOFFSETFROM:-0500
TZOFFSETTO:-0400
TZNAME:EDT
DTSTART:20210314T070000
END:DAYLIGHT
BEGIN:STANDARD
TZOFFSETFROM:-0400
TZOFFSETTO:-0500
TZNAME:EST
DTSTART:20211107T060000
END:STANDARD
BEGIN:DAYLIGHT
TZOFFSETFROM:-0500
TZOFFSETTO:-0400
TZNAME:EDT
DTSTART:20220313T070000
END:DAYLIGHT
BEGIN:STANDARD
TZOFFSETFROM:-0400
TZOFFSETTO:-0500
TZNAME:EST
DTSTART:20221106T060000
END:STANDARD
END:VTIMEZONE
BEGIN:VEVENT
DTSTART;TZID=America/New_York:20210722T083000
DTEND;TZID=America/New_York:20210722T140000
DTSTAMP:20260424T123207
CREATED:20210509T211100Z
LAST-MODIFIED:20210509T211100Z
UID:2955-1626942600-1626962400@produffersorlando.com
SUMMARY:Golf at ChampionsGate National
DESCRIPTION:24 Players\nShotgun Start\nRange\nContact: Tony
URL:https://produffersorlando.com/event/golf-at-championsgate-national/
LOCATION:Champions Gate Golf Club\, 8575 White Shark Blvd\, Davenport\, FL\, 33896\, United States
CATEGORIES:Thursday
END:VEVENT
BEGIN:VEVENT
DTSTART;TZID=America/New_York:20210715T080000
DTEND;TZID=America/New_York:20210715T143000
DTSTAMP:20260424T123207
CREATED:20210501T120034Z
LAST-MODIFIED:20210501T120034Z
UID:2915-1626336000-1626359400@produffersorlando.com
SUMMARY:Golf at Orange County National Crooked Cat
DESCRIPTION:24 Players\nShotgun Start\nRange\nSCF\nContact: Ray
URL:https://produffersorlando.com/event/golf-at-orange-county-national-crooked-cat-2/
LOCATION:Orange County National Golf Center\, 16301 Phil Ritson Way\, Winter Garden\, FL\, 34787\, United States
CATEGORIES:Thursday
END:VEVENT
BEGIN:VEVENT
DTSTART;TZID=America/New_York:20210708T080000
DTEND;TZID=America/New_York:20210708T170000
DTSTAMP:20260424T123207
CREATED:20210509T205433Z
LAST-MODIFIED:20210509T205433Z
UID:2950-1625731200-1625763600@produffersorlando.com
SUMMARY:Golf at Hawks Landing
DESCRIPTION:28 Players\nShotgun Start\nRange\nContact: Augie
URL:https://produffersorlando.com/event/golf-at-hawks-landing-5/
LOCATION:Hawk’s Landing Golf Club at the Orlando World Center Marriott\, 8701 World Center Drive\, Orlando\, FL\, 32821\, United States
CATEGORIES:Thursday
END:VEVENT
BEGIN:VEVENT
DTSTART;TZID=America/New_York:20210701T084800
DTEND;TZID=America/New_York:20210701T140000
DTSTAMP:20260424T123207
CREATED:20210615T133915Z
LAST-MODIFIED:20210615T133915Z
UID:2980-1625129280-1625148000@produffersorlando.com
SUMMARY:Golf at Southern Dunes (PDO Club Outing)
DESCRIPTION:24 Players\nTee-Times\nRange\nSCF $10.00\nContact: Kevin
URL:https://produffersorlando.com/event/golf-at-southern-dunes-pdo-club-outing/
LOCATION:Southern Dunes Golf and Country Club\, 2888 Southern Dunes Blvd\, Haines City\, FL\, 33844\, United States
CATEGORIES:Thursday
END:VEVENT
BEGIN:VEVENT
DTSTART;TZID=America/New_York:20210624T083000
DTEND;TZID=America/New_York:20210624T140000
DTSTAMP:20260424T123207
CREATED:20210424T122304Z
LAST-MODIFIED:20210424T122304Z
UID:2903-1624523400-1624543200@produffersorlando.com
SUMMARY:Golf at Shingle Creek
DESCRIPTION:28 Players\nShotgun Start\nRange\nS.C.F. Unknown\nContact: Cory
URL:https://produffersorlando.com/event/golf-at-shingle-creek-10/
LOCATION:Shingle Creek Golf Club\, 9939 Universal Boulevard\, Orlando\, FL\, 32819\, United States
CATEGORIES:Thursday
END:VEVENT
BEGIN:VEVENT
DTSTART;TZID=America/New_York:20210617T083000
DTEND;TZID=America/New_York:20210617T140000
DTSTAMP:20260424T123207
CREATED:20210424T121023Z
LAST-MODIFIED:20210424T121023Z
UID:2898-1623918600-1623938400@produffersorlando.com
SUMMARY:Golf at Orange Lake Legends
DESCRIPTION:24 Players\nShotgun Start\nRange\nS.C.F.\nContact: Jeff
URL:https://produffersorlando.com/event/golf-at-orange-lake-legends-2/
LOCATION:Orange Lake Golf\, 8505 W Irlo Bronson Memorial Hwy\, Kissimmee\, FL\, 34747\, United States
CATEGORIES:Thursday
END:VEVENT
BEGIN:VEVENT
DTSTART;TZID=America/New_York:20210610T080000
DTEND;TZID=America/New_York:20210610T140000
DTSTAMP:20260424T123207
CREATED:20210424T072217Z
LAST-MODIFIED:20210424T072217Z
UID:2894-1623312000-1623333600@produffersorlando.com
SUMMARY:Golf at Reunion Nicklaus
DESCRIPTION:28 Players\nTee-Times\nRange\nS.C.F. Unknown\nContact Mack
URL:https://produffersorlando.com/event/golf-at-reunion-nicklaus-5/
LOCATION:Reunion Resort Golf Course\, 7593 Grathing Dr\, Kissimmee\, FL\, 34747\, United States
CATEGORIES:Thursday
END:VEVENT
BEGIN:VEVENT
DTSTART;TZID=America/New_York:20210527T083000
DTEND;TZID=America/New_York:20210527T140000
DTSTAMP:20260424T123207
CREATED:20210320T193248Z
LAST-MODIFIED:20210320T193248Z
UID:2839-1622104200-1622124000@produffersorlando.com
SUMMARY:Golf at Providence
DESCRIPTION:28 Players\nTee-Times\nS.C.F. $10.00\nContact: Matt
URL:https://produffersorlando.com/event/golf-at-providence-5/
LOCATION:Providence Golf Club\, 1518 Clubhouse Blvd\, Davenport\, FL\, 33837\, United States
CATEGORIES:Thursday
END:VEVENT
BEGIN:VEVENT
DTSTART;TZID=America/New_York:20210520T083000
DTEND;TZID=America/New_York:20210520T140000
DTSTAMP:20260424T123207
CREATED:20210320T191658Z
LAST-MODIFIED:20210320T192108Z
UID:2834-1621499400-1621519200@produffersorlando.com
SUMMARY:Golf at Remington
DESCRIPTION:24 Players\nShotgun Start\nS.C.F. $5.00\nContact: Austin
URL:https://produffersorlando.com/event/golf-at-remington-12/
LOCATION:Remington Golf Club\, 2995 Remingtong Blvd\, Kissimmee\, FL\, 34774\, United States
CATEGORIES:Thursday
END:VEVENT
BEGIN:VEVENT
DTSTART;TZID=America/New_York:20210513T083000
DTEND;TZID=America/New_York:20210513T140000
DTSTAMP:20260424T123207
CREATED:20210415T234838Z
LAST-MODIFIED:20210415T235042Z
UID:2882-1620894600-1620914400@produffersorlando.com
SUMMARY:Golf at Orange Lake/Reserve
DESCRIPTION:24 Players\nShotgun Start\n(1A/B\,18A/B\,17A/B)\nRange\nContact: Jimmy
URL:https://produffersorlando.com/event/golf-at-orange-lake-reserve-3/
LOCATION:Orange Lake Golf\, 8505 W Irlo Bronson Memorial Hwy\, Kissimmee\, FL\, 34747\, United States
CATEGORIES:Thursday
END:VEVENT
BEGIN:VEVENT
DTSTART;TZID=America/New_York:20210511T084000
DTEND;TZID=America/New_York:20210511T140000
DTSTAMP:20260424T123207
CREATED:20210415T233630Z
LAST-MODIFIED:20210415T233750Z
UID:2880-1620722400-1620741600@produffersorlando.com
SUMMARY:Golf at Reunion/Palmer
DESCRIPTION:28 Players\nTee-Times\nRange\nS.C.F.\nContact: Mack
URL:https://produffersorlando.com/event/golf-at-reunion-palmer-2/
LOCATION:Reunion Resort Golf Course\, 7593 Grathing Dr\, Kissimmee\, FL\, 34747\, United States
CATEGORIES:Thursday
END:VEVENT
BEGIN:VEVENT
DTSTART;TZID=America/New_York:20210506T083000
DTEND;TZID=America/New_York:20210506T140000
DTSTAMP:20260424T123207
CREATED:20210320T191149Z
LAST-MODIFIED:20210320T191901Z
UID:2830-1620289800-1620309600@produffersorlando.com
SUMMARY:Golf at Championsgate International
DESCRIPTION:24 Players\nshotgun Start\nRange\nS.C.F. Upon Availability\nContact: Tony Arielly
URL:https://produffersorlando.com/event/golf-at-championsgate-international/
LOCATION:Champions Gate Golf Club\, 8575 White Shark Blvd\, Davenport\, FL\, 33896\, United States
CATEGORIES:Thursday
END:VEVENT
BEGIN:VEVENT
DTSTART;TZID=America/New_York:20210429T080000
DTEND;TZID=America/New_York:20210429T140000
DTSTAMP:20260424T123207
CREATED:20210320T011626Z
LAST-MODIFIED:20210320T011626Z
UID:2819-1619683200-1619704800@produffersorlando.com
SUMMARY:Golf at Monarch
DESCRIPTION:24 Players\nShotgun Start\nS.C.F. $10.00\nContact: Craig
URL:https://produffersorlando.com/event/golf-at-monarch-5/
LOCATION:Monarch Golf Club\, 5325 St. Andrews Arc\, Leesburg\, FL\, 34748-7964\, United States
CATEGORIES:Thursday
END:VEVENT
BEGIN:VEVENT
DTSTART;TZID=America/New_York:20210422T083000
DTEND;TZID=America/New_York:20210422T140000
DTSTAMP:20260424T123207
CREATED:20210320T005909Z
LAST-MODIFIED:20210320T005909Z
UID:2813-1619080200-1619100000@produffersorlando.com
SUMMARY:Golf at Deer Island
DESCRIPTION:24 Players\nShotgun Start\nRange\nS.C.F.$10.00
URL:https://produffersorlando.com/event/golf-at-deer-island/
LOCATION:Deer Island Country Club\, 18000 Eagle Club House Way\, Tavares\, FL\, 32778\, United States
CATEGORIES:Thursday
END:VEVENT
BEGIN:VEVENT
DTSTART;TZID=America/New_York:20210415T080000
DTEND;TZID=America/New_York:20210415T170000
DTSTAMP:20260424T123207
CREATED:20210319T235719Z
LAST-MODIFIED:20210319T235719Z
UID:2808-1618473600-1618506000@produffersorlando.com
SUMMARY:Golf at Eagle Creek
DESCRIPTION:28 Players\nShotgun Start\nRange\nS.C.F. $10.00\nContact: Mike
URL:https://produffersorlando.com/event/golf-at-eagle-creek-18/
LOCATION:Eagle Creek Golf Club\, 10350 Emerson Lake Blvd\, Orlando\, FL\, 32832\, United States
CATEGORIES:Thursday
END:VEVENT
BEGIN:VEVENT
DTSTART;TZID=America/New_York:20210408T083000
DTEND;TZID=America/New_York:20210408T140000
DTSTAMP:20260424T123207
CREATED:20210319T233337Z
LAST-MODIFIED:20210319T233337Z
UID:2804-1617870600-1617890400@produffersorlando.com
SUMMARY:Golf at Eagle Dunes
DESCRIPTION:24 Players\nShotgun Start\nRange\nS.C.F.$10.00\nContact: Sean
URL:https://produffersorlando.com/event/golf-at-eagle-dunes-9/
LOCATION:Eagle Dunes Golf Club\, 24000 Marbella Drive\, Sorrento\, FL\, 32776\, United States
CATEGORIES:Thursday
END:VEVENT
BEGIN:VEVENT
DTSTART;TZID=America/New_York:20210401T083000
DTEND;TZID=America/New_York:20210401T140000
DTSTAMP:20260424T123207
CREATED:20210218T072316Z
LAST-MODIFIED:20210218T072316Z
UID:2728-1617265800-1617285600@produffersorlando.com
SUMMARY:Golf at Wekiva
DESCRIPTION:24 Players\nShotgun Start\nRange\nSingle Cart Fee: $0.00\nContact: Tony
URL:https://produffersorlando.com/event/golf-at-wekiva-6/
LOCATION:Wekiva Golf Club\, 4100 Wekiva Club Court\, Longwood\, FL\, 32779\, United States
CATEGORIES:Thursday
END:VEVENT
BEGIN:VEVENT
DTSTART;TZID=America/New_York:20210325T083000
DTEND;TZID=America/New_York:20210325T140000
DTSTAMP:20260424T123207
CREATED:20210209T224741Z
LAST-MODIFIED:20210209T224741Z
UID:2717-1616661000-1616680800@produffersorlando.com
SUMMARY:Golf at Forest Lake
DESCRIPTION:24 Players\nShotgun Start\nSingle Cart Fee: $10.00\nContact: John Paul
URL:https://produffersorlando.com/event/golf-at-forest-lake-16/
LOCATION:Forest Lake Golf Club\, 10521 Clarcona Ocoee Rd\, Apopka\, FL\, 32703\, United States
CATEGORIES:Thursday
END:VEVENT
BEGIN:VEVENT
DTSTART;TZID=America/New_York:20210318T081500
DTEND;TZID=America/New_York:20210318T140000
DTSTAMP:20260424T123207
CREATED:20210209T224220Z
LAST-MODIFIED:20210209T224220Z
UID:2713-1616055300-1616076000@produffersorlando.com
SUMMARY:Golf at Eagle Creek
DESCRIPTION:28 Players\nShotgun Start\nRange\nSingle Cart Fee:$10.00\nContact; Mike
URL:https://produffersorlando.com/event/golf-at-eagle-creek-17/
LOCATION:Eagle Creek Golf Club\, 10350 Emerson Lake Blvd\, Orlando\, FL\, 32832\, United States
CATEGORIES:Thursday
END:VEVENT
BEGIN:VEVENT
DTSTART;TZID=America/New_York:20210311T083000
DTEND;TZID=America/New_York:20210311T140000
DTSTAMP:20260424T123207
CREATED:20210209T223607Z
LAST-MODIFIED:20210209T223607Z
UID:2709-1615451400-1615471200@produffersorlando.com
SUMMARY:Golf at Remington
DESCRIPTION:24 Players\nShotgun Start\nSingle Cart Fee: $5.00\nContact: Austin
URL:https://produffersorlando.com/event/golf-at-remington-10/
LOCATION:Remington Golf Club\, 2995 Remingtong Blvd\, Kissimmee\, FL\, 34774\, United States
CATEGORIES:Thursday
END:VEVENT
BEGIN:VEVENT
DTSTART;TZID=America/New_York:20210304T083000
DTEND;TZID=America/New_York:20210304T140000
DTSTAMP:20260424T123207
CREATED:20210209T222834Z
LAST-MODIFIED:20210209T222834Z
UID:2705-1614846600-1614866400@produffersorlando.com
SUMMARY:Golf at Black Bear
DESCRIPTION:24 Players\nShotgun Start\nSingle Cart Fee $10.00\nContact: Rodger
URL:https://produffersorlando.com/event/golf-at-black-bear-3/
LOCATION:Black Bear Golf Club\, 24505 Calusa Blvd\, Eustis\, FL\, 32736\, United States
CATEGORIES:Thursday
END:VEVENT
BEGIN:VEVENT
DTSTART;TZID=America/New_York:20210225T083000
DTEND;TZID=America/New_York:20210225T140000
DTSTAMP:20260424T123207
CREATED:20201211T003327Z
LAST-MODIFIED:20201211T003327Z
UID:2624-1614241800-1614261600@produffersorlando.com
SUMMARY:Golf at Mission Inn (El Campion)
DESCRIPTION:24 Players\nShotgun Start\nRange\nSingle Cat Fee: $10.00\nContact: Nicole
URL:https://produffersorlando.com/event/golf-at-mission-inn-el-campion/
LOCATION:Mission Inn\, 26000 Gasper Ct\, Howey in the Hills\, FL\, 34747
CATEGORIES:Thursday
END:VEVENT
BEGIN:VEVENT
DTSTART;TZID=America/New_York:20210218T083000
DTEND;TZID=America/New_York:20210218T140000
DTSTAMP:20260424T123207
CREATED:20210115T150903Z
LAST-MODIFIED:20210115T150903Z
UID:2681-1613637000-1613656800@produffersorlando.com
SUMMARY:Golf at White Heron
DESCRIPTION:24 Players\nShotgun Start\n$15.00 Single Cart Fee\nContact:Glenn
URL:https://produffersorlando.com/event/golf-at-white-heron/
LOCATION:White Heron at Ridgewood Lakes\, 200 Eagle Ridge Drive\, Davenport\, 33837\, United States
CATEGORIES:Thursday
END:VEVENT
BEGIN:VEVENT
DTSTART;TZID=America/New_York:20210211T080000
DTEND;TZID=America/New_York:20210211T140000
DTSTAMP:20260424T123207
CREATED:20201211T002556Z
LAST-MODIFIED:20210209T210954Z
UID:2620-1613030400-1613052000@produffersorlando.com
SUMMARY:Golf at Metrowest
DESCRIPTION:24 Players\nTee-Times\nContact:\nSingle Cart Fee: $15.00
URL:https://produffersorlando.com/event/golf-at-harbor-hills/
LOCATION:Metrowest Golf Club\, 2100 Hiawassee
CATEGORIES:Thursday
END:VEVENT
BEGIN:VEVENT
DTSTART;TZID=America/New_York:20210204T083000
DTEND;TZID=America/New_York:20210204T140000
DTSTAMP:20260424T123207
CREATED:20201211T002057Z
LAST-MODIFIED:20210203T065844Z
UID:2616-1612427400-1612447200@produffersorlando.com
SUMMARY:Golf at Providence
DESCRIPTION:28 Players\nShotgun Start\nSingle Cart Fee:$10.00\nContact: Jerry
URL:https://produffersorlando.com/event/golf-at-providence-3/
LOCATION:Providence Golf Club\, 1518 Clubhouse Blvd\, Davenport\, FL\, 33837\, United States
CATEGORIES:Thursday
END:VEVENT
BEGIN:VEVENT
DTSTART;TZID=America/New_York:20210128T083000
DTEND;TZID=America/New_York:20210128T140000
DTSTAMP:20260424T123207
CREATED:20201109T173111Z
LAST-MODIFIED:20201109T173111Z
UID:2561-1611822600-1611842400@produffersorlando.com
SUMMARY:Golf at Twin Rivers
DESCRIPTION:24 Players\nShotgun Start\nRange\n$5.00 Single Cart Fee
URL:https://produffersorlando.com/event/golf-at-twin-rivers-3/
LOCATION:Twin Rivers\, 2100 EkanaDrive\, Oviedo\, FL\, 32765\, United States
CATEGORIES:Thursday
END:VEVENT
BEGIN:VEVENT
DTSTART;TZID=America/New_York:20210121T083000
DTEND;TZID=America/New_York:20210121T140000
DTSTAMP:20260424T123207
CREATED:20201210T164705Z
LAST-MODIFIED:20201210T164705Z
UID:2610-1611217800-1611237600@produffersorlando.com
SUMMARY:Deer Island
DESCRIPTION:24 Players\nTee-Times\nRange\nSingle Cart Fee: $10.00\nContact: Joann
URL:https://produffersorlando.com/event/deer-island/
LOCATION:Deer Island Country Club\, 18000 Eagle Club House Way\, Tavares\, FL\, 32778\, United States
CATEGORIES:Thursday
END:VEVENT
BEGIN:VEVENT
DTSTART;TZID=America/New_York:20210114T083000
DTEND;TZID=America/New_York:20210114T140000
DTSTAMP:20260424T123207
CREATED:20201013T090718Z
LAST-MODIFIED:20201013T090826Z
UID:2523-1610613000-1610632800@produffersorlando.com
SUMMARY:Golf at Highland Reserve
DESCRIPTION:24 Players\nTee-Times\nContact: Donnie\n$7.00 Single Cart Fee
URL:https://produffersorlando.com/event/golf-at-highland-reserve-9/
LOCATION:Highland Reserve Golf Club\, 500 Highlands Reserve Blvd\, Davenport\, FL\, 33897\, United States
CATEGORIES:Thursday
END:VEVENT
BEGIN:VEVENT
DTSTART;TZID=America/New_York:20210107T083000
DTEND;TZID=America/New_York:20210107T140000
DTSTAMP:20260424T123207
CREATED:20201107T085920Z
LAST-MODIFIED:20201107T085920Z
UID:2547-1610008200-1610028000@produffersorlando.com
SUMMARY:Golf at Reunion
DESCRIPTION:24 players at Club Pricing\nTee-times\nRange\nContact: Mack\nSingle Cart Fee: Unknown at this time
URL:https://produffersorlando.com/event/golf-at-reunion/
LOCATION:Reunion Resort Golf Course\, 7593 Grathing Dr\, Kissimmee\, FL\, 34747\, United States
CATEGORIES:Thursday
END:VEVENT
BEGIN:VEVENT
DTSTART;TZID=America/New_York:20210105T080000
DTEND;TZID=America/New_York:20210105T140000
DTSTAMP:20260424T123207
CREATED:20201204T203111Z
LAST-MODIFIED:20201204T204247Z
UID:2581-1609833600-1609855200@produffersorlando.com
SUMMARY:Golf at C.C. of Mt. Dora
DESCRIPTION:24 Players\nTee-Times\n$15.00 Single Cart Fee\nContact: Atulia
URL:https://produffersorlando.com/event/golf-at-c-c-of-mt-dora/
LOCATION:Country Club of Mt. Dora\, 1900 Country Club Blvd\, Mount Dora\, FL\, 32757\, United States
CATEGORIES:Thursday
END:VEVENT
END:VCALENDAR