BEGIN:VCALENDAR
VERSION:2.0
PRODID:-//Pro-Duffers Orlando - ECPv6.15.20//NONSGML v1.0//EN
CALSCALE:GREGORIAN
METHOD:PUBLISH
X-ORIGINAL-URL:https://produffersorlando.com
X-WR-CALDESC:Events for Pro-Duffers Orlando
REFRESH-INTERVAL;VALUE=DURATION:PT1H
X-Robots-Tag:noindex
X-PUBLISHED-TTL:PT1H
BEGIN:VTIMEZONE
TZID:America/New_York
BEGIN:DAYLIGHT
TZOFFSETFROM:-0500
TZOFFSETTO:-0400
TZNAME:EDT
DTSTART:20180311T070000
END:DAYLIGHT
BEGIN:STANDARD
TZOFFSETFROM:-0400
TZOFFSETTO:-0500
TZNAME:EST
DTSTART:20181104T060000
END:STANDARD
BEGIN:DAYLIGHT
TZOFFSETFROM:-0500
TZOFFSETTO:-0400
TZNAME:EDT
DTSTART:20190310T070000
END:DAYLIGHT
BEGIN:STANDARD
TZOFFSETFROM:-0400
TZOFFSETTO:-0500
TZNAME:EST
DTSTART:20191103T060000
END:STANDARD
BEGIN:DAYLIGHT
TZOFFSETFROM:-0500
TZOFFSETTO:-0400
TZNAME:EDT
DTSTART:20200308T070000
END:DAYLIGHT
BEGIN:STANDARD
TZOFFSETFROM:-0400
TZOFFSETTO:-0500
TZNAME:EST
DTSTART:20201101T060000
END:STANDARD
BEGIN:DAYLIGHT
TZOFFSETFROM:-0500
TZOFFSETTO:-0400
TZNAME:EDT
DTSTART:20210314T070000
END:DAYLIGHT
BEGIN:STANDARD
TZOFFSETFROM:-0400
TZOFFSETTO:-0500
TZNAME:EST
DTSTART:20211107T060000
END:STANDARD
END:VTIMEZONE
BEGIN:VEVENT
DTSTART;TZID=America/New_York:20200414T083000
DTEND;TZID=America/New_York:20200414T140000
DTSTAMP:20260424T202503
CREATED:20200131T153743Z
LAST-MODIFIED:20200327T235543Z
UID:2143-1586853000-1586872800@produffersorlando.com
SUMMARY:Golf at Ventura (CANCELED)
DESCRIPTION:16 Players\nTee-Times\nContact: Josh
URL:https://produffersorlando.com/event/golf-at-ventura-4/
LOCATION:Ventura Country Club\, 3333 Woodgate Blvd\, Orlando\, FL\, 32822\, United States
CATEGORIES:Thursday
END:VEVENT
BEGIN:VEVENT
DTSTART;TZID=America/New_York:20200409T080000
DTEND;TZID=America/New_York:20200409T170000
DTSTAMP:20260424T202503
CREATED:20200131T154137Z
LAST-MODIFIED:20200327T235358Z
UID:2145-1586419200-1586451600@produffersorlando.com
SUMMARY:Golf at Hunter's Creek (CANCELED)
DESCRIPTION:20 Players\nShotgun Start\nContact; Matthew
URL:https://produffersorlando.com/event/golf-at-hunters-creek-8/
LOCATION:Hunters Creek Golf Club\, 14401 Sports Club Way\, Orlando\, FL\, 32837\, United States
CATEGORIES:Thursday
END:VEVENT
BEGIN:VEVENT
DTSTART;TZID=America/New_York:20200402T090000
DTEND;TZID=America/New_York:20200402T140000
DTSTAMP:20260424T202503
CREATED:20200319T152018Z
LAST-MODIFIED:20200327T235448Z
UID:2228-1585818000-1585836000@produffersorlando.com
SUMMARY:Golf at Timacuan (CANCELED)
DESCRIPTION:16 Players\nTee-Times\nContact Ben
URL:https://produffersorlando.com/event/golf-at-timacuan-5/
LOCATION:Timacuan Golf Club\, 550 Timacuan Blvd\, Lake Mary\, FL\, 32746\, United States
CATEGORIES:Thursday
END:VEVENT
BEGIN:VEVENT
DTSTART;TZID=America/New_York:20200326T080000
DTEND;TZID=America/New_York:20200326T170000
DTSTAMP:20260424T202503
CREATED:20200131T153138Z
LAST-MODIFIED:20200319T174457Z
UID:2139-1585209600-1585242000@produffersorlando.com
SUMMARY:Golf at Wekiva
DESCRIPTION:16 Players\nRange Balls\nTee-Times\nContact: Tony Miller
URL:https://produffersorlando.com/event/golf-at-winter-pines/
LOCATION:Wekiva Golf Club\, 4100 Wekiva Club Court\, Longwood\, FL\, 32779\, United States
CATEGORIES:Thursday
END:VEVENT
BEGIN:VEVENT
DTSTART;TZID=America/New_York:20200319T080000
DTEND;TZID=America/New_York:20200319T170000
DTSTAMP:20260424T202503
CREATED:20200131T144509Z
LAST-MODIFIED:20200131T144509Z
UID:2131-1584604800-1584637200@produffersorlando.com
SUMMARY:Golf at Rio Pinar
DESCRIPTION:16 Players\nShotgun Start\nRange\ncontact: Tom
URL:https://produffersorlando.com/event/golf-at-rio-pinar-6/
LOCATION:Rio Pinar Country Club\, 8600 El Prado Ave\, Orlando\, FL\, 32825\, United States
CATEGORIES:Thursday
END:VEVENT
BEGIN:VEVENT
DTSTART;TZID=America/New_York:20200312T080000
DTEND;TZID=America/New_York:20200312T170000
DTSTAMP:20260424T202503
CREATED:20200131T074828Z
LAST-MODIFIED:20200131T074828Z
UID:2124-1584000000-1584032400@produffersorlando.com
SUMMARY:Golf at Arlington Ridge
DESCRIPTION:16 Players\nShotgun Start\nContact: john
URL:https://produffersorlando.com/event/golf-at-arlington-ridge-4/
LOCATION:Arlington Ridge\, 4436 Arlington Ridge Blvd\, Leesburg\, FL\, 34748\, United States
CATEGORIES:Thursday
END:VEVENT
BEGIN:VEVENT
DTSTART;TZID=America/New_York:20200305T083000
DTEND;TZID=America/New_York:20200305T140000
DTSTAMP:20260424T202503
CREATED:20200131T152634Z
LAST-MODIFIED:20200131T152634Z
UID:2137-1583397000-1583416800@produffersorlando.com
SUMMARY:Golf at Stoneybrook East
DESCRIPTION:20 Players\nShotgun Start\nContact: Mike
URL:https://produffersorlando.com/event/golf-at-stoneybrook-east-4/
LOCATION:Stoneybrook East Golf Club\, 2900 Northampton Ave\, Orlando\, FL\, 32828\, United States
CATEGORIES:Thursday
END:VEVENT
BEGIN:VEVENT
DTSTART;TZID=America/New_York:20200220T083000
DTEND;TZID=America/New_York:20200220T140000
DTSTAMP:20260424T202503
CREATED:20200117T081219Z
LAST-MODIFIED:20200117T081219Z
UID:2102-1582187400-1582207200@produffersorlando.com
SUMMARY:Golf at North Shore
DESCRIPTION:20 Players\nTee-Times\nContact: Robbie
URL:https://produffersorlando.com/event/golf-at-north-shore-6/
LOCATION:North Shore Golf Club\, 11507 N Shore Golf Club Blvd\, Orlando\, FL\, 32832\, United States
CATEGORIES:Thursday
END:VEVENT
BEGIN:VEVENT
DTSTART;TZID=America/New_York:20200213T083000
DTEND;TZID=America/New_York:20200213T140000
DTSTAMP:20260424T202503
CREATED:20200131T074127Z
LAST-MODIFIED:20200131T074127Z
UID:2118-1581582600-1581602400@produffersorlando.com
SUMMARY:Golf at Eastwood
DESCRIPTION:16 Players\nShotgun Start\nRange\nContact: Ben
URL:https://produffersorlando.com/event/golf-at-eastwood-9/
LOCATION:Eastwood Golf Club\, 13950 Golfway Blvd\, Orlando\, FL\, 32828\, United States
CATEGORIES:Thursday
END:VEVENT
BEGIN:VEVENT
DTSTART;TZID=America/New_York:20200206T083000
DTEND;TZID=America/New_York:20200206T140000
DTSTAMP:20260424T202503
CREATED:20200128T233330Z
LAST-MODIFIED:20200128T233456Z
UID:2112-1580977800-1580997600@produffersorlando.com
SUMMARY:Golf at Winter Pines
DESCRIPTION:16 Players\nTee-Times\nContact: Steve
URL:https://produffersorlando.com/event/golf-at-winterpark-pines/
LOCATION:Winter Pines\, 950 Ranger Blvd\, Winter Park\, FL\, 32792\, United States
CATEGORIES:Thursday
END:VEVENT
BEGIN:VEVENT
DTSTART;TZID=America/New_York:20200130T083000
DTEND;TZID=America/New_York:20200130T140000
DTSTAMP:20260424T202503
CREATED:20200117T075807Z
LAST-MODIFIED:20200117T075807Z
UID:2094-1580373000-1580392800@produffersorlando.com
SUMMARY:Golf at Black Bear
DESCRIPTION:16 Players\nShotgun Start\nRange\nContact: Rodger
URL:https://produffersorlando.com/event/golf-at-black-bear/
LOCATION:Black Bear Golf Club\, 24505 Calusa Blvd\, Eustis\, FL\, 32736\, United States
CATEGORIES:Thursday
END:VEVENT
BEGIN:VEVENT
DTSTART;TZID=America/New_York:20200123T083000
DTEND;TZID=America/New_York:20200123T140000
DTSTAMP:20260424T202503
CREATED:20200115T173645Z
LAST-MODIFIED:20200115T173645Z
UID:2087-1579768200-1579788000@produffersorlando.com
SUMMARY:Golf at Hunter's Creek
DESCRIPTION:20 Players\nTee-Times\nContact: Mathew
URL:https://produffersorlando.com/event/golf-at-hunters-creek-5/
LOCATION:Highland Reserve Golf Club\, 500 Highlands Reserve Blvd\, Davenport\, FL\, 33897\, United States
CATEGORIES:Thursday
END:VEVENT
BEGIN:VEVENT
DTSTART;TZID=America/New_York:20200116T083000
DTEND;TZID=America/New_York:20200116T140000
DTSTAMP:20260424T202503
CREATED:20200101T111435Z
LAST-MODIFIED:20200101T111435Z
UID:2064-1579163400-1579183200@produffersorlando.com
SUMMARY:Golf at Champions Gate C.C.
DESCRIPTION:20 Players\nShotgun Start\nRange\nContact:Anthony
URL:https://produffersorlando.com/event/golf-at-champions-gate-c-c-4/
LOCATION:Champions Gate Country Club\, 8950 Clifton Draw Drive\, Davenport\, FL\, 33896\, United States
CATEGORIES:Thursday
END:VEVENT
BEGIN:VEVENT
DTSTART;TZID=America/New_York:20200109T083000
DTEND;TZID=America/New_York:20200109T140000
DTSTAMP:20260424T202503
CREATED:20200101T110918Z
LAST-MODIFIED:20200101T110918Z
UID:2060-1578558600-1578578400@produffersorlando.com
SUMMARY:Golf at Eagle Creek
DESCRIPTION:20 Players\nShotgun Start
URL:https://produffersorlando.com/event/golf-at-eagle-creek-7/
LOCATION:Eagle Creek Golf Club\, 10350 Emerson Lake Blvd\, Orlando\, FL\, 32832\, United States
CATEGORIES:Thursday
END:VEVENT
BEGIN:VEVENT
DTSTART;TZID=America/New_York:20200102T083000
DTEND;TZID=America/New_York:20200102T140000
DTSTAMP:20260424T202503
CREATED:20191221T030036Z
LAST-MODIFIED:20200101T115217Z
UID:2028-1577953800-1577973600@produffersorlando.com
SUMMARY:Golf at Arlington Ridge (CANCELLED)
DESCRIPTION:20 Players\nShotgun Start\nContact: John Ellis
URL:https://produffersorlando.com/event/golf-at-arlington-ridge-2/
LOCATION:Arlington Ridge\, 4436 Arlington Ridge Blvd\, Leesburg\, FL\, 34748\, United States
CATEGORIES:Thursday
END:VEVENT
BEGIN:VEVENT
DTSTART;TZID=America/New_York:20191219T083000
DTEND;TZID=America/New_York:20191219T140000
DTSTAMP:20260424T202503
CREATED:20191124T002333Z
LAST-MODIFIED:20191124T002333Z
UID:1952-1576744200-1576764000@produffersorlando.com
SUMMARY:Golf at Forest Lake
DESCRIPTION:24 Players\nShotgun Start\nContact: John
URL:https://produffersorlando.com/event/golf-at-forest-lake-10/
LOCATION:Forest Lake Golf Club\, 10521 Clarcona Ocoee Rd\, Apopka\, FL\, 32703\, United States
CATEGORIES:Thursday
END:VEVENT
BEGIN:VEVENT
DTSTART;TZID=America/New_York:20191212T090000
DTEND;TZID=America/New_York:20191212T140000
DTSTAMP:20260424T202503
CREATED:20191124T001501Z
LAST-MODIFIED:20191125T222919Z
UID:1947-1576141200-1576159200@produffersorlando.com
SUMMARY:Golf at Champions Gate C.C.
DESCRIPTION:24 Players\nShotgun Start\nContact: Anthony
URL:https://produffersorlando.com/event/golf-atchampions-gate-c-c/
LOCATION:Champions Gate Country Club\, 8950 Clifton Draw Drive\, Davenport\, FL\, 33896\, United States
CATEGORIES:Thursday
END:VEVENT
BEGIN:VEVENT
DTSTART;TZID=America/New_York:20191205T083000
DTEND;TZID=America/New_York:20191205T140000
DTSTAMP:20260424T202503
CREATED:20191120T062307Z
LAST-MODIFIED:20191120T062307Z
UID:1937-1575534600-1575554400@produffersorlando.com
SUMMARY:Golf at Arlington Ridge
DESCRIPTION:20 Players\nShotgun Start\nContact: Joe
URL:https://produffersorlando.com/event/golf-at-arlington-ridge/
LOCATION:Arlington Ridge\, 4436 Arlington Ridge Blvd\, Leesburg\, FL\, 34748\, United States
CATEGORIES:Thursday
END:VEVENT
BEGIN:VEVENT
DTSTART;TZID=America/New_York:20191121T083000
DTEND;TZID=America/New_York:20191121T140000
DTSTAMP:20260424T202503
CREATED:20190930T044341Z
LAST-MODIFIED:20190930T044341Z
UID:1810-1574325000-1574344800@produffersorlando.com
SUMMARY:Golf at Remington
DESCRIPTION:24 Players\nShotgun Start\nG-R-L\nContact: Rick
URL:https://produffersorlando.com/event/golf-at-remington-8/
LOCATION:Remington Golf Club\, 2995 Remingtong Blvd\, Kissimmee\, FL\, 34774\, United States
CATEGORIES:Thursday
END:VEVENT
BEGIN:VEVENT
DTSTART;TZID=America/New_York:20191114T130000
DTEND;TZID=America/New_York:20191114T170000
DTSTAMP:20260424T202503
CREATED:20190930T042928Z
LAST-MODIFIED:20190930T042928Z
UID:1804-1573736400-1573750800@produffersorlando.com
SUMMARY:PDO OUTING at Legacy Golf Club Brandenton
DESCRIPTION:24 Players\nShotgun Start\nContact: Wendy\n8255 Legacy Blvd\nBrandenton\, FL 34202\n$49.00 G-L+Drink
URL:https://produffersorlando.com/event/pdo-outing-at-legacy-golf-club-brandenton/
LOCATION:FL
CATEGORIES:Thursday
END:VEVENT
BEGIN:VEVENT
DTSTART;TZID=America/New_York:20191107T083000
DTEND;TZID=America/New_York:20191107T140000
DTSTAMP:20260424T202503
CREATED:20190930T042001Z
LAST-MODIFIED:20190930T042001Z
UID:1800-1573115400-1573135200@produffersorlando.com
SUMMARY:Golf at Tuscawillo
DESCRIPTION:24 Platers\nShotgun Start\nContact: JP
URL:https://produffersorlando.com/event/golf-at-tuscawillo-2/
LOCATION:Tuscawilla Country Club\, 1500 Winter Springs Blvd\, Winter Springs\, FL\, 32708\, United States
CATEGORIES:Thursday
END:VEVENT
BEGIN:VEVENT
DTSTART;TZID=America/New_York:20191031T083000
DTEND;TZID=America/New_York:20191031T140000
DTSTAMP:20260424T202503
CREATED:20190927T115702Z
LAST-MODIFIED:20190927T115702Z
UID:1796-1572510600-1572530400@produffersorlando.com
SUMMARY:Golf at Kissimmee Bay
DESCRIPTION:24 Players\nShotgun Start\nG-R-L\nContact: Rick
URL:https://produffersorlando.com/event/golf-at-kissimmee-bay-6/
LOCATION:Kissimmee Bay Golf Club\, 2801 Kissimmee Bay Blvd\, Kissimmee\, FL\, 34744\, United States
CATEGORIES:Thursday
END:VEVENT
BEGIN:VEVENT
DTSTART;TZID=America/New_York:20191024T080000
DTEND;TZID=America/New_York:20191024T170000
DTSTAMP:20260424T202503
CREATED:20190520T021729Z
LAST-MODIFIED:20191009T233426Z
UID:1685-1571904000-1571936400@produffersorlando.com
SUMMARY:PDO Club Championship at Rio Pinor
DESCRIPTION:
URL:https://produffersorlando.com/event/pdo-club-championship-3/
LOCATION:FL
CATEGORIES:Thursday
END:VEVENT
BEGIN:VEVENT
DTSTART;TZID=America/New_York:20191022T080000
DTEND;TZID=America/New_York:20191022T170000
DTSTAMP:20260424T202503
CREATED:20190520T021123Z
LAST-MODIFIED:20191009T233237Z
UID:1677-1571731200-1571763600@produffersorlando.com
SUMMARY:PDO Club Championship at Rio Pinor
DESCRIPTION:
URL:https://produffersorlando.com/event/pdo-championship-at-forest-lake/
LOCATION:FL
CATEGORIES:Thursday
END:VEVENT
BEGIN:VEVENT
DTSTART;TZID=America/New_York:20191017T080000
DTEND;TZID=America/New_York:20191017T170000
DTSTAMP:20260424T202503
CREATED:20190520T021625Z
LAST-MODIFIED:20191009T233157Z
UID:1683-1571299200-1571331600@produffersorlando.com
SUMMARY:PDO Club Championship at Forest Lake
DESCRIPTION:
URL:https://produffersorlando.com/event/pdo-club-championship-2/
LOCATION:FL
CATEGORIES:Thursday
END:VEVENT
BEGIN:VEVENT
DTSTART;TZID=America/New_York:20191010T083000
DTEND;TZID=America/New_York:20191010T140000
DTSTAMP:20260424T202503
CREATED:20190927T115048Z
LAST-MODIFIED:20191009T233025Z
UID:1792-1570696200-1570716000@produffersorlando.com
SUMMARY:Golf at North Shore
DESCRIPTION:20 Players\nTee-Times\nContact: Robbie
URL:https://produffersorlando.com/event/golf-at-north-shore-3/
LOCATION:North Shore Golf Club\, 11507 N Shore Golf Club Blvd\, Orlando\, FL\, 32832\, United States
CATEGORIES:Thursday
END:VEVENT
BEGIN:VEVENT
DTSTART;TZID=America/New_York:20191003T083000
DTEND;TZID=America/New_York:20191003T140000
DTSTAMP:20260424T202503
CREATED:20190927T114427Z
LAST-MODIFIED:20190927T114427Z
UID:1787-1570091400-1570111200@produffersorlando.com
SUMMARY:Golf at Rio Pinar
DESCRIPTION:20 Players\nShotgun Start\nContact: Jim
URL:https://produffersorlando.com/event/golf-at-rio-pinar-4/
LOCATION:Rio Pinar Country Club\, 8600 El Prado Ave\, Orlando\, FL\, 32825\, United States
CATEGORIES:Thursday
END:VEVENT
BEGIN:VEVENT
DTSTART;VALUE=DATE:20190930
DTEND;VALUE=DATE:20191001
DTSTAMP:20260424T202503
CREATED:20190930T045115Z
LAST-MODIFIED:20190930T045115Z
UID:1814-1569801600-1569887999@produffersorlando.com
SUMMARY:THANKSGIVING DAY
DESCRIPTION:
URL:https://produffersorlando.com/event/thanksgiving-day-3/
LOCATION:FL
CATEGORIES:Thursday
END:VEVENT
BEGIN:VEVENT
DTSTART;TZID=America/New_York:20190926T083000
DTEND;TZID=America/New_York:20190926T140000
DTSTAMP:20260424T202503
CREATED:20190821T130558Z
LAST-MODIFIED:20190821T130558Z
UID:1767-1569486600-1569506400@produffersorlando.com
SUMMARY:Golf at Tuscawillo
DESCRIPTION:16 Players\nShotgun Start\nContact:JP
URL:https://produffersorlando.com/event/golf-at-tuscawillo/
LOCATION:Tuscawilla Country Club\, 1500 Winter Springs Blvd\, Winter Springs\, FL\, 32708\, United States
CATEGORIES:Thursday
END:VEVENT
BEGIN:VEVENT
DTSTART;TZID=America/New_York:20190919T083000
DTEND;TZID=America/New_York:20190919T140000
DTSTAMP:20260424T202503
CREATED:20190520T020030Z
LAST-MODIFIED:20190520T020030Z
UID:1669-1568881800-1568901600@produffersorlando.com
SUMMARY:Golf at Disney LBV
DESCRIPTION:32 Players\nTee-Times\nRange\nContact: Anna
URL:https://produffersorlando.com/event/golf-at-disney-lbv-3/
LOCATION:Disney’s Lake Buena Vista Golf Course\, 1960 Broadway\, Lake Buena Vista\, FL\, 32836\, United States
CATEGORIES:Thursday
END:VEVENT
END:VCALENDAR