BEGIN:VCALENDAR
VERSION:2.0
PRODID:-//Pro-Duffers Orlando - ECPv6.15.20//NONSGML v1.0//EN
CALSCALE:GREGORIAN
METHOD:PUBLISH
X-ORIGINAL-URL:https://produffersorlando.com
X-WR-CALDESC:Events for Pro-Duffers Orlando
REFRESH-INTERVAL;VALUE=DURATION:PT1H
X-Robots-Tag:noindex
X-PUBLISHED-TTL:PT1H
BEGIN:VTIMEZONE
TZID:America/New_York
BEGIN:DAYLIGHT
TZOFFSETFROM:-0500
TZOFFSETTO:-0400
TZNAME:EDT
DTSTART:20180311T070000
END:DAYLIGHT
BEGIN:STANDARD
TZOFFSETFROM:-0400
TZOFFSETTO:-0500
TZNAME:EST
DTSTART:20181104T060000
END:STANDARD
BEGIN:DAYLIGHT
TZOFFSETFROM:-0500
TZOFFSETTO:-0400
TZNAME:EDT
DTSTART:20190310T070000
END:DAYLIGHT
BEGIN:STANDARD
TZOFFSETFROM:-0400
TZOFFSETTO:-0500
TZNAME:EST
DTSTART:20191103T060000
END:STANDARD
BEGIN:DAYLIGHT
TZOFFSETFROM:-0500
TZOFFSETTO:-0400
TZNAME:EDT
DTSTART:20200308T070000
END:DAYLIGHT
BEGIN:STANDARD
TZOFFSETFROM:-0400
TZOFFSETTO:-0500
TZNAME:EST
DTSTART:20201101T060000
END:STANDARD
END:VTIMEZONE
BEGIN:VEVENT
DTSTART;TZID=America/New_York:20191107T083000
DTEND;TZID=America/New_York:20191107T140000
DTSTAMP:20260424T232058
CREATED:20190930T042001Z
LAST-MODIFIED:20190930T042001Z
UID:1800-1573115400-1573135200@produffersorlando.com
SUMMARY:Golf at Tuscawillo
DESCRIPTION:24 Platers\nShotgun Start\nContact: JP
URL:https://produffersorlando.com/event/golf-at-tuscawillo-2/
LOCATION:Tuscawilla Country Club\, 1500 Winter Springs Blvd\, Winter Springs\, FL\, 32708\, United States
CATEGORIES:Thursday
END:VEVENT
BEGIN:VEVENT
DTSTART;TZID=America/New_York:20191031T083000
DTEND;TZID=America/New_York:20191031T140000
DTSTAMP:20260424T232058
CREATED:20190927T115702Z
LAST-MODIFIED:20190927T115702Z
UID:1796-1572510600-1572530400@produffersorlando.com
SUMMARY:Golf at Kissimmee Bay
DESCRIPTION:24 Players\nShotgun Start\nG-R-L\nContact: Rick
URL:https://produffersorlando.com/event/golf-at-kissimmee-bay-6/
LOCATION:Kissimmee Bay Golf Club\, 2801 Kissimmee Bay Blvd\, Kissimmee\, FL\, 34744\, United States
CATEGORIES:Thursday
END:VEVENT
BEGIN:VEVENT
DTSTART;TZID=America/New_York:20191024T080000
DTEND;TZID=America/New_York:20191024T170000
DTSTAMP:20260424T232058
CREATED:20190520T021729Z
LAST-MODIFIED:20191009T233426Z
UID:1685-1571904000-1571936400@produffersorlando.com
SUMMARY:PDO Club Championship at Rio Pinor
DESCRIPTION:
URL:https://produffersorlando.com/event/pdo-club-championship-3/
LOCATION:FL
CATEGORIES:Thursday
END:VEVENT
BEGIN:VEVENT
DTSTART;TZID=America/New_York:20191022T080000
DTEND;TZID=America/New_York:20191022T170000
DTSTAMP:20260424T232058
CREATED:20190520T021123Z
LAST-MODIFIED:20191009T233237Z
UID:1677-1571731200-1571763600@produffersorlando.com
SUMMARY:PDO Club Championship at Rio Pinor
DESCRIPTION:
URL:https://produffersorlando.com/event/pdo-championship-at-forest-lake/
LOCATION:FL
CATEGORIES:Thursday
END:VEVENT
BEGIN:VEVENT
DTSTART;TZID=America/New_York:20191017T080000
DTEND;TZID=America/New_York:20191017T170000
DTSTAMP:20260424T232058
CREATED:20190520T021625Z
LAST-MODIFIED:20191009T233157Z
UID:1683-1571299200-1571331600@produffersorlando.com
SUMMARY:PDO Club Championship at Forest Lake
DESCRIPTION:
URL:https://produffersorlando.com/event/pdo-club-championship-2/
LOCATION:FL
CATEGORIES:Thursday
END:VEVENT
BEGIN:VEVENT
DTSTART;TZID=America/New_York:20191010T083000
DTEND;TZID=America/New_York:20191010T140000
DTSTAMP:20260424T232058
CREATED:20190927T115048Z
LAST-MODIFIED:20191009T233025Z
UID:1792-1570696200-1570716000@produffersorlando.com
SUMMARY:Golf at North Shore
DESCRIPTION:20 Players\nTee-Times\nContact: Robbie
URL:https://produffersorlando.com/event/golf-at-north-shore-3/
LOCATION:North Shore Golf Club\, 11507 N Shore Golf Club Blvd\, Orlando\, FL\, 32832\, United States
CATEGORIES:Thursday
END:VEVENT
BEGIN:VEVENT
DTSTART;TZID=America/New_York:20191003T083000
DTEND;TZID=America/New_York:20191003T140000
DTSTAMP:20260424T232058
CREATED:20190927T114427Z
LAST-MODIFIED:20190927T114427Z
UID:1787-1570091400-1570111200@produffersorlando.com
SUMMARY:Golf at Rio Pinar
DESCRIPTION:20 Players\nShotgun Start\nContact: Jim
URL:https://produffersorlando.com/event/golf-at-rio-pinar-4/
LOCATION:Rio Pinar Country Club\, 8600 El Prado Ave\, Orlando\, FL\, 32825\, United States
CATEGORIES:Thursday
END:VEVENT
BEGIN:VEVENT
DTSTART;VALUE=DATE:20190930
DTEND;VALUE=DATE:20191001
DTSTAMP:20260424T232058
CREATED:20190930T045115Z
LAST-MODIFIED:20190930T045115Z
UID:1814-1569801600-1569887999@produffersorlando.com
SUMMARY:THANKSGIVING DAY
DESCRIPTION:
URL:https://produffersorlando.com/event/thanksgiving-day-3/
LOCATION:FL
CATEGORIES:Thursday
END:VEVENT
BEGIN:VEVENT
DTSTART;TZID=America/New_York:20190926T083000
DTEND;TZID=America/New_York:20190926T140000
DTSTAMP:20260424T232058
CREATED:20190821T130558Z
LAST-MODIFIED:20190821T130558Z
UID:1767-1569486600-1569506400@produffersorlando.com
SUMMARY:Golf at Tuscawillo
DESCRIPTION:16 Players\nShotgun Start\nContact:JP
URL:https://produffersorlando.com/event/golf-at-tuscawillo/
LOCATION:Tuscawilla Country Club\, 1500 Winter Springs Blvd\, Winter Springs\, FL\, 32708\, United States
CATEGORIES:Thursday
END:VEVENT
BEGIN:VEVENT
DTSTART;TZID=America/New_York:20190919T083000
DTEND;TZID=America/New_York:20190919T140000
DTSTAMP:20260424T232058
CREATED:20190520T020030Z
LAST-MODIFIED:20190520T020030Z
UID:1669-1568881800-1568901600@produffersorlando.com
SUMMARY:Golf at Disney LBV
DESCRIPTION:32 Players\nTee-Times\nRange\nContact: Anna
URL:https://produffersorlando.com/event/golf-at-disney-lbv-3/
LOCATION:Disney’s Lake Buena Vista Golf Course\, 1960 Broadway\, Lake Buena Vista\, FL\, 32836\, United States
CATEGORIES:Thursday
END:VEVENT
BEGIN:VEVENT
DTSTART;TZID=America/New_York:20190912T083000
DTEND;TZID=America/New_York:20190912T140000
DTSTAMP:20260424T232058
CREATED:20190520T015707Z
LAST-MODIFIED:20190520T015707Z
UID:1667-1568277000-1568296800@produffersorlando.com
SUMMARY:Golf at Falcon's Fire
DESCRIPTION:28 Players\nShotgun Start\nRange\nContact: Jason
URL:https://produffersorlando.com/event/golf-at-falcons-fire-5/
LOCATION:Falcon’s Fire Golf Club\, 3200 Seralago Boulevard\, Kissimmee\, FL\, 34746\, United States
CATEGORIES:Thursday
END:VEVENT
BEGIN:VEVENT
DTSTART;TZID=America/New_York:20190905T083000
DTEND;TZID=America/New_York:20190905T140000
DTSTAMP:20260424T232058
CREATED:20190819T133913Z
LAST-MODIFIED:20190819T133913Z
UID:1760-1567672200-1567692000@produffersorlando.com
SUMMARY:Golf at North Shore
DESCRIPTION:24 Players\nShotgun Start\nContact: Robbie
URL:https://produffersorlando.com/event/golf-at-north-shore-2/
LOCATION:North Shore Golf Club\, 11507 N Shore Golf Club Blvd\, Orlando\, FL\, 32832\, United States
CATEGORIES:Thursday
END:VEVENT
BEGIN:VEVENT
DTSTART;TZID=America/New_York:20190829T080000
DTEND;TZID=America/New_York:20190829T140000
DTSTAMP:20260424T232058
CREATED:20190520T015400Z
LAST-MODIFIED:20190520T015400Z
UID:1665-1567065600-1567087200@produffersorlando.com
SUMMARY:Golf at Reunion (Nicklaus)
DESCRIPTION:32 Players\nShotgun Start\nRange\nContact: Paul
URL:https://produffersorlando.com/event/golf-at-reunion-nicklaus-4/
LOCATION:Reunion Resort Golf Course\, 7593 Grathing Dr\, Kissimmee\, FL\, 34747\, United States
CATEGORIES:Thursday
END:VEVENT
BEGIN:VEVENT
DTSTART;TZID=America/New_York:20190822T083000
DTEND;TZID=America/New_York:20190822T140000
DTSTAMP:20260424T232058
CREATED:20190520T014832Z
LAST-MODIFIED:20190520T014832Z
UID:1661-1566462600-1566482400@produffersorlando.com
SUMMARY:Golf at Disney (Palm)
DESCRIPTION:32 Players\nTee-Times\nRange\nContact: Anna
URL:https://produffersorlando.com/event/golf-at-disney-palm-2/
LOCATION:Disney’s Palm Golf Course\, 1950 Magnolia Palm Drive\, Orlando\, FL\, 32830\, United States
CATEGORIES:Thursday
END:VEVENT
BEGIN:VEVENT
DTSTART;TZID=America/New_York:20190815T083000
DTEND;TZID=America/New_York:20190815T140000
DTSTAMP:20260424T232058
CREATED:20190520T014246Z
LAST-MODIFIED:20190520T014246Z
UID:1657-1565857800-1565877600@produffersorlando.com
SUMMARY:Golf at Eagle Creek
DESCRIPTION:28 Players\nShotgun Start\nRange\nContact: Mike
URL:https://produffersorlando.com/event/golf-at-eagle-creek-6/
LOCATION:Eagle Creek Golf Club\, 10350 Emerson Lake Blvd\, Orlando\, FL\, 32832\, United States
CATEGORIES:Thursday
END:VEVENT
BEGIN:VEVENT
DTSTART;TZID=America/New_York:20190808T083000
DTEND;TZID=America/New_York:20190808T140000
DTSTAMP:20260424T232058
CREATED:20190520T013422Z
LAST-MODIFIED:20190520T013422Z
UID:1653-1565253000-1565272800@produffersorlando.com
SUMMARY:Golf at Falcon's Fire
DESCRIPTION:28 Players\nShotgun Start\nRange\nContact: Jason
URL:https://produffersorlando.com/event/golf-at-falcons-fire-4/
LOCATION:Falcon’s Fire Golf Club\, 3200 Seralago Boulevard\, Kissimmee\, FL\, 34746\, United States
CATEGORIES:Thursday
END:VEVENT
BEGIN:VEVENT
DTSTART;TZID=America/New_York:20190725T083000
DTEND;TZID=America/New_York:20190725T140000
DTSTAMP:20260424T232058
CREATED:20190518T121212Z
LAST-MODIFIED:20190518T121212Z
UID:1643-1564043400-1564063200@produffersorlando.com
SUMMARY:Golf at Reunion (Palmer)
DESCRIPTION:32 Players\nShotgun Start\nRange\nContact: Paul
URL:https://produffersorlando.com/event/golf-at-reunion-palmer/
LOCATION:Reunion Resort Golf Course\, 7593 Grathing Dr\, Kissimmee\, FL\, 34747\, United States
CATEGORIES:Thursday
END:VEVENT
BEGIN:VEVENT
DTSTART;TZID=America/New_York:20190718T093000
DTEND;TZID=America/New_York:20190718T140000
DTSTAMP:20260424T232058
CREATED:20190518T120739Z
LAST-MODIFIED:20190518T120739Z
UID:1639-1563442200-1563458400@produffersorlando.com
SUMMARY:Golf at Disney LBV
DESCRIPTION:32 Players\nTee-Times\nRange\nContact: Anna
URL:https://produffersorlando.com/event/golf-at-disney-lbv-2/
LOCATION:Disney’s Lake Buena Vista Golf Course\, 1960 Broadway\, Lake Buena Vista\, FL\, 32836\, United States
CATEGORIES:Thursday
END:VEVENT
BEGIN:VEVENT
DTSTART;TZID=America/New_York:20190711T083000
DTEND;TZID=America/New_York:20190711T140000
DTSTAMP:20260424T232058
CREATED:20190518T120349Z
LAST-MODIFIED:20190518T120349Z
UID:1635-1562833800-1562853600@produffersorlando.com
SUMMARY:Golf at Southern Dunes
DESCRIPTION:28 Players\nShotgun Start\nRange\nContact: Kevin
URL:https://produffersorlando.com/event/golf-at-southern-dunes-2/
LOCATION:Southern Dunes Golf and Country Club\, 2888 Southern Dunes Blvd\, Haines City\, FL\, 33844\, United States
CATEGORIES:Thursday
END:VEVENT
BEGIN:VEVENT
DTSTART;TZID=America/New_York:20190627T083000
DTEND;TZID=America/New_York:20190627T140000
DTSTAMP:20260424T232058
CREATED:20190502T172921Z
LAST-MODIFIED:20190502T172921Z
UID:1610-1561624200-1561644000@produffersorlando.com
SUMMARY:Golf at Orange County National ( Panther Lake)
DESCRIPTION:28 Players\nShotgun Start\nRange\nContact: James V.
URL:https://produffersorlando.com/event/golf-at-orange-county-national-panther-lake/
LOCATION:Orange County National Golf Center\, 16301 Phil Ritson Way\, Winter Garden\, FL\, 34787\, United States
CATEGORIES:Thursday
END:VEVENT
BEGIN:VEVENT
DTSTART;TZID=America/New_York:20190620T120000
DTEND;TZID=America/New_York:20190621T170000
DTSTAMP:20260424T232058
CREATED:20190502T172321Z
LAST-MODIFIED:20190502T172321Z
UID:1606-1561032000-1561136400@produffersorlando.com
SUMMARY:PDO Outing Jacksonville
DESCRIPTION:
URL:https://produffersorlando.com/event/pdo-outing-jacksonville/
LOCATION:FL
CATEGORIES:Thursday
END:VEVENT
BEGIN:VEVENT
DTSTART;TZID=America/New_York:20190613T080000
DTEND;TZID=America/New_York:20190613T170000
DTSTAMP:20260424T232058
CREATED:20190502T171700Z
LAST-MODIFIED:20190529T192606Z
UID:1601-1560412800-1560445200@produffersorlando.com
SUMMARY:Golf at Reunion (Watson)
DESCRIPTION:32 Players\nRange\nShotgun Start\nContact: Paul
URL:https://produffersorlando.com/event/golf-at-reunion-nicklaus-3/
LOCATION:Reunion Resort Golf Course\, 7593 Grathing Dr\, Kissimmee\, FL\, 34747\, United States
CATEGORIES:Thursday
END:VEVENT
BEGIN:VEVENT
DTSTART;TZID=America/New_York:20190606T083000
DTEND;TZID=America/New_York:20190606T140000
DTSTAMP:20260424T232058
CREATED:20190502T170931Z
LAST-MODIFIED:20190502T170931Z
UID:1597-1559809800-1559829600@produffersorlando.com
SUMMARY:Golf at Shingle Creek
DESCRIPTION:32 Players\nRange\nShotgun Start\nContact: Jason
URL:https://produffersorlando.com/event/golf-at-shingle-creek-5/
LOCATION:Shingle Creek Golf Club\, 9939 Universal Boulevard\, Orlando\, FL\, 32819\, United States
CATEGORIES:Thursday
END:VEVENT
BEGIN:VEVENT
DTSTART;TZID=America/New_York:20190530T083000
DTEND;TZID=America/New_York:20190530T140000
DTSTAMP:20260424T232058
CREATED:20190302T054302Z
LAST-MODIFIED:20190302T054302Z
UID:1487-1559205000-1559224800@produffersorlando.com
SUMMARY:Golf at Celebration
DESCRIPTION:32 Players\nShotgun Start\nLunch\nContact: Jeff
URL:https://produffersorlando.com/event/golf-at-celebration-8/
LOCATION:FL
CATEGORIES:Thursday
END:VEVENT
BEGIN:VEVENT
DTSTART;TZID=America/New_York:20190523T083000
DTEND;TZID=America/New_York:20190523T140000
DTSTAMP:20260424T232058
CREATED:20190318T152751Z
LAST-MODIFIED:20190318T152751Z
UID:1502-1558600200-1558620000@produffersorlando.com
SUMMARY:Golf at Reunion (Nicklaus)
DESCRIPTION:32 Players\nShotgun Start\nRange\nContact: Paul
URL:https://produffersorlando.com/event/golf-at-reunion-nicklaus-2/
LOCATION:Reunion Resort Golf Course\, 7593 Grathing Dr\, Kissimmee\, FL\, 34747\, United States
CATEGORIES:Thursday
END:VEVENT
BEGIN:VEVENT
DTSTART;TZID=America/New_York:20190516T083000
DTEND;TZID=America/New_York:20190516T140000
DTSTAMP:20260424T232058
CREATED:20190502T170049Z
LAST-MODIFIED:20190502T170049Z
UID:1592-1557995400-1558015200@produffersorlando.com
SUMMARY:Golf at Disney Magnolia
DESCRIPTION:32 Players\nTee-Times\nRange
URL:https://produffersorlando.com/event/golf-at-disney-magnolia-2/
LOCATION:Disney’s Magnolia Golf Course\, 1950 Magnolia Palm Drive\, Orlando\, FL\, 32836\, United States
CATEGORIES:Thursday
END:VEVENT
BEGIN:VEVENT
DTSTART;TZID=America/New_York:20190509T083000
DTEND;TZID=America/New_York:20190509T140000
DTSTAMP:20260424T232058
CREATED:20190502T165234Z
LAST-MODIFIED:20190502T165234Z
UID:1588-1557390600-1557410400@produffersorlando.com
SUMMARY:Golf at Metrowest
DESCRIPTION:28 Players\nShotgun Start\nRange
URL:https://produffersorlando.com/event/golf-at-metrowest-11/
LOCATION:Metrowest Golf Club\, 2100 Hiawassee
CATEGORIES:Thursday
END:VEVENT
BEGIN:VEVENT
DTSTART;TZID=America/New_York:20190425T083000
DTEND;TZID=America/New_York:20190425T140000
DTSTAMP:20260424T232058
CREATED:20190302T053352Z
LAST-MODIFIED:20190302T053352Z
UID:1481-1556181000-1556200800@produffersorlando.com
SUMMARY:Golf at Monarch
DESCRIPTION:24 Players\nShotgun Start\nContact: Craig
URL:https://produffersorlando.com/event/golf-at-monarch-3/
LOCATION:Monarch Golf Club\, 5325 St. Andrews Arc\, Leesburg\, FL\, 34748-7964\, United States
CATEGORIES:Thursday
END:VEVENT
BEGIN:VEVENT
DTSTART;TZID=America/New_York:20190418T083000
DTEND;TZID=America/New_York:20190418T140000
DTSTAMP:20260424T232058
CREATED:20190302T052820Z
LAST-MODIFIED:20190302T052820Z
UID:1476-1555576200-1555596000@produffersorlando.com
SUMMARY:Golf at Heathrow
DESCRIPTION:32 Players\nShotgun Start\nRange\nContact Wayne
URL:https://produffersorlando.com/event/golf-at-heathrow-4/
LOCATION:Heathrow Country Club\, 1200 Bridgewater Drive\, Heathrow\, FL\, 32746\, United States
CATEGORIES:Thursday
END:VEVENT
BEGIN:VEVENT
DTSTART;TZID=America/New_York:20190411T083000
DTEND;TZID=America/New_York:20190411T140000
DTSTAMP:20260424T232058
CREATED:20190302T052126Z
LAST-MODIFIED:20190302T052126Z
UID:1472-1554971400-1554991200@produffersorlando.com
SUMMARY:Golf at Remington
DESCRIPTION:28 Players\nShotgun Start\nLunch Included\nContact: Rick
URL:https://produffersorlando.com/event/golf-at-remington-6/
LOCATION:Remington Golf Club\, 2995 Remingtong Blvd\, Kissimmee\, FL\, 34774\, United States
CATEGORIES:Thursday
END:VEVENT
END:VCALENDAR