BEGIN:VCALENDAR
VERSION:2.0
PRODID:-//Pro-Duffers Orlando - ECPv6.15.20//NONSGML v1.0//EN
CALSCALE:GREGORIAN
METHOD:PUBLISH
X-ORIGINAL-URL:https://produffersorlando.com
X-WR-CALDESC:Events for Pro-Duffers Orlando
REFRESH-INTERVAL;VALUE=DURATION:PT1H
X-Robots-Tag:noindex
X-PUBLISHED-TTL:PT1H
BEGIN:VTIMEZONE
TZID:America/New_York
BEGIN:DAYLIGHT
TZOFFSETFROM:-0500
TZOFFSETTO:-0400
TZNAME:EDT
DTSTART:20170312T070000
END:DAYLIGHT
BEGIN:STANDARD
TZOFFSETFROM:-0400
TZOFFSETTO:-0500
TZNAME:EST
DTSTART:20171105T060000
END:STANDARD
BEGIN:DAYLIGHT
TZOFFSETFROM:-0500
TZOFFSETTO:-0400
TZNAME:EDT
DTSTART:20180311T070000
END:DAYLIGHT
BEGIN:STANDARD
TZOFFSETFROM:-0400
TZOFFSETTO:-0500
TZNAME:EST
DTSTART:20181104T060000
END:STANDARD
BEGIN:DAYLIGHT
TZOFFSETFROM:-0500
TZOFFSETTO:-0400
TZNAME:EDT
DTSTART:20190310T070000
END:DAYLIGHT
BEGIN:STANDARD
TZOFFSETFROM:-0400
TZOFFSETTO:-0500
TZNAME:EST
DTSTART:20191103T060000
END:STANDARD
END:VTIMEZONE
BEGIN:VEVENT
DTSTART;TZID=America/New_York:20181108T090000
DTEND;TZID=America/New_York:20181108T140000
DTSTAMP:20260425T063102
CREATED:20180902T132204Z
LAST-MODIFIED:20180902T132204Z
UID:1314-1541667600-1541685600@produffersorlando.com
SUMMARY:Golf at Mission Inn (Los Colinas)
DESCRIPTION:28 Players\nRange\nContact: Taylor
URL:https://produffersorlando.com/event/golf-at-mission-inn-los-colinas-2/
LOCATION:Mission Inn\, 26000 Gasper Ct\, Howey in the Hills\, FL\, 34747
CATEGORIES:Thursday
END:VEVENT
BEGIN:VEVENT
DTSTART;TZID=America/New_York:20181101T083000
DTEND;TZID=America/New_York:20181101T140000
DTSTAMP:20260425T063102
CREATED:20181026T183623Z
LAST-MODIFIED:20181026T183623Z
UID:1329-1541061000-1541080800@produffersorlando.com
SUMMARY:Golf at Mystic Dunes
DESCRIPTION:28 Players\nContact: Cory
URL:https://produffersorlando.com/event/golf-at-mystic-dunes/
LOCATION:Mystic Dunes Golf Club\, 7600 Mystic Dunes Lane\, Celebration\, FL\, 34747\, United States
CATEGORIES:Thursday
END:VEVENT
BEGIN:VEVENT
DTSTART;TZID=America/New_York:20181025T083000
DTEND;TZID=America/New_York:20181025T140000
DTSTAMP:20260425T063102
CREATED:20180830T023153Z
LAST-MODIFIED:20180830T183705Z
UID:1306-1540456200-1540476000@produffersorlando.com
SUMMARY:Golf at Rio Pinar
DESCRIPTION:28 Players\nShotgun Start\nRange Balls\nContact: Tony
URL:https://produffersorlando.com/event/golf-at-rio-pinar-2/
LOCATION:Rio Pinar Country Club\, 8600 El Prado Ave\, Orlando\, FL\, 32825\, United States
CATEGORIES:Thursday
END:VEVENT
BEGIN:VEVENT
DTSTART;TZID=America/New_York:20181011T083000
DTEND;TZID=America/New_York:20181011T140000
DTSTAMP:20260425T063102
CREATED:20180819T182958Z
LAST-MODIFIED:20180819T182958Z
UID:1275-1539246600-1539266400@produffersorlando.com
SUMMARY:Golf at Redtail
DESCRIPTION:28 players\nShotgun Start\nRange\nContact: Baya
URL:https://produffersorlando.com/event/golf-at-redtail-4/
LOCATION:FL
CATEGORIES:Thursday
END:VEVENT
BEGIN:VEVENT
DTSTART;TZID=America/New_York:20181004T083000
DTEND;TZID=America/New_York:20181004T140000
DTSTAMP:20260425T063102
CREATED:20180819T182517Z
LAST-MODIFIED:20180819T182517Z
UID:1271-1538641800-1538661600@produffersorlando.com
SUMMARY:Golf at Disney LBV
DESCRIPTION:32 Players\nRange\nTee-Times\nContact: Anna
URL:https://produffersorlando.com/event/golf-at-disney-lbv/
LOCATION:Disney’s Lake Buena Vista Golf Course\, 1960 Broadway\, Lake Buena Vista\, FL\, 32836\, United States
CATEGORIES:Thursday
END:VEVENT
BEGIN:VEVENT
DTSTART;TZID=America/New_York:20180927T083000
DTEND;TZID=America/New_York:20180927T140000
DTSTAMP:20260425T063102
CREATED:20180819T180156Z
LAST-MODIFIED:20180921T190546Z
UID:1262-1538037000-1538056800@produffersorlando.com
SUMMARY:Golf at Eastwood (CANCELED)
DESCRIPTION:28 Players\nContact: Francis
URL:https://produffersorlando.com/event/golf-at-eastwood-4/
LOCATION:Eastwood Golf Club\, 13950 Golfway Blvd\, Orlando\, FL\, 32828\, United States
CATEGORIES:Thursday
END:VEVENT
BEGIN:VEVENT
DTSTART;TZID=America/New_York:20180920T090000
DTEND;TZID=America/New_York:20180920T140000
DTSTAMP:20260425T063102
CREATED:20180821T164601Z
LAST-MODIFIED:20180821T164601Z
UID:1287-1537434000-1537452000@produffersorlando.com
SUMMARY:Golf at Heathrow
DESCRIPTION:24 Players (MAX)\nShotgun Start\nRange\nContact:Steve/JP
URL:https://produffersorlando.com/event/golf-at-heathrow-2/
LOCATION:Heathrow Country Club\, 1200 Bridgewater Drive\, Heathrow\, FL\, 32746\, United States
CATEGORIES:Thursday
END:VEVENT
BEGIN:VEVENT
DTSTART;TZID=America/New_York:20180913T083000
DTEND;TZID=America/New_York:20180913T140000
DTSTAMP:20260425T063102
CREATED:20180822T140531Z
LAST-MODIFIED:20180830T235740Z
UID:1292-1536827400-1536847200@produffersorlando.com
SUMMARY:Golf at Reunion (Watson)
DESCRIPTION:32 Players\nShotgun Start\nRange\nContact: Paul Barrett
URL:https://produffersorlando.com/event/golf-at-forest-lake-5/
LOCATION:Reunion Resort Golf Course\, 7593 Grathing Dr\, Kissimmee\, FL\, 34747\, United States
CATEGORIES:Thursday
END:VEVENT
BEGIN:VEVENT
DTSTART;TZID=America/New_York:20180906T080000
DTEND;TZID=America/New_York:20180906T140000
DTSTAMP:20260425T063102
CREATED:20180804T100725Z
LAST-MODIFIED:20180804T100725Z
UID:1236-1536220800-1536242400@produffersorlando.com
SUMMARY:Golf at Highland Reserve
DESCRIPTION:28 Players\nShotgun Start\nContact: Greg
URL:https://produffersorlando.com/event/golf-at-highland-reserve-5/
LOCATION:Highland Reserve Golf Club\, 500 Highlands Reserve Blvd\, Davenport\, FL\, 33897\, United States
CATEGORIES:Thursday
END:VEVENT
BEGIN:VEVENT
DTSTART;TZID=America/New_York:20180830T083000
DTEND;TZID=America/New_York:20180830T140000
DTSTAMP:20260425T063102
CREATED:20180712T191505Z
LAST-MODIFIED:20180819T172345Z
UID:1222-1535617800-1535637600@produffersorlando.com
SUMMARY:Golf at Reunion (Palmer)
DESCRIPTION:32 Players\nShotgun Start\nRange\nContact: Paul
URL:https://produffersorlando.com/event/golf-at-reunion-watson-club-outing/
LOCATION:Reunion Resort Golf Course\, 7593 Grathing Dr\, Kissimmee\, FL\, 34747\, United States
CATEGORIES:Thursday
END:VEVENT
BEGIN:VEVENT
DTSTART;TZID=America/New_York:20180823T083000
DTEND;TZID=America/New_York:20180823T140000
DTSTAMP:20260425T063102
CREATED:20180712T190806Z
LAST-MODIFIED:20180712T190806Z
UID:1218-1535013000-1535032800@produffersorlando.com
SUMMARY:Golf at Southern Dunes
DESCRIPTION:28 Players\nContact: Nick/Kevin
URL:https://produffersorlando.com/event/golf-at-southern-dunes/
LOCATION:Southern Dunes Golf and Country Club\, 2888 Southern Dunes Blvd\, Haines City\, FL\, 33844\, United States
CATEGORIES:Thursday
END:VEVENT
BEGIN:VEVENT
DTSTART;TZID=America/New_York:20180816T083000
DTEND;TZID=America/New_York:20180816T140000
DTSTAMP:20260425T063102
CREATED:20180712T184315Z
LAST-MODIFIED:20180804T224042Z
UID:1211-1534408200-1534428000@produffersorlando.com
SUMMARY:Golf at Legacy
DESCRIPTION:32 Players\nShotgun Start\nContact: JP
URL:https://produffersorlando.com/event/golf-at-metrowest-5/
LOCATION:Legacy Club at Alaqua Lakes\, 1700 Alaqua Lakes Blvd\, Longwood\, FL\, 32779\, United States
CATEGORIES:Thursday
END:VEVENT
BEGIN:VEVENT
DTSTART;TZID=America/New_York:20180809T080000
DTEND;TZID=America/New_York:20180809T140000
DTSTAMP:20260425T063102
CREATED:20180712T183443Z
LAST-MODIFIED:20180712T183443Z
UID:1207-1533801600-1533823200@produffersorlando.com
SUMMARY:Golf at Disney Palm
DESCRIPTION:28 Players\nShotgun Start\nRange Balls\nContact: Anna
URL:https://produffersorlando.com/event/golf-at-disney-palm/
LOCATION:Disney’s Palm Golf Course\, 1950 Magnolia Palm Drive\, Orlando\, FL\, 32830\, United States
CATEGORIES:Thursday
END:VEVENT
BEGIN:VEVENT
DTSTART;TZID=America/New_York:20180802T083000
DTEND;TZID=America/New_York:20180802T140000
DTSTAMP:20260425T063102
CREATED:20180712T182915Z
LAST-MODIFIED:20180712T182915Z
UID:1203-1533198600-1533218400@produffersorlando.com
SUMMARY:Golf at Redtail
DESCRIPTION:28 Players\nRange Balls\nContact: Baya
URL:https://produffersorlando.com/event/golf-at-redtail-3/
LOCATION:Redtail Golf Club\, 21600 Covered Bridge Lane\, Sorrento\, FL\, 32776\, United States
CATEGORIES:Thursday
END:VEVENT
BEGIN:VEVENT
DTSTART;TZID=America/New_York:20180726T083000
DTEND;TZID=America/New_York:20180726T140000
DTSTAMP:20260425T063102
CREATED:20180623T051544Z
LAST-MODIFIED:20180623T051544Z
UID:1195-1532593800-1532613600@produffersorlando.com
SUMMARY:Golf at Falcon's Fire
DESCRIPTION:32 Players\nShotgun Start\nContact: Jason
URL:https://produffersorlando.com/event/golf-at-falcons-fire/
LOCATION:Falcon’s Fire Golf Club\, 3200 Seralago Boulevard\, Kissimmee\, FL\, 34746\, United States
CATEGORIES:Thursday
END:VEVENT
BEGIN:VEVENT
DTSTART;TZID=America/New_York:20180719T083000
DTEND;TZID=America/New_York:20180719T140000
DTSTAMP:20260425T063102
CREATED:20180623T050911Z
LAST-MODIFIED:20180623T050911Z
UID:1191-1531989000-1532008800@produffersorlando.com
SUMMARY:Golf at Legacy
DESCRIPTION:28 Players\nShotgun Start\nRange\nContact: JP
URL:https://produffersorlando.com/event/golf-at-legacy-3/
LOCATION:Legacy Club at Alaqua Lakes\, 1700 Alaqua Lakes Blvd\, Longwood\, FL\, 32779\, United States
CATEGORIES:Thursday
END:VEVENT
BEGIN:VEVENT
DTSTART;TZID=America/New_York:20180712T083000
DTEND;TZID=America/New_York:20180712T140000
DTSTAMP:20260425T063102
CREATED:20180623T045611Z
LAST-MODIFIED:20180623T045611Z
UID:1185-1531384200-1531404000@produffersorlando.com
SUMMARY:Golf at Timacuan
DESCRIPTION:28 Players\nShotgun Start\nRange\nContact: Joe
URL:https://produffersorlando.com/event/golf-at-timacuan-3/
LOCATION:Timacuan Golf Club\, 550 Timacuan Blvd\, Lake Mary\, FL\, 32746\, United States
CATEGORIES:Thursday
END:VEVENT
BEGIN:VEVENT
DTSTART;TZID=America/New_York:20180705T083000
DTEND;TZID=America/New_York:20180705T140000
DTSTAMP:20260425T063102
CREATED:20180623T044850Z
LAST-MODIFIED:20180623T044850Z
UID:1181-1530779400-1530799200@produffersorlando.com
SUMMARY:Golf at Hawk's Landing
DESCRIPTION:28 Players\nShotgun Start\nRange\nContact: Derrick
URL:https://produffersorlando.com/event/golf-at-hawks-landing-3/
LOCATION:Hawk’s Landing Golf Club at the Orlando World Center Marriott\, 8701 World Center Drive\, Orlando\, FL\, 32821\, United States
CATEGORIES:Thursday
END:VEVENT
BEGIN:VEVENT
DTSTART;TZID=America/New_York:20180628T083000
DTEND;TZID=America/New_York:20180628T140000
DTSTAMP:20260425T063102
CREATED:20180413T023730Z
LAST-MODIFIED:20180413T023730Z
UID:1142-1530174600-1530194400@produffersorlando.com
SUMMARY:Golf at Deer Run
DESCRIPTION:28 Players\nGolf\, Lunch\nShotgun Start\nContact: Attila
URL:https://produffersorlando.com/event/golf-at-deer-run-4/
LOCATION:Deer Run Country Club\, 300 Daneswood Way\, Casselberry\, FL\, 32707\, United States
CATEGORIES:Thursday
END:VEVENT
BEGIN:VEVENT
DTSTART;TZID=America/New_York:20180621T083000
DTEND;TZID=America/New_York:20180621T140000
DTSTAMP:20260425T063102
CREATED:20180413T023156Z
LAST-MODIFIED:20180413T023156Z
UID:1138-1529569800-1529589600@produffersorlando.com
SUMMARY:Golf at Celebration
DESCRIPTION:32 Players\nShotgun Start\nGolf\, Range\, Lunch\nContact: Daniel
URL:https://produffersorlando.com/event/golf-at-celebration-6/
LOCATION:Celebration Golf Club\, 701 GolfparkDrive\, Kissimmee\, FL\, 34747\, United States
CATEGORIES:Thursday
END:VEVENT
BEGIN:VEVENT
DTSTART;TZID=America/New_York:20180614T083000
DTEND;TZID=America/New_York:20180614T140000
DTSTAMP:20260425T063102
CREATED:20180413T022507Z
LAST-MODIFIED:20180413T022507Z
UID:1134-1528965000-1528984800@produffersorlando.com
SUMMARY:Golf at Shingle Creek
DESCRIPTION:30 Players\nRange\nShotgun Start\nContact: Jason
URL:https://produffersorlando.com/event/golf-at-shingle-creek-3/
LOCATION:Shingle Creek Golf Club\, 9939 Universal Boulevard\, Orlando\, FL\, 32819\, United States
CATEGORIES:Thursday
END:VEVENT
BEGIN:VEVENT
DTSTART;TZID=America/New_York:20180607T083000
DTEND;TZID=America/New_York:20180607T140000
DTSTAMP:20260425T063102
CREATED:20180427T183832Z
LAST-MODIFIED:20180427T183832Z
UID:1151-1528360200-1528380000@produffersorlando.com
SUMMARY:Golf at Champions Gate C.C.
DESCRIPTION:24 players\nRange\nContact: Todd
URL:https://produffersorlando.com/event/golf-at-champions-gate-c-c-2/
LOCATION:Champions Gate Country Club\, 8950 Clifton Draw Drive\, Davenport\, FL\, 33896\, United States
CATEGORIES:Thursday
END:VEVENT
BEGIN:VEVENT
DTSTART;TZID=America/New_York:20180531T083000
DTEND;TZID=America/New_York:20180531T140000
DTSTAMP:20260425T063102
CREATED:20180412T200504Z
LAST-MODIFIED:20180412T200504Z
UID:1127-1527755400-1527775200@produffersorlando.com
SUMMARY:Golf at Stoneybrook West
DESCRIPTION:28 players\nRange\nContact: Steve
URL:https://produffersorlando.com/event/golf-at-stoneybrook-west-2/
LOCATION:Stoneybrook West Golf Club\, 15501 Towne Commons Blvd\, Winter Garden\, FL\, 34787\, United States
CATEGORIES:Thursday
END:VEVENT
BEGIN:VEVENT
DTSTART;TZID=America/New_York:20180524T083000
DTEND;TZID=America/New_York:20180524T140000
DTSTAMP:20260425T063102
CREATED:20180409T173617Z
LAST-MODIFIED:20180409T173617Z
UID:1122-1527150600-1527170400@produffersorlando.com
SUMMARY:Golf at Shingle Creek
DESCRIPTION:Shotgun Start\nRange\nJason
URL:https://produffersorlando.com/event/golf-at-shingle-creek-2/
LOCATION:Shingle Creek Golf Club\, 9939 Universal Boulevard\, Orlando\, FL\, 32819\, United States
CATEGORIES:Thursday
END:VEVENT
BEGIN:VEVENT
DTSTART;TZID=America/New_York:20180517T080000
DTEND;TZID=America/New_York:20180517T140000
DTSTAMP:20260425T063102
CREATED:20180409T025638Z
LAST-MODIFIED:20180409T025638Z
UID:1118-1526544000-1526565600@produffersorlando.com
SUMMARY:Golf at Celebration
DESCRIPTION:Golf-Range-Lunch\nDaniel
URL:https://produffersorlando.com/event/golf-at-celebration-5/
LOCATION:Celebration Golf Club\, 701 GolfparkDrive\, Kissimmee\, FL\, 34747\, United States
CATEGORIES:Thursday
END:VEVENT
BEGIN:VEVENT
DTSTART;TZID=America/New_York:20180510T080000
DTEND;TZID=America/New_York:20180510T140000
DTSTAMP:20260425T063102
CREATED:20180409T025431Z
LAST-MODIFIED:20180409T025431Z
UID:1116-1525939200-1525960800@produffersorlando.com
SUMMARY:Golf at Ridgewood Lakes
DESCRIPTION:Shotgun Start\nEvelyn\Mike
URL:https://produffersorlando.com/event/golf-at-ridgewood-lakes-3/
LOCATION:White Heron at Ridgewood Lakes\, 200 Eagle Ridge Drive\, Davenport\, 33837\, United States
CATEGORIES:Thursday
END:VEVENT
BEGIN:VEVENT
DTSTART;VALUE=DATE:20180503
DTEND;VALUE=DATE:20180504
DTSTAMP:20260425T063102
CREATED:20180323T161538Z
LAST-MODIFIED:20180323T161923Z
UID:1107-1525305600-1525391999@produffersorlando.com
SUMMARY:NO PLAY
DESCRIPTION:
URL:https://produffersorlando.com/event/no-play/
LOCATION:FL
CATEGORIES:Thursday
END:VEVENT
BEGIN:VEVENT
DTSTART;TZID=America/New_York:20180426T080000
DTEND;TZID=America/New_York:20180426T140000
DTSTAMP:20260425T063102
CREATED:20180221T205717Z
LAST-MODIFIED:20180221T205745Z
UID:1094-1524729600-1524751200@produffersorlando.com
SUMMARY:Golf at Northshore
DESCRIPTION:32 Players\nShotgun Start\nRobbie
URL:https://produffersorlando.com/event/golf-at-northshore-3/
LOCATION:North Shore Golf Club\, 11507 N Shore Golf Club Blvd\, Orlando\, FL\, 32832\, United States
CATEGORIES:Thursday
END:VEVENT
BEGIN:VEVENT
DTSTART;TZID=America/New_York:20180419T080000
DTEND;TZID=America/New_York:20180419T140000
DTSTAMP:20260425T063102
CREATED:20180221T205243Z
LAST-MODIFIED:20180221T205305Z
UID:1089-1524124800-1524146400@produffersorlando.com
SUMMARY:Golf at Highland Reserve
DESCRIPTION:32 Players\nShotgun Start\nGreg
URL:https://produffersorlando.com/event/golf-at-highland-reserve-2/
LOCATION:Highland Reserve Golf Club\, 500 Highlands Reserve Blvd\, Davenport\, FL\, 33897\, United States
CATEGORIES:Thursday
END:VEVENT
BEGIN:VEVENT
DTSTART;TZID=America/New_York:20180412T083000
DTEND;TZID=America/New_York:20180412T140000
DTSTAMP:20260425T063102
CREATED:20180221T204505Z
LAST-MODIFIED:20180221T204505Z
UID:1085-1523521800-1523541600@produffersorlando.com
SUMMARY:Golf at Deer Run
DESCRIPTION:28 Players\nGolf-Range-Lunch\nAltula
URL:https://produffersorlando.com/event/golf-at-deer-run-2/
LOCATION:Deer Run Country Club\, 300 Daneswood Way\, Casselberry\, FL\, 32707\, United States
CATEGORIES:Thursday
END:VEVENT
END:VCALENDAR