BEGIN:VCALENDAR
VERSION:2.0
PRODID:-//Pro-Duffers Orlando - ECPv6.15.20//NONSGML v1.0//EN
CALSCALE:GREGORIAN
METHOD:PUBLISH
X-WR-CALNAME:Pro-Duffers Orlando
X-ORIGINAL-URL:https://produffersorlando.com
X-WR-CALDESC:Events for Pro-Duffers Orlando
REFRESH-INTERVAL;VALUE=DURATION:PT1H
X-Robots-Tag:noindex
X-PUBLISHED-TTL:PT1H
BEGIN:VTIMEZONE
TZID:America/New_York
BEGIN:DAYLIGHT
TZOFFSETFROM:-0500
TZOFFSETTO:-0400
TZNAME:EDT
DTSTART:20160313T070000
END:DAYLIGHT
BEGIN:STANDARD
TZOFFSETFROM:-0400
TZOFFSETTO:-0500
TZNAME:EST
DTSTART:20161106T060000
END:STANDARD
BEGIN:DAYLIGHT
TZOFFSETFROM:-0500
TZOFFSETTO:-0400
TZNAME:EDT
DTSTART:20170312T070000
END:DAYLIGHT
BEGIN:STANDARD
TZOFFSETFROM:-0400
TZOFFSETTO:-0500
TZNAME:EST
DTSTART:20171105T060000
END:STANDARD
BEGIN:DAYLIGHT
TZOFFSETFROM:-0500
TZOFFSETTO:-0400
TZNAME:EDT
DTSTART:20180311T070000
END:DAYLIGHT
BEGIN:STANDARD
TZOFFSETFROM:-0400
TZOFFSETTO:-0500
TZNAME:EST
DTSTART:20181104T060000
END:STANDARD
END:VTIMEZONE
BEGIN:VTIMEZONE
TZID:UTC
BEGIN:STANDARD
TZOFFSETFROM:+0000
TZOFFSETTO:+0000
TZNAME:UTC
DTSTART:20160101T000000
END:STANDARD
END:VTIMEZONE
BEGIN:VEVENT
DTSTART;TZID=America/New_York:20170907T080000
DTEND;TZID=America/New_York:20170907T140000
DTSTAMP:20260425T152354
CREATED:20170808T144515Z
LAST-MODIFIED:20170902T034458Z
UID:689-1504771200-1504792800@produffersorlando.com
SUMMARY:Golf at Hawk's Landing
DESCRIPTION:36 Tee-Times Range/Shotgun Start \nContact- Derek Sundberg
URL:https://produffersorlando.com/event/golf-at-hawks-landing/
LOCATION:Hawk’s Landing Golf Club at the Orlando World Center Marriott\, 8701 World Center Drive\, Orlando\, FL\, 32821\, United States
CATEGORIES:Thursday
END:VEVENT
BEGIN:VEVENT
DTSTART;TZID=UTC:20170831T083000
DTEND;TZID=UTC:20170831T133000
DTSTAMP:20260425T152354
CREATED:20170629T092304Z
LAST-MODIFIED:20170802T175709Z
UID:130-1504168200-1504186200@produffersorlando.com
SUMMARY:Golf at Shingle Creek
DESCRIPTION:Shotgun start at 8:30am. The $39 fee for golf includes range balls.
URL:https://produffersorlando.com/event/8-31-2017/
LOCATION:Shingle Creek Golf Club\, 9939 Universal Boulevard\, Orlando\, FL\, 32819\, United States
CATEGORIES:Thursday
END:VEVENT
BEGIN:VEVENT
DTSTART;TZID=UTC:20170824T080000
DTEND;TZID=UTC:20170824T130000
DTSTAMP:20260425T152354
CREATED:20170629T091905Z
LAST-MODIFIED:20170702T033844Z
UID:126-1503561600-1503579600@produffersorlando.com
SUMMARY:Golf at Falcon's Fire
DESCRIPTION:Shotgun start at 8:00am. The fee is $30\, which includes golf\, range balls and tax.
URL:https://produffersorlando.com/event/8-24-2017/
LOCATION:Falcon’s Fire Golf Club\, 3200 Seralago Boulevard\, Kissimmee\, FL\, 34746\, United States
CATEGORIES:Thursday
END:VEVENT
BEGIN:VEVENT
DTSTART;TZID=UTC:20170817T080000
DTEND;TZID=UTC:20170817T130000
DTSTAMP:20260425T152354
CREATED:20170629T090928Z
LAST-MODIFIED:20170629T091106Z
UID:122-1502956800-1502974800@produffersorlando.com
SUMMARY:Golf at ChampionsGate C.C.
DESCRIPTION:Shotgun start at 8:00am. The $35 fee for golf includes range balls.
URL:https://produffersorlando.com/event/8-17-2017/
LOCATION:Champions Gate Country Club\, 8950 Clifton Draw Drive\, ChampionsGate\, FL\, 33896\, United States
CATEGORIES:Thursday
END:VEVENT
BEGIN:VEVENT
DTSTART;TZID=UTC:20170810T080000
DTEND;TZID=UTC:20170810T130000
DTSTAMP:20260425T152354
CREATED:20170629T090359Z
LAST-MODIFIED:20170702T034513Z
UID:117-1502352000-1502370000@produffersorlando.com
SUMMARY:Golf at Celebration G.C.
DESCRIPTION:Tee times start at 8:00am. The $35 fee includes golf\, range balls and lunch.
URL:https://produffersorlando.com/event/8-10-2017/
LOCATION:Celebration Golf Club\, 701 Golf Park Drive\, Celebration\, FL\, 34747\, United States
CATEGORIES:Thursday
END:VEVENT
BEGIN:VEVENT
DTSTART;TZID=UTC:20170803T080000
DTEND;TZID=UTC:20170803T130000
DTSTAMP:20260425T152354
CREATED:20170629T085726Z
LAST-MODIFIED:20170702T034937Z
UID:113-1501747200-1501765200@produffersorlando.com
SUMMARY:Golf at Monarch G.C.
DESCRIPTION:Shotgun start at 8:00am. The $26 fee includes golf\, range balls and tax.
URL:https://produffersorlando.com/event/8-3-2017/
LOCATION:Monarch Golf Club\, 5325 St. Andrews Arc\, Leesburg\, FL\, 34748-7964\, United States
CATEGORIES:Thursday
END:VEVENT
BEGIN:VEVENT
DTSTART;TZID=UTC:20170727T083000
DTEND;TZID=UTC:20170727T133000
DTSTAMP:20260425T152354
CREATED:20170629T084802Z
LAST-MODIFIED:20170629T084802Z
UID:109-1501144200-1501162200@produffersorlando.com
SUMMARY:Golf at Shingle Creek
DESCRIPTION:Shotgun start at 8:30am. The $39 fee for golf includes range balls.
URL:https://produffersorlando.com/event/7-27-2017/
LOCATION:Shingle Creek Golf Club\, 9939 Universal Boulevard\, Orlando\, FL\, 32819\, United States
CATEGORIES:Thursday
END:VEVENT
BEGIN:VEVENT
DTSTART;TZID=UTC:20170720T080000
DTEND;TZID=UTC:20170720T130000
DTSTAMP:20260425T152354
CREATED:20170629T084014Z
LAST-MODIFIED:20170702T035256Z
UID:105-1500537600-1500555600@produffersorlando.com
SUMMARY:Golf at Falcon's Fire
DESCRIPTION:Shotgun start at 8:00am. The $30 fee includes golf\, range balls and tax.
URL:https://produffersorlando.com/event/7-20-2017/
LOCATION:Falcon’s Fire Golf Club\, 3200 Seralago Boulevard\, Kissimmee\, FL\, 34746\, United States
CATEGORIES:Thursday
END:VEVENT
BEGIN:VEVENT
DTSTART;TZID=UTC:20170713T080000
DTEND;TZID=UTC:20170713T130000
DTSTAMP:20260425T152354
CREATED:20170629T083152Z
LAST-MODIFIED:20170702T035519Z
UID:101-1499932800-1499950800@produffersorlando.com
SUMMARY:Golf at Celebration
DESCRIPTION:Shotgun start at 8:00am. The $35 fee includes golf\, range balls and lunch.
URL:https://produffersorlando.com/event/7-13-2017/
LOCATION:Celebration Golf Club\, 701 Golf Park Drive\, Celebration\, FL\, 34747\, United States
CATEGORIES:Thursday
END:VEVENT
BEGIN:VEVENT
DTSTART;TZID=UTC:20170706T080000
DTEND;TZID=UTC:20170706T130000
DTSTAMP:20260425T152354
CREATED:20170629T020952Z
LAST-MODIFIED:20170629T074622Z
UID:86-1499328000-1499346000@produffersorlando.com
SUMMARY:Golf at West Orange G.C.
DESCRIPTION:Shotgun start at 8:00am. The $30 fee for golf includes range balls.
URL:https://produffersorlando.com/event/7-6-2017/
LOCATION:West Orange Golf Club\, 3300 West Orange Country Club Drive Winter Garden FL\, Winter Garden\, FL\, 34787\, United States
CATEGORIES:Thursday
END:VEVENT
END:VCALENDAR