BEGIN:VCALENDAR
VERSION:2.0
PRODID:-//Pro-Duffers Orlando - ECPv6.15.20//NONSGML v1.0//EN
CALSCALE:GREGORIAN
METHOD:PUBLISH
X-WR-CALNAME:Pro-Duffers Orlando
X-ORIGINAL-URL:https://produffersorlando.com
X-WR-CALDESC:Events for Pro-Duffers Orlando
REFRESH-INTERVAL;VALUE=DURATION:PT1H
X-Robots-Tag:noindex
X-PUBLISHED-TTL:PT1H
BEGIN:VTIMEZONE
TZID:America/New_York
BEGIN:DAYLIGHT
TZOFFSETFROM:-0500
TZOFFSETTO:-0400
TZNAME:EDT
DTSTART:20230312T070000
END:DAYLIGHT
BEGIN:STANDARD
TZOFFSETFROM:-0400
TZOFFSETTO:-0500
TZNAME:EST
DTSTART:20231105T060000
END:STANDARD
BEGIN:DAYLIGHT
TZOFFSETFROM:-0500
TZOFFSETTO:-0400
TZNAME:EDT
DTSTART:20240310T070000
END:DAYLIGHT
BEGIN:STANDARD
TZOFFSETFROM:-0400
TZOFFSETTO:-0500
TZNAME:EST
DTSTART:20241103T060000
END:STANDARD
BEGIN:DAYLIGHT
TZOFFSETFROM:-0500
TZOFFSETTO:-0400
TZNAME:EDT
DTSTART:20250309T070000
END:DAYLIGHT
BEGIN:STANDARD
TZOFFSETFROM:-0400
TZOFFSETTO:-0500
TZNAME:EST
DTSTART:20251102T060000
END:STANDARD
END:VTIMEZONE
BEGIN:VEVENT
DTSTART;TZID=America/New_York:20240604T083000
DTEND;TZID=America/New_York:20240604T140000
DTSTAMP:20260424T152914
CREATED:20240516T130223Z
LAST-MODIFIED:20240516T130223Z
UID:4553-1717489800-1717509600@produffersorlando.com
SUMMARY:Golf at Northshore
DESCRIPTION:24 Players\nTee-Times\nContact: Robbie
URL:https://produffersorlando.com/event/golf-at-northshore-15/
LOCATION:North Shore Golf Club\, 11507 N Shore Golf Club Blvd\, Orlando\, FL\, 32832\, United States
CATEGORIES:Tuesday
END:VEVENT
BEGIN:VEVENT
DTSTART;TZID=America/New_York:20240611T083000
DTEND;TZID=America/New_York:20240611T140000
DTSTAMP:20260424T152914
CREATED:20240516T151611Z
LAST-MODIFIED:20240516T151645Z
UID:4557-1718094600-1718114400@produffersorlando.com
SUMMARY:Golf at Ventura
DESCRIPTION:20 Players\nShotgun Start\nContact: Josh
URL:https://produffersorlando.com/event/golf-at-ventura-11/
LOCATION:Ventura Country Club\, 3333 Woodgate Blvd\, Orlando\, FL\, 32822\, United States
CATEGORIES:Tuesday
END:VEVENT
BEGIN:VEVENT
DTSTART;TZID=America/New_York:20240618T080000
DTEND;TZID=America/New_York:20240618T140000
DTSTAMP:20260424T152914
CREATED:20240516T152756Z
LAST-MODIFIED:20240516T152756Z
UID:4563-1718697600-1718719200@produffersorlando.com
SUMMARY:Golf at Highland Reserve
DESCRIPTION:24 Players\nTee-Times\nContact: Donnie
URL:https://produffersorlando.com/event/golf-at-highland-reserve-22/
LOCATION:Highland Reserve Golf Club\, 500 Highlands Reserve Blvd\, Davenport\, FL\, 33897\, United States
CATEGORIES:Tuesday
END:VEVENT
BEGIN:VEVENT
DTSTART;TZID=America/New_York:20240625T083000
DTEND;TZID=America/New_York:20240625T140000
DTSTAMP:20260424T152914
CREATED:20240306T175722Z
LAST-MODIFIED:20240306T175722Z
UID:4465-1719304200-1719324000@produffersorlando.com
SUMMARY:Golf at Eagle Creek
DESCRIPTION:24 Players\nShotgun Start
URL:https://produffersorlando.com/event/golf-at-eagle-creek-32/
LOCATION:Eagle Creek Golf Club\, 10350 Emerson Lake Blvd\, Orlando\, FL\, 32832\, United States
CATEGORIES:Tuesday
END:VEVENT
END:VCALENDAR