BEGIN:VCALENDAR
VERSION:2.0
PRODID:-//Pro-Duffers Orlando - ECPv6.15.20//NONSGML v1.0//EN
CALSCALE:GREGORIAN
METHOD:PUBLISH
X-WR-CALNAME:Pro-Duffers Orlando
X-ORIGINAL-URL:https://produffersorlando.com
X-WR-CALDESC:Events for Pro-Duffers Orlando
REFRESH-INTERVAL;VALUE=DURATION:PT1H
X-Robots-Tag:noindex
X-PUBLISHED-TTL:PT1H
BEGIN:VTIMEZONE
TZID:America/New_York
BEGIN:DAYLIGHT
TZOFFSETFROM:-0500
TZOFFSETTO:-0400
TZNAME:EDT
DTSTART:20210314T070000
END:DAYLIGHT
BEGIN:STANDARD
TZOFFSETFROM:-0400
TZOFFSETTO:-0500
TZNAME:EST
DTSTART:20211107T060000
END:STANDARD
BEGIN:DAYLIGHT
TZOFFSETFROM:-0500
TZOFFSETTO:-0400
TZNAME:EDT
DTSTART:20220313T070000
END:DAYLIGHT
BEGIN:STANDARD
TZOFFSETFROM:-0400
TZOFFSETTO:-0500
TZNAME:EST
DTSTART:20221106T060000
END:STANDARD
BEGIN:DAYLIGHT
TZOFFSETFROM:-0500
TZOFFSETTO:-0400
TZNAME:EDT
DTSTART:20230312T070000
END:DAYLIGHT
BEGIN:STANDARD
TZOFFSETFROM:-0400
TZOFFSETTO:-0500
TZNAME:EST
DTSTART:20231105T060000
END:STANDARD
BEGIN:DAYLIGHT
TZOFFSETFROM:-0500
TZOFFSETTO:-0400
TZNAME:EDT
DTSTART:20240310T070000
END:DAYLIGHT
BEGIN:STANDARD
TZOFFSETFROM:-0400
TZOFFSETTO:-0500
TZNAME:EST
DTSTART:20241103T060000
END:STANDARD
BEGIN:DAYLIGHT
TZOFFSETFROM:-0500
TZOFFSETTO:-0400
TZNAME:EDT
DTSTART:20250309T070000
END:DAYLIGHT
BEGIN:STANDARD
TZOFFSETFROM:-0400
TZOFFSETTO:-0500
TZNAME:EST
DTSTART:20251102T060000
END:STANDARD
END:VTIMEZONE
BEGIN:VEVENT
DTSTART;TZID=America/New_York:20240326T140000
DTEND;TZID=America/New_York:20240326T153000
DTSTAMP:20260424T013824
CREATED:20240316T100957Z
LAST-MODIFIED:20240316T100957Z
UID:4503-1711461600-1711467000@produffersorlando.com
SUMMARY:PDO 1st Quarter Membership Meeting @ Dubsdread
DESCRIPTION:
URL:https://produffersorlando.com/event/pdo-1st-quarter-membership-meeting-dubsdread/
LOCATION:DubsDread Golf Course\, 549 West Par Street\, Orlando\, FL\, 32804\, United States
CATEGORIES:Tuesday
END:VEVENT
BEGIN:VEVENT
DTSTART;TZID=America/New_York:20240319T083000
DTEND;TZID=America/New_York:20240319T140000
DTSTAMP:20260424T013824
CREATED:20240202T114417Z
LAST-MODIFIED:20240202T114731Z
UID:4343-1710837000-1710856800@produffersorlando.com
SUMMARY:Golf at Zellwood
DESCRIPTION:24 Players\nTee-Times
URL:https://produffersorlando.com/event/golf-at-zellwood-6/
LOCATION:Zellwood Station Golf Club\, 2126 Spillman Drive\, Zellwood\, FL\, 32798\, United States
CATEGORIES:Tuesday
END:VEVENT
BEGIN:VEVENT
DTSTART;TZID=America/New_York:20240312T083000
DTEND;TZID=America/New_York:20240312T140000
DTSTAMP:20260424T013824
CREATED:20240207T212049Z
LAST-MODIFIED:20240207T212049Z
UID:4355-1710232200-1710252000@produffersorlando.com
SUMMARY:Golf at Redtail
DESCRIPTION:24  Players\nShotgun Start
URL:https://produffersorlando.com/event/golf-at-redtail-13/
LOCATION:Redtail Golf Club\, 21600 Covered Bridge Lane\, Sorrento\, FL\, 32776\, United States
CATEGORIES:Tuesday
END:VEVENT
BEGIN:VEVENT
DTSTART;TZID=America/New_York:20240220T080000
DTEND;TZID=America/New_York:20240220T170000
DTSTAMP:20260424T013824
CREATED:20240127T161134Z
LAST-MODIFIED:20240127T161134Z
UID:4315-1708416000-1708448400@produffersorlando.com
SUMMARY:Golf at Zellwood
DESCRIPTION:24 players\nShotgun Start
URL:https://produffersorlando.com/event/golf-at-zellwood-5/
LOCATION:Zellwood Station Golf Club\, 2126 Spillman Drive\, Zellwood\, FL\, 32798\, United States
CATEGORIES:Tuesday
END:VEVENT
BEGIN:VEVENT
DTSTART;TZID=America/New_York:20240213T083000
DTEND;TZID=America/New_York:20240213T140000
DTSTAMP:20260424T013824
CREATED:20240127T160948Z
LAST-MODIFIED:20240127T160948Z
UID:4313-1707813000-1707832800@produffersorlando.com
SUMMARY:Golf at Stoneybrook East
DESCRIPTION:24 Players\nTee Times
URL:https://produffersorlando.com/event/golf-at-stoneybrook-east-10/
LOCATION:Stoneybrook East Golf Club\, 2900 Northampton Ave\, Orlando\, FL\, 32828\, United States
CATEGORIES:Tuesday
END:VEVENT
BEGIN:VEVENT
DTSTART;TZID=America/New_York:20240130T083000
DTEND;TZID=America/New_York:20240130T140000
DTSTAMP:20260424T013824
CREATED:20240125T151813Z
LAST-MODIFIED:20240125T151813Z
UID:4308-1706603400-1706623200@produffersorlando.com
SUMMARY:Golf at Eagle Dunes
DESCRIPTION:24 Players\nRange\nShotgun Start\nContact: Sean Holmes
URL:https://produffersorlando.com/event/golf-at-eagle-dunes-12/
LOCATION:Eagle Dunes Golf Club\, 24000 Marbella Drive\, Sorrento\, FL\, 32776\, United States
CATEGORIES:Tuesday
END:VEVENT
BEGIN:VEVENT
DTSTART;TZID=America/New_York:20240123T083000
DTEND;TZID=America/New_York:20240123T140000
DTSTAMP:20260424T013824
CREATED:20240118T132909Z
LAST-MODIFIED:20240118T132909Z
UID:4302-1705998600-1706018400@produffersorlando.com
SUMMARY:Golf at Wekiva
DESCRIPTION:20 Players\nRange\nContact: Tony Miller
URL:https://produffersorlando.com/event/golf-at-wekiva-10/
LOCATION:Wekiva Golf Club\, 4100 Wekiva Club Court\, Longwood\, FL\, 32779\, United States
CATEGORIES:Tuesday
END:VEVENT
BEGIN:VEVENT
DTSTART;TZID=America/New_York:20230829T080000
DTEND;TZID=America/New_York:20230829T170000
DTSTAMP:20260424T013824
CREATED:20230524T132313Z
LAST-MODIFIED:20230524T132313Z
UID:4043-1693296000-1693328400@produffersorlando.com
SUMMARY:Golf at Falcon's Fire
DESCRIPTION:20 Players\nTee-Timers\nContact:
URL:https://produffersorlando.com/event/golf-at-falcons-fire-12/
LOCATION:Falcon’s Fire Golf Club\, 3200 Seralago Boulevard\, Kissimmee\, FL\, 34746\, United States
CATEGORIES:Tuesday
END:VEVENT
BEGIN:VEVENT
DTSTART;TZID=America/New_York:20230822T070000
DTEND;TZID=America/New_York:20230822T170000
DTSTAMP:20260424T013824
CREATED:20230524T131822Z
LAST-MODIFIED:20230524T131822Z
UID:4039-1692687600-1692723600@produffersorlando.com
SUMMARY:Golf at OCN Crooked Cat
DESCRIPTION:24 Players\nTee-Times\nContact: Chuck
URL:https://produffersorlando.com/event/golf-at-ocn-crooked-cat-2/
LOCATION:Orange County National Golf Center\, 16301 Phil Ritson Way\, Winter Garden\, FL\, 34787\, United States
CATEGORIES:Tuesday
END:VEVENT
BEGIN:VEVENT
DTSTART;TZID=America/New_York:20230815T080000
DTEND;TZID=America/New_York:20230815T170000
DTSTAMP:20260424T013824
CREATED:20230524T123201Z
LAST-MODIFIED:20230806T230835Z
UID:4026-1692086400-1692118800@produffersorlando.com
SUMMARY:Golf at Forest Lake
DESCRIPTION:20 Players\nShotgun \nJohn Viera
URL:https://produffersorlando.com/event/golf-at-eagle-creek-31/
LOCATION:Reunion Resort Golf Course\, 7593 Grathing Dr\, Kissimmee\, FL\, 34747\, United States
CATEGORIES:Tuesday
END:VEVENT
BEGIN:VEVENT
DTSTART;TZID=America/New_York:20230808T080000
DTEND;TZID=America/New_York:20230808T170000
DTSTAMP:20260424T013824
CREATED:20230516T011442Z
LAST-MODIFIED:20230516T011442Z
UID:4019-1691481600-1691514000@produffersorlando.com
SUMMARY:Golf at Highland Reserve
DESCRIPTION:24 Players\nShotgun Start\nContact: Donnie/Sue
URL:https://produffersorlando.com/event/golf-at-highland-reserve-20/
LOCATION:Highland Reserve Golf Club\, 500 Highlands Reserve Blvd\, Davenport\, FL\, 33897\, United States
CATEGORIES:Tuesday
END:VEVENT
BEGIN:VEVENT
DTSTART;TZID=America/New_York:20230801T070000
DTEND;TZID=America/New_York:20230801T170000
DTSTAMP:20260424T013824
CREATED:20230516T010956Z
LAST-MODIFIED:20230728T010053Z
UID:4015-1690873200-1690909200@produffersorlando.com
SUMMARY:Golf at Orange Lake Resort - Reserve course
DESCRIPTION:16 Players
URL:https://produffersorlando.com/event/golf-at-eagle-creek-30/
LOCATION:Orange Lake Golf\, 8505 W Irlo Bronson Memorial Hwy\, Kissimmee\, FL\, 34747\, United States
CATEGORIES:Tuesday
END:VEVENT
BEGIN:VEVENT
DTSTART;TZID=America/New_York:20230725T080000
DTEND;TZID=America/New_York:20230725T170000
DTSTAMP:20260424T013824
CREATED:20230515T163313Z
LAST-MODIFIED:20230515T163313Z
UID:4010-1690272000-1690304400@produffersorlando.com
SUMMARY:Golf at Stonegate (Oaks)
DESCRIPTION:20 Players\nTee Times\nContact:
URL:https://produffersorlando.com/event/golf-at-stonegate-oaks/
LOCATION:Stonegate Golf Club at Solivita\, 404 Village Drive\, Kissimmee\, FL\, 34759\, United States
CATEGORIES:Tuesday
END:VEVENT
BEGIN:VEVENT
DTSTART;TZID=America/New_York:20230718T080000
DTEND;TZID=America/New_York:20230718T170000
DTSTAMP:20260424T013824
CREATED:20230515T162945Z
LAST-MODIFIED:20230515T162945Z
UID:4008-1689667200-1689699600@produffersorlando.com
SUMMARY:Golf at Falcon's Fire
DESCRIPTION:20 Players\nTee Times\nContact:
URL:https://produffersorlando.com/event/golf-at-falcons-fire-11/
LOCATION:Falcon’s Fire Golf Club\, 3200 Seralago Boulevard\, Kissimmee\, FL\, 34746\, United States
CATEGORIES:Tuesday
END:VEVENT
BEGIN:VEVENT
DTSTART;TZID=America/New_York:20230711T091200
DTEND;TZID=America/New_York:20230711T170000
DTSTAMP:20260424T013824
CREATED:20230515T161813Z
LAST-MODIFIED:20230515T161813Z
UID:4001-1689066720-1689094800@produffersorlando.com
SUMMARY:Golf at St Cloud
DESCRIPTION:20 Players\nTee times\nContact: Doug
URL:https://produffersorlando.com/event/golf-at-st-cloud-12/
LOCATION:St Cloud\, 5310 Michigan Ave\, Saint Cloud\, FL\, 34772\, United States
CATEGORIES:Tuesday
END:VEVENT
BEGIN:VEVENT
DTSTART;VALUE=DATE:20230704
DTEND;VALUE=DATE:20230705
DTSTAMP:20260424T013824
CREATED:20230515T162514Z
LAST-MODIFIED:20230515T162644Z
UID:4005-1688428800-1688515199@produffersorlando.com
SUMMARY:FOURTH OF JULY NO SCHEDULED PLAY
DESCRIPTION:
URL:https://produffersorlando.com/event/fourth-of-july-no-scheduled-play/
CATEGORIES:Tuesday
END:VEVENT
BEGIN:VEVENT
DTSTART;TZID=America/New_York:20230627T073000
DTEND;TZID=America/New_York:20230627T170000
DTSTAMP:20260424T013824
CREATED:20230515T160631Z
LAST-MODIFIED:20230515T160631Z
UID:3991-1687851000-1687885200@produffersorlando.com
SUMMARY:Golf at OCN (Panther Lake)
DESCRIPTION:24 Players\nTee-Times
URL:https://produffersorlando.com/event/golf-at-ocn-panther-lake-3/
LOCATION:Orange County National Golf Center\, 16301 Phil Ritson Way\, Winter Garden\, FL\, 34787\, United States
CATEGORIES:Tuesday
END:VEVENT
BEGIN:VEVENT
DTSTART;TZID=America/New_York:20230620T091200
DTEND;TZID=America/New_York:20230620T170000
DTSTAMP:20260424T013824
CREATED:20230515T160042Z
LAST-MODIFIED:20230515T160042Z
UID:3987-1687252320-1687280400@produffersorlando.com
SUMMARY:Golf at St. Cloud
DESCRIPTION:20 Players\nTee Times\nContact: Doug
URL:https://produffersorlando.com/event/golf-at-st-cloud-11/
LOCATION:St Cloud\, 5310 Michigan Ave\, Saint Cloud\, FL\, 34772\, United States
CATEGORIES:Tuesday
END:VEVENT
BEGIN:VEVENT
DTSTART;TZID=America/New_York:20230613T080000
DTEND;TZID=America/New_York:20230613T170000
DTSTAMP:20260424T013824
CREATED:20230515T155140Z
LAST-MODIFIED:20230515T155140Z
UID:3985-1686643200-1686675600@produffersorlando.com
SUMMARY:Golf at Green Valley
DESCRIPTION:20  Players\nTee Times\nContact:
URL:https://produffersorlando.com/event/golf-at-green-valley-3/
LOCATION:Green Valley Country Club\, 14601 Green Vlley Blvd\, Clermont\, FL\, 34711\, United States
CATEGORIES:Tuesday
END:VEVENT
BEGIN:VEVENT
DTSTART;TZID=America/New_York:20230606T080000
DTEND;TZID=America/New_York:20230606T170000
DTSTAMP:20260424T013824
CREATED:20230515T154934Z
LAST-MODIFIED:20230515T154934Z
UID:3983-1686038400-1686070800@produffersorlando.com
SUMMARY:Golf at Highland Reserve
DESCRIPTION:24 Players\nShotgun Start\nContact: Donnie
URL:https://produffersorlando.com/event/golf-at-highland-reserve-18/
LOCATION:Highland Reserve Golf Club\, 500 Highlands Reserve Blvd\, Davenport\, FL\, 33897\, United States
CATEGORIES:Tuesday
END:VEVENT
BEGIN:VEVENT
DTSTART;TZID=America/New_York:20221227T080000
DTEND;TZID=America/New_York:20221227T170000
DTSTAMP:20260424T013824
CREATED:20221101T200630Z
LAST-MODIFIED:20221101T200630Z
UID:3687-1672128000-1672160400@produffersorlando.com
SUMMARY:Golf at Metrowest
DESCRIPTION:24 Players\nShotgun Start\nContact: Chris
URL:https://produffersorlando.com/event/golf-at-metrowest-18/
LOCATION:Metrowest Golf Club\, 2100 Hiawassee
CATEGORIES:Tuesday
END:VEVENT
BEGIN:VEVENT
DTSTART;TZID=America/New_York:20221220T083000
DTEND;TZID=America/New_York:20221220T140000
DTSTAMP:20260424T013824
CREATED:20221101T200311Z
LAST-MODIFIED:20221101T200311Z
UID:3683-1671525000-1671544800@produffersorlando.com
SUMMARY:Golf at Dubsdreed
DESCRIPTION:24 Players\nShotgun Start\nRange\nContact Virginia
URL:https://produffersorlando.com/event/golf-at-dubsdreed-3/
LOCATION:DubsDread Golf Course\, 549 West Par Street\, Orlando\, FL\, 32804\, United States
CATEGORIES:Tuesday
END:VEVENT
BEGIN:VEVENT
DTSTART;TZID=America/New_York:20221213T083000
DTEND;TZID=America/New_York:20221213T140000
DTSTAMP:20260424T013824
CREATED:20221101T195920Z
LAST-MODIFIED:20221101T195920Z
UID:3679-1670920200-1670940000@produffersorlando.com
SUMMARY:Golf at Kissimmee Bay
DESCRIPTION:24 Players\nShotgun Start\nContact: Austin
URL:https://produffersorlando.com/event/golf-at-kissimmee-bay-8/
LOCATION:Kissimmee Bay Golf Club\, 2801 Kissimmee Bay Blvd\, Kissimmee\, FL\, 34744\, United States
CATEGORIES:Tuesday
END:VEVENT
BEGIN:VEVENT
DTSTART;TZID=America/New_York:20221206T083000
DTEND;TZID=America/New_York:20221206T140000
DTSTAMP:20260424T013824
CREATED:20221101T195539Z
LAST-MODIFIED:20221101T195539Z
UID:3675-1670315400-1670335200@produffersorlando.com
SUMMARY:Golf at Forest Lake
DESCRIPTION:24 Players\nShotgun Start\ncontact: John
URL:https://produffersorlando.com/event/golf-at-forest-lake-24/
LOCATION:Forest Lake Golf Club\, 10521 Clarcona Ocoee Rd\, Apopka\, FL\, 32703\, United States
CATEGORIES:Tuesday
END:VEVENT
BEGIN:VEVENT
DTSTART;TZID=America/New_York:20221129T083000
DTEND;TZID=America/New_York:20221129T140000
DTSTAMP:20260424T013824
CREATED:20221020T034438Z
LAST-MODIFIED:20221020T034438Z
UID:3650-1669710600-1669730400@produffersorlando.com
SUMMARY:Golf at Remington
DESCRIPTION:24 Players\nShotgun Start\nContact: Austin
URL:https://produffersorlando.com/event/golf-at-remington-15/
LOCATION:Remington Golf Club\, 2995 Remingtong Blvd\, Kissimmee\, FL\, 34774\, United States
CATEGORIES:Tuesday
END:VEVENT
BEGIN:VEVENT
DTSTART;TZID=America/New_York:20221122T083000
DTEND;TZID=America/New_York:20221122T140000
DTSTAMP:20260424T013824
CREATED:20221020T034250Z
LAST-MODIFIED:20221020T034250Z
UID:3648-1669105800-1669125600@produffersorlando.com
SUMMARY:Golf at Eagle Creek
DESCRIPTION:24 Players\nShotgun Start\nRange\nContact: Mike
URL:https://produffersorlando.com/event/golf-at-eagle-creek-28/
LOCATION:Eagle Creek Golf Club\, 10350 Emerson Lake Blvd\, Orlando\, FL\, 32832\, United States
CATEGORIES:Tuesday
END:VEVENT
BEGIN:VEVENT
DTSTART;TZID=America/New_York:20221115T083000
DTEND;TZID=America/New_York:20221115T140000
DTSTAMP:20260424T013824
CREATED:20221020T033834Z
LAST-MODIFIED:20221020T034644Z
UID:3644-1668501000-1668520800@produffersorlando.com
SUMMARY:Golf at Dubsdreed
DESCRIPTION:24 Players\nShotgun Start\nRange\nContact: Virginia
URL:https://produffersorlando.com/event/golf-at-dubsdreed-2/
LOCATION:DubsDread Golf Course\, 549 West Par Street\, Orlando\, FL\, 32804\, United States
CATEGORIES:Tuesday
END:VEVENT
BEGIN:VEVENT
DTSTART;TZID=America/New_York:20221108T083000
DTEND;TZID=America/New_York:20221108T140000
DTSTAMP:20260424T013824
CREATED:20221031T232136Z
LAST-MODIFIED:20221031T232432Z
UID:3668-1667896200-1667916000@produffersorlando.com
SUMMARY:Golf at C.C. of Mount Dora
DESCRIPTION:24 Players\nTee-Times\nContact: Attaula
URL:https://produffersorlando.com/event/golf-at-c-c-of-mount-dora/
LOCATION:Country Club of Mt. Dora\, 1900 Country Club Blvd\, Mount Dora\, FL\, 32757\, United States
CATEGORIES:Tuesday
END:VEVENT
BEGIN:VEVENT
DTSTART;TZID=America/New_York:20221101T080000
DTEND;TZID=America/New_York:20221101T170000
DTSTAMP:20260424T013824
CREATED:20221027T143843Z
LAST-MODIFIED:20221027T143843Z
UID:3659-1667289600-1667322000@produffersorlando.com
SUMMARY:Golf at Metrowest
DESCRIPTION:24 Players\nTee-Times\nContact: Chris/Matt
URL:https://produffersorlando.com/event/golf-at-metrowest-17/
LOCATION:Metrowest Golf Club\, 2100 Hiawassee
CATEGORIES:Tuesday
END:VEVENT
BEGIN:VEVENT
DTSTART;TZID=America/New_York:20221025T080000
DTEND;TZID=America/New_York:20221025T140000
DTSTAMP:20260424T013824
CREATED:20221020T033204Z
LAST-MODIFIED:20221020T033204Z
UID:3638-1666684800-1666706400@produffersorlando.com
SUMMARY:Golf at Kissimmee Bay
DESCRIPTION:24 Players\nShotgun Start\nContact: Austin
URL:https://produffersorlando.com/event/golf-at-kissimmee-bay-7/
LOCATION:Kissimmee Bay Golf Club\, 2801 Kissimmee Bay Blvd\, Kissimmee\, FL\, 34744\, United States
CATEGORIES:Tuesday
END:VEVENT
END:VCALENDAR