BEGIN:VCALENDAR
VERSION:2.0
PRODID:-//Pro-Duffers Orlando - ECPv6.15.20//NONSGML v1.0//EN
CALSCALE:GREGORIAN
METHOD:PUBLISH
X-WR-CALNAME:Pro-Duffers Orlando
X-ORIGINAL-URL:https://produffersorlando.com
X-WR-CALDESC:Events for Pro-Duffers Orlando
REFRESH-INTERVAL;VALUE=DURATION:PT1H
X-Robots-Tag:noindex
X-PUBLISHED-TTL:PT1H
BEGIN:VTIMEZONE
TZID:America/New_York
BEGIN:DAYLIGHT
TZOFFSETFROM:-0500
TZOFFSETTO:-0400
TZNAME:EDT
DTSTART:20210314T070000
END:DAYLIGHT
BEGIN:STANDARD
TZOFFSETFROM:-0400
TZOFFSETTO:-0500
TZNAME:EST
DTSTART:20211107T060000
END:STANDARD
BEGIN:DAYLIGHT
TZOFFSETFROM:-0500
TZOFFSETTO:-0400
TZNAME:EDT
DTSTART:20220313T070000
END:DAYLIGHT
BEGIN:STANDARD
TZOFFSETFROM:-0400
TZOFFSETTO:-0500
TZNAME:EST
DTSTART:20221106T060000
END:STANDARD
BEGIN:DAYLIGHT
TZOFFSETFROM:-0500
TZOFFSETTO:-0400
TZNAME:EDT
DTSTART:20230312T070000
END:DAYLIGHT
BEGIN:STANDARD
TZOFFSETFROM:-0400
TZOFFSETTO:-0500
TZNAME:EST
DTSTART:20231105T060000
END:STANDARD
END:VTIMEZONE
BEGIN:VEVENT
DTSTART;TZID=America/New_York:20221018T083000
DTEND;TZID=America/New_York:20221018T140000
DTSTAMP:20260424T055245
CREATED:20220710T212318Z
LAST-MODIFIED:20220710T212318Z
UID:3519-1666081800-1666101600@produffersorlando.com
SUMMARY:Golf at Eagle Creek (Day 3 PDO Club Championship)
DESCRIPTION:28 Players\nShotgun Start\nRange\nContact: Mike
URL:https://produffersorlando.com/event/golf-at-eagle-creek-day-3-pdo-club-championship/
LOCATION:Eagle Creek Golf Club\, 10350 Emerson Lake Blvd\, Orlando\, FL\, 32832\, United States
CATEGORIES:Tuesday
END:VEVENT
BEGIN:VEVENT
DTSTART;TZID=America/New_York:20221011T081500
DTEND;TZID=America/New_York:20221011T140000
DTSTAMP:20260424T055245
CREATED:20220710T210654Z
LAST-MODIFIED:20220927T192055Z
UID:3510-1665476100-1665496800@produffersorlando.com
SUMMARY:Golf at Forest Lake (Day 1 PDO Club Championship)
DESCRIPTION:28 Players\nShotgun Start\nContact: John V
URL:https://produffersorlando.com/event/golf-at-orange-lake-legends-5/
LOCATION:Forest Lake Golf Club\, 10521 Clarcona Ocoee Rd\, Apopka\, FL\, 32703\, United States
CATEGORIES:Tuesday
END:VEVENT
BEGIN:VEVENT
DTSTART;TZID=America/New_York:20221004T080000
DTEND;TZID=America/New_York:20221004T170000
DTSTAMP:20260424T055245
CREATED:20220527T225713Z
LAST-MODIFIED:20220527T225713Z
UID:3438-1664870400-1664902800@produffersorlando.com
SUMMARY:Golf at Northshore
DESCRIPTION:24 Players\nTee-Times\nContact: Robbie
URL:https://produffersorlando.com/event/golf-at-northshore-12/
LOCATION:North Shore Golf Club\, 11507 N Shore Golf Club Blvd\, Orlando\, FL\, 32832\, United States
CATEGORIES:Tuesday
END:VEVENT
BEGIN:VEVENT
DTSTART;TZID=America/New_York:20220927T080000
DTEND;TZID=America/New_York:20220927T170000
DTSTAMP:20260424T055245
CREATED:20220527T225332Z
LAST-MODIFIED:20220527T225332Z
UID:3435-1664265600-1664298000@produffersorlando.com
SUMMARY:Golf at Orange Lake Legends
DESCRIPTION:24 Players\nShotgun Start\nRange\nContact: jimmy
URL:https://produffersorlando.com/event/golf-at-orange-lake-legends-4/
LOCATION:Orange Lake Golf\, 8505 W Irlo Bronson Memorial Hwy\, Kissimmee\, FL\, 34747\, United States
CATEGORIES:Tuesday
END:VEVENT
BEGIN:VEVENT
DTSTART;TZID=America/New_York:20220920T091500
DTEND;TZID=America/New_York:20220920T140000
DTSTAMP:20260424T055245
CREATED:20220710T205932Z
LAST-MODIFIED:20220710T205932Z
UID:3507-1663665300-1663682400@produffersorlando.com
SUMMARY:Golf at Orange County National
DESCRIPTION:24 Players\nTee-Times\nRange\nContact: Chuck
URL:https://produffersorlando.com/event/golf-at-orange-county-national-2/
LOCATION:Orange County National Golf Center\, 16301 Phil Ritson Way\, Winter Garden\, FL\, 34787\, United States
CATEGORIES:Tuesday
END:VEVENT
BEGIN:VEVENT
DTSTART;TZID=America/New_York:20220913T083000
DTEND;TZID=America/New_York:20220913T140000
DTSTAMP:20260424T055245
CREATED:20220712T163815Z
LAST-MODIFIED:20220712T163815Z
UID:3531-1663057800-1663077600@produffersorlando.com
SUMMARY:Golf at Providence
DESCRIPTION:24  Players\nTee-Times\nContact” Jerry
URL:https://produffersorlando.com/event/golf-at-providence-6/
LOCATION:Providence Golf Club\, 1518 Clubhouse Blvd\, Davenport\, FL\, 33837\, United States
CATEGORIES:Tuesday
END:VEVENT
BEGIN:VEVENT
DTSTART;TZID=America/New_York:20220906T080000
DTEND;TZID=America/New_York:20220906T140000
DTSTAMP:20260424T055245
CREATED:20220710T202823Z
LAST-MODIFIED:20220710T202838Z
UID:3503-1662451200-1662472800@produffersorlando.com
SUMMARY:Golf at Legends
DESCRIPTION:24 Players\nShotgun Start\nRange\nContact: Chris
URL:https://produffersorlando.com/event/golf-at-legends-11/
LOCATION:Legends Golf and Country Club\, 1700 Legendary Blvd\, Clermont\, FL\, 34711\, United States
CATEGORIES:Tuesday
END:VEVENT
BEGIN:VEVENT
DTSTART;TZID=America/New_York:20220830T083000
DTEND;TZID=America/New_York:20220830T140000
DTSTAMP:20260424T055245
CREATED:20220710T194449Z
LAST-MODIFIED:20220710T194449Z
UID:3499-1661848200-1661868000@produffersorlando.com
SUMMARY:Golf at Orange Lake Reserve
DESCRIPTION:24 Players\nShotgun Start\nRange\nContact:Jimmy
URL:https://produffersorlando.com/event/golf-at-orange-lake-reserve-6/
LOCATION:Orange Lake Golf\, 8505 W Irlo Bronson Memorial Hwy\, Kissimmee\, FL\, 34747\, United States
CATEGORIES:Tuesday
END:VEVENT
BEGIN:VEVENT
DTSTART;TZID=America/New_York:20220816T083000
DTEND;TZID=America/New_York:20220816T140000
DTSTAMP:20260424T055245
CREATED:20220710T164607Z
LAST-MODIFIED:20220710T164607Z
UID:3493-1660638600-1660658400@produffersorlando.com
SUMMARY:Golf at Reunion (Nicklaus)
DESCRIPTION:24 Players\nTee-Times\nRange\nContact: Mack Johnson
URL:https://produffersorlando.com/event/golf-at-reunion-nicklaus-6/
LOCATION:Reunion Resort Golf Course\, 7593 Grathing Dr\, Kissimmee\, FL\, 34747\, United States
CATEGORIES:Tuesday
END:VEVENT
BEGIN:VEVENT
DTSTART;TZID=America/New_York:20220809T080000
DTEND;TZID=America/New_York:20220809T140000
DTSTAMP:20260424T055245
CREATED:20220710T163803Z
LAST-MODIFIED:20220710T163803Z
UID:3489-1660032000-1660053600@produffersorlando.com
SUMMARY:Golf at Forest Lake
DESCRIPTION:24 Players\nShotgun Start\nContact: John V.
URL:https://produffersorlando.com/event/golf-at-forest-lake-26/
LOCATION:Forest Lake Golf Club\, 10521 Clarcona Ocoee Rd\, Apopka\, FL\, 32703\, United States
CATEGORIES:Tuesday
END:VEVENT
BEGIN:VEVENT
DTSTART;TZID=America/New_York:20220802T090000
DTEND;TZID=America/New_York:20220802T140000
DTSTAMP:20260424T055245
CREATED:20220710T150940Z
LAST-MODIFIED:20220710T150940Z
UID:3485-1659430800-1659448800@produffersorlando.com
SUMMARY:Golf at Duran
DESCRIPTION:24 Players\nTee-Times\nRange\nContact:Jeff Turner
URL:https://produffersorlando.com/event/golf-at-duran-2/
LOCATION:Duran\, 7032 Stadium Pkwy\, Melbourne\, FL\, 32940\, United States
CATEGORIES:Tuesday
END:VEVENT
BEGIN:VEVENT
DTSTART;TZID=America/New_York:20220726T080000
DTEND;TZID=America/New_York:20220726T140000
DTSTAMP:20260424T055245
CREATED:20220701T215836Z
LAST-MODIFIED:20220701T220125Z
UID:3479-1658822400-1658844000@produffersorlando.com
SUMMARY:Golf at Falcon's Fire
DESCRIPTION:24 Players\nShotgun Start\nRange\nContact: Jason
URL:https://produffersorlando.com/event/golf-at-falcons-fire-9/
LOCATION:Falcon’s Fire Golf Club\, 3200 Seralago Boulevard\, Kissimmee\, FL\, 34746\, United States
CATEGORIES:Tuesday
END:VEVENT
BEGIN:VEVENT
DTSTART;TZID=America/New_York:20220719T083000
DTEND;TZID=America/New_York:20220719T140000
DTSTAMP:20260424T055245
CREATED:20220701T214622Z
LAST-MODIFIED:20220701T214622Z
UID:3474-1658219400-1658239200@produffersorlando.com
SUMMARY:Golf at Southern Dunes
DESCRIPTION:24 Players\nShotgun Start\nContact: Kevin
URL:https://produffersorlando.com/event/golf-at-southern-dunes-4/
LOCATION:Southern Dunes Golf and Country Club\, 2888 Southern Dunes Blvd\, Haines City\, FL\, 33844\, United States
CATEGORIES:Tuesday
END:VEVENT
BEGIN:VEVENT
DTSTART;TZID=America/New_York:20220712T083000
DTEND;TZID=America/New_York:20220712T140000
DTSTAMP:20260424T055245
CREATED:20220529T090121Z
LAST-MODIFIED:20220628T181304Z
UID:3445-1657614600-1657634400@produffersorlando.com
SUMMARY:Golf at Rio Pinar
DESCRIPTION:24 Players\nShotgun Start\nRange\nContact: Tom
URL:https://produffersorlando.com/event/golf-at-legends-10/
LOCATION:Rio Pinar Country Club\, 8600 El Prado Ave\, Orlando\, FL\, 32825\, United States
CATEGORIES:Tuesday
END:VEVENT
BEGIN:VEVENT
DTSTART;TZID=America/New_York:20220705T080000
DTEND;TZID=America/New_York:20220705T140000
DTSTAMP:20260424T055245
CREATED:20220527T144143Z
LAST-MODIFIED:20220607T112018Z
UID:3429-1657008000-1657029600@produffersorlando.com
SUMMARY:Golf at Dubsdread
DESCRIPTION:28 Players\nShotgun Start\nRange\nContact: Virgina
URL:https://produffersorlando.com/event/golf-a-dubsdread/
LOCATION:DubsDread Golf Course\, 549 West Par Street\, Orlando\, FL\, 32804\, United States
CATEGORIES:Tuesday
END:VEVENT
BEGIN:VEVENT
DTSTART;TZID=America/New_York:20220630T083000
DTEND;TZID=America/New_York:20220630T140000
DTSTAMP:20260424T055245
CREATED:20220204T192714Z
LAST-MODIFIED:20220204T192714Z
UID:3274-1656577800-1656597600@produffersorlando.com
SUMMARY:Golf at Eagle Creek
DESCRIPTION:28 Players\nShotgun Start\nRange\nContact: Mike
URL:https://produffersorlando.com/event/golf-at-eagle-creek-25/
LOCATION:Eagle Creek Golf Club\, 10350 Emerson Lake Blvd\, Orlando\, FL\, 32832\, United States
CATEGORIES:Tuesday
END:VEVENT
BEGIN:VEVENT
DTSTART;TZID=America/New_York:20220628T083000
DTEND;TZID=America/New_York:20220628T140000
DTSTAMP:20260424T055245
CREATED:20220527T003304Z
LAST-MODIFIED:20220527T003304Z
UID:3427-1656405000-1656424800@produffersorlando.com
SUMMARY:Golf at Orange Lake (Reserve)
DESCRIPTION:24 Players\nShotgun Start\nContact: Jimmy
URL:https://produffersorlando.com/event/golf-at-orange-lake-reserve-5/
LOCATION:Orange Lake Golf\, 8505 W Irlo Bronson Memorial Hwy\, Kissimmee\, FL\, 34747\, United States
CATEGORIES:Tuesday
END:VEVENT
BEGIN:VEVENT
DTSTART;TZID=America/New_York:20220621T090000
DTEND;TZID=America/New_York:20220621T140000
DTSTAMP:20260424T055245
CREATED:20220516T150614Z
LAST-MODIFIED:20220528T015130Z
UID:3417-1655802000-1655820000@produffersorlando.com
SUMMARY:Golf at Duran  (Club Outing)
DESCRIPTION:20 Players\nTee-Times\nRange: Small Bucket\nContact: Jeff
URL:https://produffersorlando.com/event/golf-at-duran-club-outing/
LOCATION:Duran\, 7032 Stadium Pkwy\, Melbourne\, FL\, 32940\, United States
CATEGORIES:Tuesday
END:VEVENT
BEGIN:VEVENT
DTSTART;TZID=America/New_York:20220614T080000
DTEND;TZID=America/New_York:20220614T140000
DTSTAMP:20260424T055245
CREATED:20220501T002612Z
LAST-MODIFIED:20220501T002612Z
UID:3352-1655193600-1655215200@produffersorlando.com
SUMMARY:Golf at Falcon's Fire
DESCRIPTION:24 Players\nShotgun Start\nRange\nContact: Jason
URL:https://produffersorlando.com/event/golf-at-falcons-fire-7/
LOCATION:Falcon’s Fire Golf Club\, 3200 Seralago Boulevard\, Kissimmee\, FL\, 34746\, United States
CATEGORIES:Tuesday
END:VEVENT
BEGIN:VEVENT
DTSTART;TZID=America/New_York:20220531T083000
DTEND;TZID=America/New_York:20220531T140000
DTSTAMP:20260424T055245
CREATED:20220426T213546Z
LAST-MODIFIED:20220426T213546Z
UID:3340-1653985800-1654005600@produffersorlando.com
SUMMARY:Golf at Legends
DESCRIPTION:24 Players\nShotgun Start\nRange\nContact: Chris
URL:https://produffersorlando.com/event/golf-at-legends-9/
LOCATION:Legends Golf and Country Club\, 1700 Legendary Blvd\, Clermont\, FL\, 34711\, United States
CATEGORIES:Tuesday
END:VEVENT
BEGIN:VEVENT
DTSTART;TZID=America/New_York:20220524T091600
DTEND;TZID=America/New_York:20220524T140000
DTSTAMP:20260424T055245
CREATED:20220204T190756Z
LAST-MODIFIED:20220516T143335Z
UID:3266-1653383760-1653400800@produffersorlando.com
SUMMARY:Golf at Rio Pinar
DESCRIPTION:24 Players\nShotgun Start\nRange\nContact: Tom
URL:https://produffersorlando.com/event/golf-at-twin-rivers-5/
LOCATION:Rio Pinar Golf Club\, 8600 El Prado Avenue\, Orlando\, FL\, 32825\, United States
CATEGORIES:Tuesday
END:VEVENT
BEGIN:VEVENT
DTSTART;TZID=America/New_York:20220517T083000
DTEND;TZID=America/New_York:20220517T140000
DTSTAMP:20260424T055245
CREATED:20220212T215133Z
LAST-MODIFIED:20220516T162806Z
UID:3285-1652776200-1652796000@produffersorlando.com
SUMMARY:Course Change to Stoneybrook East
DESCRIPTION:20 Players\nTee-Times\nContact: Mike
URL:https://produffersorlando.com/event/golf-at-metrowest-16/
LOCATION:Stoneybrook East Golf Club\, 2900 Northampton Ave\, Orlando\, FL\, 32828\, United States
CATEGORIES:Tuesday
END:VEVENT
BEGIN:VEVENT
DTSTART;TZID=America/New_York:20220510T083000
DTEND;TZID=America/New_York:20220510T140000
DTSTAMP:20260424T055245
CREATED:20220204T191120Z
LAST-MODIFIED:20220204T191120Z
UID:3269-1652171400-1652191200@produffersorlando.com
SUMMARY:Golf at Eagle Creek
DESCRIPTION:28 Players\nShotgun Start\nRange\nContact: Mike
URL:https://produffersorlando.com/event/golf-at-eagle-creek-23/
LOCATION:Eagle Creek Golf Club\, 10350 Emerson Lake Blvd\, Orlando\, FL\, 32832\, United States
CATEGORIES:Tuesday
END:VEVENT
BEGIN:VEVENT
DTSTART;TZID=America/New_York:20220503T080000
DTEND;TZID=America/New_York:20220503T140000
DTSTAMP:20260424T055245
CREATED:20220420T001832Z
LAST-MODIFIED:20220430T235212Z
UID:3330-1651564800-1651586400@produffersorlando.com
SUMMARY:Golf at Highland Reserve
DESCRIPTION:24 Players\nShotgun Start\nRange\nHot dog\nContact: Donnie
URL:https://produffersorlando.com/event/golf-at-highland-reserve-14/
LOCATION:Highland Reserve Golf Club\, 500 Highlands Reserve Blvd\, Davenport\, FL\, 33897\, United States
CATEGORIES:Tuesday
END:VEVENT
BEGIN:VEVENT
DTSTART;TZID=America/New_York:20220426T090000
DTEND;TZID=America/New_York:20220426T140000
DTSTAMP:20260424T055245
CREATED:20220131T015808Z
LAST-MODIFIED:20220131T015808Z
UID:3254-1650963600-1650981600@produffersorlando.com
SUMMARY:Golf at Stoneybrook East
DESCRIPTION:24 Players\nTee-Times\nContact: Mike
URL:https://produffersorlando.com/event/golf-at-stoneybrook-east-8/
LOCATION:Stoneybrook East Golf Club\, 2900 Northampton Ave\, Orlando\, FL\, 32828\, United States
CATEGORIES:Tuesday
END:VEVENT
BEGIN:VEVENT
DTSTART;TZID=America/New_York:20220419T083000
DTEND;TZID=America/New_York:20220419T140000
DTSTAMP:20260424T055245
CREATED:20220228T225045Z
LAST-MODIFIED:20220228T225045Z
UID:3303-1650357000-1650376800@produffersorlando.com
SUMMARY:Golf at Reunion (Card Transactions Only)
DESCRIPTION:28 Players\nTee-Times\nRange\nContact: Mack
URL:https://produffersorlando.com/event/golf-at-reunion-card-transactions-only/
LOCATION:Reunion Resort Golf Course\, 7593 Grathing Dr\, Kissimmee\, FL\, 34747\, United States
CATEGORIES:Tuesday
END:VEVENT
BEGIN:VEVENT
DTSTART;TZID=America/New_York:20220412T083000
DTEND;TZID=America/New_York:20220412T140000
DTSTAMP:20260424T055245
CREATED:20211230T000313Z
LAST-MODIFIED:20211230T000338Z
UID:3209-1649752200-1649772000@produffersorlando.com
SUMMARY:Golf at Eagle Creek
DESCRIPTION:24 Players\nShotgun Start\nRange\nContact: Mike
URL:https://produffersorlando.com/event/golf-at-eagle-creek-22/
LOCATION:Eagle Creek Golf Club\, 10350 Emerson Lake Blvd\, Orlando\, FL\, 32832\, United States
CATEGORIES:Tuesday
END:VEVENT
BEGIN:VEVENT
DTSTART;TZID=America/New_York:20220405T083000
DTEND;TZID=America/New_York:20220405T140000
DTSTAMP:20260424T055245
CREATED:20220204T175802Z
LAST-MODIFIED:20220204T175802Z
UID:3264-1649147400-1649167200@produffersorlando.com
SUMMARY:Golf at Eagle Dunes
DESCRIPTION:24 Players\nShotgun Start\nRange\nContact: Shane
URL:https://produffersorlando.com/event/golf-at-eagle-dunes-10/
LOCATION:FL
CATEGORIES:Tuesday
END:VEVENT
BEGIN:VEVENT
DTSTART;TZID=America/New_York:20220329T083000
DTEND;TZID=America/New_York:20220329T140000
DTSTAMP:20260424T055245
CREATED:20211225T114948Z
LAST-MODIFIED:20211225T114948Z
UID:3194-1648542600-1648562400@produffersorlando.com
SUMMARY:Golf at Legends
DESCRIPTION:24 Players\nShotgun Start\nRange\nContact: Chris
URL:https://produffersorlando.com/event/golf-at-legends-8/
LOCATION:Legends Golf and Country Club\, 1700 Legendary Blvd\, Clermont\, FL\, 34711\, United States
CATEGORIES:Tuesday
END:VEVENT
BEGIN:VEVENT
DTSTART;TZID=America/New_York:20220322T083000
DTEND;TZID=America/New_York:20220322T140000
DTSTAMP:20260424T055245
CREATED:20220124T234938Z
LAST-MODIFIED:20220124T234938Z
UID:3242-1647937800-1647957600@produffersorlando.com
SUMMARY:Golf at Wekiva
DESCRIPTION:24 Players\nShotgun Start\nRange\nContact: Tony
URL:https://produffersorlando.com/event/golf-at-wekiva-9/
LOCATION:Wekiva Golf Club\, 4100 Wekiva Club Court\, Longwood\, FL\, 32779\, United States
CATEGORIES:Tuesday
END:VEVENT
END:VCALENDAR