BEGIN:VCALENDAR
VERSION:2.0
PRODID:-//Pro-Duffers Orlando - ECPv6.15.20//NONSGML v1.0//EN
CALSCALE:GREGORIAN
METHOD:PUBLISH
X-ORIGINAL-URL:https://produffersorlando.com
X-WR-CALDESC:Events for Pro-Duffers Orlando
REFRESH-INTERVAL;VALUE=DURATION:PT1H
X-Robots-Tag:noindex
X-PUBLISHED-TTL:PT1H
BEGIN:VTIMEZONE
TZID:America/New_York
BEGIN:DAYLIGHT
TZOFFSETFROM:-0500
TZOFFSETTO:-0400
TZNAME:EDT
DTSTART:20200308T070000
END:DAYLIGHT
BEGIN:STANDARD
TZOFFSETFROM:-0400
TZOFFSETTO:-0500
TZNAME:EST
DTSTART:20201101T060000
END:STANDARD
BEGIN:DAYLIGHT
TZOFFSETFROM:-0500
TZOFFSETTO:-0400
TZNAME:EDT
DTSTART:20210314T070000
END:DAYLIGHT
BEGIN:STANDARD
TZOFFSETFROM:-0400
TZOFFSETTO:-0500
TZNAME:EST
DTSTART:20211107T060000
END:STANDARD
BEGIN:DAYLIGHT
TZOFFSETFROM:-0500
TZOFFSETTO:-0400
TZNAME:EDT
DTSTART:20220313T070000
END:DAYLIGHT
BEGIN:STANDARD
TZOFFSETFROM:-0400
TZOFFSETTO:-0500
TZNAME:EST
DTSTART:20221106T060000
END:STANDARD
BEGIN:DAYLIGHT
TZOFFSETFROM:-0500
TZOFFSETTO:-0400
TZNAME:EDT
DTSTART:20230312T070000
END:DAYLIGHT
BEGIN:STANDARD
TZOFFSETFROM:-0400
TZOFFSETTO:-0500
TZNAME:EST
DTSTART:20231105T060000
END:STANDARD
END:VTIMEZONE
BEGIN:VEVENT
DTSTART;TZID=America/New_York:20220104T090000
DTEND;TZID=America/New_York:20220104T140000
DTSTAMP:20260424T113120
CREATED:20211225T113333Z
LAST-MODIFIED:20211225T113356Z
UID:3181-1641286800-1641304800@produffersorlando.com
SUMMARY:Golf at Redtail
DESCRIPTION:24 Players\nShotgun Start\nContact: Kevin
URL:https://produffersorlando.com/event/golf-at-retail/
LOCATION:Redtail Golf Club\, 21600 Covered Bridge Lane\, Sorrento\, FL\, 32776\, United States
CATEGORIES:Tuesday
END:VEVENT
BEGIN:VEVENT
DTSTART;TZID=America/New_York:20211228T080000
DTEND;TZID=America/New_York:20211228T170000
DTSTAMP:20260424T113120
CREATED:20211201T173152Z
LAST-MODIFIED:20211201T173152Z
UID:3165-1640678400-1640710800@produffersorlando.com
SUMMARY:Golf at Dubsdread
DESCRIPTION:24 Players\nShotgun Start\nRange\nContact: Virgina
URL:https://produffersorlando.com/event/golf-at-dubsdread-12/
LOCATION:DubsDread Golf Course\, 549 West Par Street\, Orlando\, FL\, 32804\, United States
CATEGORIES:Tuesday
END:VEVENT
BEGIN:VEVENT
DTSTART;TZID=America/New_York:20211221T083000
DTEND;TZID=America/New_York:20211221T140000
DTSTAMP:20260424T113120
CREATED:20211201T172654Z
LAST-MODIFIED:20211201T172654Z
UID:3161-1640075400-1640095200@produffersorlando.com
SUMMARY:Golf A Eagle Creek
DESCRIPTION:28 Players\nShotgun Start\nRange\nContact: Mike
URL:https://produffersorlando.com/event/golf-a-eagle-creek/
LOCATION:Eagle Creek Golf Club\, 10350 Emerson Lake Blvd\, Orlando\, FL\, 32832\, United States
CATEGORIES:Tuesday
END:VEVENT
BEGIN:VEVENT
DTSTART;TZID=America/New_York:20211207T083000
DTEND;TZID=America/New_York:20211207T170000
DTSTAMP:20260424T113120
CREATED:20211125T115714Z
LAST-MODIFIED:20211125T120211Z
UID:3146-1638865800-1638896400@produffersorlando.com
SUMMARY:Golf at Eagle Creek
DESCRIPTION:28 Players\nShotgun Start\nRange\nContact: Mike
URL:https://produffersorlando.com/event/golf-at-eagle-creek-21/
LOCATION:Eagle Creek Golf Club\, 10350 Emerson Lake Blvd\, Orlando\, FL\, 32832\, United States
CATEGORIES:Tuesday
END:VEVENT
BEGIN:VEVENT
DTSTART;TZID=America/New_York:20211130T083000
DTEND;TZID=America/New_York:20211130T140000
DTSTAMP:20260424T113120
CREATED:20211102T095109Z
LAST-MODIFIED:20211102T095109Z
UID:3135-1638261000-1638280800@produffersorlando.com
SUMMARY:Golf at Legacy
DESCRIPTION:28 Players\nShotgun Start\nRange\nContact: Wayne
URL:https://produffersorlando.com/event/golf-at-legacy-10/
LOCATION:Legacy Club at Alaqua Lakes\, 1700 Alaqua Lakes Blvd\, Longwood\, FL\, 32779\, United States
CATEGORIES:Tuesday
END:VEVENT
BEGIN:VEVENT
DTSTART;TZID=America/New_York:20211123T080000
DTEND;TZID=America/New_York:20211123T170000
DTSTAMP:20260424T113120
CREATED:20211102T094844Z
LAST-MODIFIED:20211102T094844Z
UID:3133-1637654400-1637686800@produffersorlando.com
SUMMARY:Golf at Heathrow
DESCRIPTION:28 Players\nShotgun Start\nRange\nContact: Wayne
URL:https://produffersorlando.com/event/golf-at-heathrow-6/
LOCATION:Heathrow Country Club\, 1200 Bridgewater Drive\, Heathrow\, FL\, 32746\, United States
CATEGORIES:Tuesday
END:VEVENT
BEGIN:VEVENT
DTSTART;TZID=America/New_York:20211116T080000
DTEND;TZID=America/New_York:20211116T170000
DTSTAMP:20260424T113120
CREATED:20210823T215704Z
LAST-MODIFIED:20210823T215704Z
UID:3073-1637049600-1637082000@produffersorlando.com
SUMMARY:Golf at Forest Lake
DESCRIPTION:28 Players\nShotgun Start\nContact: John
URL:https://produffersorlando.com/event/golf-at-forest-lake-20/
LOCATION:Forest Lake Golf Club\, 10521 Clarcona Ocoee Rd\, Apopka\, FL\, 32703\, United States
CATEGORIES:Tuesday
END:VEVENT
BEGIN:VEVENT
DTSTART;TZID=America/New_York:20211109T080000
DTEND;TZID=America/New_York:20211109T140000
DTSTAMP:20260424T113120
CREATED:20211014T015421Z
LAST-MODIFIED:20211014T015421Z
UID:3116-1636444800-1636466400@produffersorlando.com
SUMMARY:Golf at Dubsdread
DESCRIPTION:24 Players\nShotgun Start\nRange\nContact: Virginia
URL:https://produffersorlando.com/event/golf-at-dubsdread-11/
LOCATION:DubsDread Golf Course\, 549 West Par Street\, Orlando\, FL\, 32804\, United States
CATEGORIES:Tuesday
END:VEVENT
BEGIN:VEVENT
DTSTART;TZID=America/New_York:20211102T083000
DTEND;TZID=America/New_York:20211102T140000
DTSTAMP:20260424T113120
CREATED:20210823T215525Z
LAST-MODIFIED:20211016T105824Z
UID:3071-1635841800-1635861600@produffersorlando.com
SUMMARY:Golf at White Herron
DESCRIPTION:24 Players\nShotgun Start\nRange\nContact: Mike Lee
URL:https://produffersorlando.com/event/golf-at-dubsdread-10/
LOCATION:White Heron at Ridgewood Lakes\, 200 Eagle Ridge Drive\, Davenport\, 33837\, United States
CATEGORIES:Tuesday
END:VEVENT
BEGIN:VEVENT
DTSTART;TZID=America/New_York:20211028T083000
DTEND;TZID=America/New_York:20211028T140000
DTSTAMP:20260424T113120
CREATED:20210823T171818Z
LAST-MODIFIED:20210823T171818Z
UID:3067-1635409800-1635429600@produffersorlando.com
SUMMARY:Golf at Northshore
DESCRIPTION:24 Players\nT-Times\nContact: Robbie
URL:https://produffersorlando.com/event/golf-at-northshore-10/
LOCATION:North Shore Golf Club\, 11507 N Shore Golf Club Blvd\, Orlando\, FL\, 32832\, United States
CATEGORIES:Tuesday
END:VEVENT
BEGIN:VEVENT
DTSTART;TZID=America/New_York:20211026T083000
DTEND;TZID=America/New_York:20211026T140000
DTSTAMP:20260424T113120
CREATED:20210823T171420Z
LAST-MODIFIED:20211015T161733Z
UID:3065-1635237000-1635256800@produffersorlando.com
SUMMARY:Golf at Eagle Dunes
DESCRIPTION:28 Players\nShotgun Start\nRange\nContact: Wayne/Sean
URL:https://produffersorlando.com/event/golf-at-heathrow-5/
LOCATION:Eagle Dunes Golf Club\, 24000 Marbella Drive\, Sorrento\, FL\, 32776\, United States
CATEGORIES:Tuesday
END:VEVENT
BEGIN:VEVENT
DTSTART;TZID=America/New_York:20211019T083000
DTEND;TZID=America/New_York:20211019T140000
DTSTAMP:20260424T113120
CREATED:20210823T170620Z
LAST-MODIFIED:20210823T170620Z
UID:3061-1634632200-1634652000@produffersorlando.com
SUMMARY:Golf at Eagle Creek PDO Club Championship Day 3
DESCRIPTION:32 Players\nShotgun Start\nRange\nContact: Mike
URL:https://produffersorlando.com/event/golf-at-eagle-creek-pdo-club-championship-day-3/
LOCATION:Eagle Creek Golf Club\, 10350 Emerson Lake Blvd\, Orlando\, FL\, 32832\, United States
CATEGORIES:Tuesday
END:VEVENT
BEGIN:VEVENT
DTSTART;TZID=America/New_York:20211012T083000
DTEND;TZID=America/New_York:20211012T140000
DTSTAMP:20260424T113120
CREATED:20210823T165948Z
LAST-MODIFIED:20210823T165948Z
UID:3057-1634027400-1634047200@produffersorlando.com
SUMMARY:Golf at Rio Pinar PDO Club Championship Day 1
DESCRIPTION:32 Players\nShotgun Start\nRange\nContact: Tom
URL:https://produffersorlando.com/event/golf-at-rio-pinar-pdo-club-championship-day-1/
LOCATION:Rio Pinar Country Club\, 8600 El Prado Ave\, Orlando\, FL\, 32825\, United States
CATEGORIES:Tuesday
END:VEVENT
BEGIN:VEVENT
DTSTART;TZID=America/New_York:20211005T080000
DTEND;TZID=America/New_York:20211005T140000
DTSTAMP:20260424T113120
CREATED:20210823T164656Z
LAST-MODIFIED:20210823T164656Z
UID:3053-1633420800-1633442400@produffersorlando.com
SUMMARY:Golf at Dubsdread
DESCRIPTION:28 Players\nShotgun Start\nRange\nContact: Virginia
URL:https://produffersorlando.com/event/golf-at-dubsdread-9/
LOCATION:DubsDread Golf Course\, 549 West Par Street\, Orlando\, FL\, 32804\, United States
CATEGORIES:Tuesday
END:VEVENT
BEGIN:VEVENT
DTSTART;TZID=America/New_York:20210928T083000
DTEND;TZID=America/New_York:20210928T140000
DTSTAMP:20260424T113120
CREATED:20210727T014505Z
LAST-MODIFIED:20210727T014505Z
UID:3030-1632817800-1632837600@produffersorlando.com
SUMMARY:Golf at Disney LBV
DESCRIPTION:24 Players\nTee-Times\nRange\nContact: Zack
URL:https://produffersorlando.com/event/golf-at-disney-lbv-5/
LOCATION:Disney’s Lake Buena Vista Golf Course\, 1960 Broadway\, Lake Buena Vista\, FL\, 32836\, United States
CATEGORIES:Tuesday
END:VEVENT
BEGIN:VEVENT
DTSTART;TZID=America/New_York:20210921T083000
DTEND;TZID=America/New_York:20210921T140000
DTSTAMP:20260424T113120
CREATED:20210823T143847Z
LAST-MODIFIED:20210823T143847Z
UID:3050-1632213000-1632232800@produffersorlando.com
SUMMARY:Golf at Northshore
DESCRIPTION:24 Players\nTee-Times\nContact: Robbie
URL:https://produffersorlando.com/event/golf-at-northshore-9/
LOCATION:North Shore Golf Club\, 11507 N Shore Golf Club Blvd\, Orlando\, FL\, 32832\, United States
CATEGORIES:Tuesday
END:VEVENT
BEGIN:VEVENT
DTSTART;TZID=America/New_York:20210914T083000
DTEND;TZID=America/New_York:20210914T140000
DTSTAMP:20260424T113120
CREATED:20210727T013133Z
LAST-MODIFIED:20210901T161618Z
UID:3024-1631608200-1631628000@produffersorlando.com
SUMMARY:Golf at Ventura CC
DESCRIPTION:24 Players\nShotgun Start\nPrice is Inclusive\nContact:Josh
URL:https://produffersorlando.com/event/golf-at-mission-inn-los-colinas-8/
LOCATION:Ventura Country Club\, 3333 Woodgate Blvd\, Orlando\, FL\, 32822\, United States
CATEGORIES:Tuesday
END:VEVENT
BEGIN:VEVENT
DTSTART;TZID=America/New_York:20210907T083000
DTEND;TZID=America/New_York:20210907T140000
DTSTAMP:20260424T113120
CREATED:20210823T143521Z
LAST-MODIFIED:20210823T143521Z
UID:3048-1631003400-1631023200@produffersorlando.com
SUMMARY:Golf at Legends
DESCRIPTION:28 Players\nShotgun Start\nRange\nContact: Chris
URL:https://produffersorlando.com/event/golf-at-legends-5/
LOCATION:Legends Golf and Country Club\, 1700 Legendary Blvd\, Clermont\, FL\, 34711\, United States
CATEGORIES:Tuesday
END:VEVENT
BEGIN:VEVENT
DTSTART;TZID=America/New_York:20210902T080000
DTEND;TZID=America/New_York:20210902T140000
DTSTAMP:20260424T113120
CREATED:20210727T011415Z
LAST-MODIFIED:20210727T011415Z
UID:3017-1630569600-1630591200@produffersorlando.com
SUMMARY:Golf At Celebration
DESCRIPTION:24 Players\nTee-Times\nLunch Included\nContact: Jeff
URL:https://produffersorlando.com/event/golf-at-celebration-12/
LOCATION:Celebration Golf Club\, 701 GolfparkDrive\, Kissimmee\, FL\, 34747\, United States
CATEGORIES:Tuesday
END:VEVENT
BEGIN:VEVENT
DTSTART;TZID=America/New_York:20210831T083000
DTEND;TZID=America/New_York:20210831T140000
DTSTAMP:20260424T113120
CREATED:20210727T010406Z
LAST-MODIFIED:20210727T010406Z
UID:3014-1630398600-1630418400@produffersorlando.com
SUMMARY:Golf at Orange Lake Reserve
DESCRIPTION:24 Players\nShotgun Start\nRange\nContact: Jimmy
URL:https://produffersorlando.com/event/golf-at-orange-lake-reserve-4/
LOCATION:Orange Lake Golf\, 8505 W Irlo Bronson Memorial Hwy\, Kissimmee\, FL\, 34747\, United States
CATEGORIES:Tuesday
END:VEVENT
BEGIN:VEVENT
DTSTART;TZID=America/New_York:20210824T080000
DTEND;TZID=America/New_York:20210824T140000
DTSTAMP:20260424T113120
CREATED:20210727T005533Z
LAST-MODIFIED:20210727T005533Z
UID:3010-1629792000-1629813600@produffersorlando.com
SUMMARY:Golf at Orange County National P.L.
DESCRIPTION:24 Players\nShotgun Start\nRange\nContact Ray
URL:https://produffersorlando.com/event/golf-at-orange-county-national-p-l/
LOCATION:Orange County National Golf Center\, 16301 Phil Ritson Way\, Winter Garden\, FL\, 34787\, United States
CATEGORIES:Tuesday
END:VEVENT
BEGIN:VEVENT
DTSTART;TZID=America/New_York:20210817T080000
DTEND;TZID=America/New_York:20210817T140000
DTSTAMP:20260424T113120
CREATED:20210727T005005Z
LAST-MODIFIED:20210727T005005Z
UID:3006-1629187200-1629208800@produffersorlando.com
SUMMARY:Golf at Hawks Landing
DESCRIPTION:28 Players\nShotgun Start\nRange\nContact: Augie
URL:https://produffersorlando.com/event/golf-at-hawks-landing-6/
LOCATION:Hawk’s Landing Golf Club at the Orlando World Center Marriott\, 8701 World Center Drive\, Orlando\, FL\, 32821\, United States
CATEGORIES:Tuesday
END:VEVENT
BEGIN:VEVENT
DTSTART;TZID=America/New_York:20210810T083000
DTEND;TZID=America/New_York:20210810T140000
DTSTAMP:20260424T113120
CREATED:20210701T025229Z
LAST-MODIFIED:20210701T025229Z
UID:2995-1628584200-1628604000@produffersorlando.com
SUMMARY:Golf at Orange County National (Crooked Cat)
DESCRIPTION:24 Players\nShotgun Start\nRange\nContact: Ray
URL:https://produffersorlando.com/event/golf-at-orange-county-national-crooked-cat-3/
LOCATION:Orange County National Golf Center\, 16301 Phil Ritson Way\, Winter Garden\, FL\, 34787\, United States
CATEGORIES:Tuesday
END:VEVENT
BEGIN:VEVENT
DTSTART;TZID=America/New_York:20210805T080000
DTEND;TZID=America/New_York:20210805T170000
DTSTAMP:20260424T113120
CREATED:20210727T011731Z
LAST-MODIFIED:20210727T011731Z
UID:3019-1628150400-1628182800@produffersorlando.com
SUMMARY:Golf at Mission Inn Los Colinas
DESCRIPTION:24 Players\nShotgun Start\nRange\nContact: Nicole
URL:https://produffersorlando.com/event/golf-at-mission-inn-los-colinas-7/
LOCATION:Mission Inn\, 26000 Gasper Ct\, Howey in the Hills\, FL\, 34747
CATEGORIES:Tuesday
END:VEVENT
BEGIN:VEVENT
DTSTART;TZID=America/New_York:20210803T083000
DTEND;TZID=America/New_York:20210803T140000
DTSTAMP:20260424T113120
CREATED:20210623T074059Z
LAST-MODIFIED:20210623T074059Z
UID:2986-1627979400-1627999200@produffersorlando.com
SUMMARY:Golf at Falcons Fire
DESCRIPTION:24 Players\nShotgun Start\nRange\nSCF $20.00\nContact: Jason
URL:https://produffersorlando.com/event/golf-at-falcons-fire-6/
LOCATION:Falcon’s Fire Golf Club\, 3200 Seralago Boulevard\, Kissimmee\, FL\, 34746\, United States
CATEGORIES:Tuesday
END:VEVENT
BEGIN:VEVENT
DTSTART;TZID=America/New_York:20210727T083000
DTEND;TZID=America/New_York:20210727T140000
DTSTAMP:20260424T113120
CREATED:20210701T022517Z
LAST-MODIFIED:20210701T022517Z
UID:2989-1627374600-1627394400@produffersorlando.com
SUMMARY:Golf at Forest Lake
DESCRIPTION:24 Players\nShotgun Start\nContact: John
URL:https://produffersorlando.com/event/golf-at-forest-lake-18/
LOCATION:Forest Lake Golf Club\, 10521 Clarcona Ocoee Rd\, Apopka\, FL\, 32703\, United States
CATEGORIES:Tuesday
END:VEVENT
BEGIN:VEVENT
DTSTART;TZID=America/New_York:20210720T083000
DTEND;TZID=America/New_York:20210720T140000
DTSTAMP:20260424T113120
CREATED:20210509T210300Z
LAST-MODIFIED:20210509T210300Z
UID:2953-1626769800-1626789600@produffersorlando.com
SUMMARY:Golf at Orange Lake Legends
DESCRIPTION:24 Players\nShotgun Start\nRange\nContact: Jim
URL:https://produffersorlando.com/event/golf-at-orange-lake-legends-3/
LOCATION:Orange Lake Golf\, 8505 W Irlo Bronson Memorial Hwy\, Kissimmee\, FL\, 34747\, United States
CATEGORIES:Tuesday
END:VEVENT
BEGIN:VEVENT
DTSTART;TZID=America/New_York:20210713T080000
DTEND;TZID=America/New_York:20210713T140000
DTSTAMP:20260424T113120
CREATED:20210501T115443Z
LAST-MODIFIED:20210501T115443Z
UID:2912-1626163200-1626184800@produffersorlando.com
SUMMARY:Golf at Eagle Creek
DESCRIPTION:28 Players\nShotgun Start\nRange\nSCF Unknown\nContact: Mike
URL:https://produffersorlando.com/event/golf-at-eagle-creek-20/
LOCATION:Eagle Creek Golf Club\, 10350 Emerson Lake Blvd\, Orlando\, FL\, 32832\, United States
CATEGORIES:Tuesday
END:VEVENT
BEGIN:VEVENT
DTSTART;TZID=America/New_York:20210706T080000
DTEND;TZID=America/New_York:20210706T140000
DTSTAMP:20260424T113120
CREATED:20210501T115105Z
LAST-MODIFIED:20210501T115558Z
UID:2910-1625558400-1625580000@produffersorlando.com
SUMMARY:Golf at Celebration
DESCRIPTION:24 Players\nTee-Times\nSCF Unknown\nContact:
URL:https://produffersorlando.com/event/golf-at-celebration-10/
LOCATION:Celebration Golf Club\, 701 GolfparkDrive\, Kissimmee\, FL\, 34747\, United States
CATEGORIES:Tuesday
END:VEVENT
BEGIN:VEVENT
DTSTART;TZID=America/New_York:20210629T083000
DTEND;TZID=America/New_York:20210629T140000
DTSTAMP:20260424T113120
CREATED:20210320T200114Z
LAST-MODIFIED:20210320T200114Z
UID:2846-1624955400-1624975200@produffersorlando.com
SUMMARY:Golf at Championsgate International
DESCRIPTION:24 Players\nShotgun Start\nRange\nS.C.F.
URL:https://produffersorlando.com/event/golf-at-championsgate-international-2/
LOCATION:Champions Gate Golf Club\, 8575 White Shark Blvd\, Davenport\, FL\, 33896\, United States
CATEGORIES:Tuesday
END:VEVENT
END:VCALENDAR