BEGIN:VCALENDAR
VERSION:2.0
PRODID:-//Pro-Duffers Orlando - ECPv6.15.20//NONSGML v1.0//EN
CALSCALE:GREGORIAN
METHOD:PUBLISH
X-ORIGINAL-URL:https://produffersorlando.com
X-WR-CALDESC:Events for Pro-Duffers Orlando
REFRESH-INTERVAL;VALUE=DURATION:PT1H
X-Robots-Tag:noindex
X-PUBLISHED-TTL:PT1H
BEGIN:VTIMEZONE
TZID:America/New_York
BEGIN:DAYLIGHT
TZOFFSETFROM:-0500
TZOFFSETTO:-0400
TZNAME:EDT
DTSTART:20240310T070000
END:DAYLIGHT
BEGIN:STANDARD
TZOFFSETFROM:-0400
TZOFFSETTO:-0500
TZNAME:EST
DTSTART:20241103T060000
END:STANDARD
BEGIN:DAYLIGHT
TZOFFSETFROM:-0500
TZOFFSETTO:-0400
TZNAME:EDT
DTSTART:20250309T070000
END:DAYLIGHT
BEGIN:STANDARD
TZOFFSETFROM:-0400
TZOFFSETTO:-0500
TZNAME:EST
DTSTART:20251102T060000
END:STANDARD
BEGIN:DAYLIGHT
TZOFFSETFROM:-0500
TZOFFSETTO:-0400
TZNAME:EDT
DTSTART:20260308T070000
END:DAYLIGHT
BEGIN:STANDARD
TZOFFSETFROM:-0400
TZOFFSETTO:-0500
TZNAME:EST
DTSTART:20261101T060000
END:STANDARD
BEGIN:DAYLIGHT
TZOFFSETFROM:-0500
TZOFFSETTO:-0400
TZNAME:EDT
DTSTART:20270314T070000
END:DAYLIGHT
BEGIN:STANDARD
TZOFFSETFROM:-0400
TZOFFSETTO:-0500
TZNAME:EST
DTSTART:20271107T060000
END:STANDARD
END:VTIMEZONE
BEGIN:VEVENT
DTSTART;TZID=America/New_York:20260224T081500
DTEND;TZID=America/New_York:20260224T140000
DTSTAMP:20260423T133311
CREATED:20260122T150745Z
LAST-MODIFIED:20260122T150745Z
UID:5300-1771920900-1771941600@produffersorlando.com
SUMMARY:Golf at Forest Lake
DESCRIPTION:18 Players\nTee-Times\nContact
URL:https://produffersorlando.com/event/golf-at-forest-lake-39/
LOCATION:Forest Lake Golf Club\, 10521 Clarcona Ocoee Rd\, Apopka\, FL\, 32703\, United States
CATEGORIES:Tuesday
END:VEVENT
BEGIN:VEVENT
DTSTART;TZID=America/New_York:20260217T083000
DTEND;TZID=America/New_York:20260217T140000
DTSTAMP:20260423T133311
CREATED:20260122T150239Z
LAST-MODIFIED:20260122T150239Z
UID:5296-1771317000-1771336800@produffersorlando.com
SUMMARY:Golf at Wedgefield
DESCRIPTION:16 Players\nTee-Times\nContact
URL:https://produffersorlando.com/event/golf-at-wedgefield-6/
LOCATION:Wedgefield\, 20550 Maxim Pkwy\, Orlando\, FL\, 32833\, United States
CATEGORIES:Tuesday
END:VEVENT
BEGIN:VEVENT
DTSTART;TZID=America/New_York:20260210T083000
DTEND;TZID=America/New_York:20260210T140000
DTSTAMP:20260423T133311
CREATED:20260122T145658Z
LAST-MODIFIED:20260122T145658Z
UID:5291-1770712200-1770732000@produffersorlando.com
SUMMARY:Golf at Eagle Dunes
DESCRIPTION:16 Players\nTee-Times\nContact
URL:https://produffersorlando.com/event/golf-at-eagle-dunes-18/
LOCATION:Eagle Dunes Golf Club\, 24000 Marbella Drive\, Sorrento\, FL\, 32776\, United States
CATEGORIES:Tuesday
END:VEVENT
BEGIN:VEVENT
DTSTART;TZID=America/New_York:20260203T083000
DTEND;TZID=America/New_York:20260203T140000
DTSTAMP:20260423T133311
CREATED:20260122T145236Z
LAST-MODIFIED:20260122T145236Z
UID:5287-1770107400-1770127200@produffersorlando.com
SUMMARY:Golf at Rio Pinar
DESCRIPTION:16 Players\nShotgun Start\nContact
URL:https://produffersorlando.com/event/golf-at-rio-pinar-32/
LOCATION:Rio Pinar Country Club\, 8600 El Prado Ave\, Orlando\, FL\, 32825\, United States
CATEGORIES:Tuesday
END:VEVENT
BEGIN:VEVENT
DTSTART;TZID=America/New_York:20260127T083000
DTEND;TZID=America/New_York:20260127T140000
DTSTAMP:20260423T133311
CREATED:20260111T220326Z
LAST-MODIFIED:20260111T220326Z
UID:5255-1769502600-1769522400@produffersorlando.com
SUMMARY:Golf at rio Pinar
DESCRIPTION:16 Players\nTee Times
URL:https://produffersorlando.com/event/golf-at-rio-pinar-31/
LOCATION:Rio Pinar Country Club\, 8600 El Prado Ave\, Orlando\, FL\, 32825\, United States
CATEGORIES:Tuesday
END:VEVENT
BEGIN:VEVENT
DTSTART;TZID=America/New_York:20260120T090000
DTEND;TZID=America/New_York:20260120T140000
DTSTAMP:20260423T133311
CREATED:20260111T215909Z
LAST-MODIFIED:20260111T215909Z
UID:5251-1768899600-1768917600@produffersorlando.com
SUMMARY:Golf at Redtail
DESCRIPTION:16 Players\nTee Times
URL:https://produffersorlando.com/event/golf-at-redtail-15/
LOCATION:Redtail Golf Club\, 21600 Covered Bridge Lane\, Sorrento\, FL\, 32776\, United States
CATEGORIES:Tuesday
END:VEVENT
BEGIN:VEVENT
DTSTART;TZID=America/New_York:20260113T083000
DTEND;TZID=America/New_York:20260113T140000
DTSTAMP:20260423T133311
CREATED:20251223T035611Z
LAST-MODIFIED:20251223T035611Z
UID:5225-1768293000-1768312800@produffersorlando.com
SUMMARY:Golf at Mayfair
DESCRIPTION:14 Players\nTee-Times\nContact:
URL:https://produffersorlando.com/event/golf-at-mayfair-3/
LOCATION:Mayfair Golf Club\, 3536 Country Club Rd\, Sanford\, 32773\, United States
CATEGORIES:Tuesday
END:VEVENT
BEGIN:VEVENT
DTSTART;TZID=America/New_York:20260106T083000
DTEND;TZID=America/New_York:20260106T140000
DTSTAMP:20260423T133311
CREATED:20251223T014828Z
LAST-MODIFIED:20251223T014828Z
UID:5218-1767688200-1767708000@produffersorlando.com
SUMMARY:Golf at Stoneybrook West
DESCRIPTION:15 Players\nShotgun Start\nContact:
URL:https://produffersorlando.com/event/golf-at-stoneybrook-west-8/
LOCATION:Stoneybrook West Golf Club\, 15501 Towne Commons Blvd\, Winter Garden\, FL\, 34787\, United States
CATEGORIES:Tuesday
END:VEVENT
BEGIN:VEVENT
DTSTART;TZID=America/New_York:20251230T083000
DTEND;TZID=America/New_York:20251230T140000
DTSTAMP:20260423T133311
CREATED:20251129T113344Z
LAST-MODIFIED:20251129T113344Z
UID:5202-1767083400-1767103200@produffersorlando.com
SUMMARY:Golf at Metrowest
DESCRIPTION:16 Players\nTee-Times\nContact: Johnathan
URL:https://produffersorlando.com/event/golf-at-metrowest-25/
LOCATION:Metrowest Golf Club\, 2100 Hiawassee
CATEGORIES:Tuesday
END:VEVENT
BEGIN:VEVENT
DTSTART;TZID=America/New_York:20251223T083000
DTEND;TZID=America/New_York:20251223T140000
DTSTAMP:20260423T133311
CREATED:20251129T113112Z
LAST-MODIFIED:20251129T113112Z
UID:5199-1766478600-1766498400@produffersorlando.com
SUMMARY:Golf at Wekiva
DESCRIPTION:16 Players\nTee-Times\nContact: Tony
URL:https://produffersorlando.com/event/golf-at-wekiva-15/
LOCATION:Wekiva Golf Club\, 4100 Wekiva Club Court\, Longwood\, FL\, 32779\, United States
CATEGORIES:Tuesday
END:VEVENT
BEGIN:VEVENT
DTSTART;TZID=America/New_York:20251216T083000
DTEND;TZID=America/New_York:20251216T140000
DTSTAMP:20260423T133311
CREATED:20251129T112359Z
LAST-MODIFIED:20251129T112359Z
UID:5190-1765873800-1765893600@produffersorlando.com
SUMMARY:Golf at Forest Lake
DESCRIPTION:16 Players\nShotgun Start\nContact John V.
URL:https://produffersorlando.com/event/golf-at-forest-lake-38/
LOCATION:Forest Lake Golf Club\, 10521 Clarcona Ocoee Rd\, Apopka\, FL\, 32703\, United States
CATEGORIES:Tuesday
END:VEVENT
BEGIN:VEVENT
DTSTART;TZID=America/New_York:20251209T083000
DTEND;TZID=America/New_York:20251209T140000
DTSTAMP:20260423T133311
CREATED:20251129T111952Z
LAST-MODIFIED:20251129T112505Z
UID:5184-1765269000-1765288800@produffersorlando.com
SUMMARY:Golf at a Arlington Ridge
DESCRIPTION:16 Players\n0830 Shotgun\nContact Sam
URL:https://produffersorlando.com/event/golf-at-a-arlington-ridge/
LOCATION:Arlington Ridge\, 4436 Arlington Ridge Blvd\, Leesburg\, FL\, 34748\, United States
CATEGORIES:Tuesday
END:VEVENT
BEGIN:VEVENT
DTSTART;TZID=America/New_York:20251202T083200
DTEND;TZID=America/New_York:20251202T140000
DTSTAMP:20260423T133311
CREATED:20251127T204243Z
LAST-MODIFIED:20251127T204243Z
UID:5179-1764664320-1764684000@produffersorlando.com
SUMMARY:Golf at Remington
DESCRIPTION:16 Players\nTee-Times\nContact Joe/Jeff
URL:https://produffersorlando.com/event/golf-at-remington-17/
LOCATION:Remington Golf Club\, 2995 Remingtong Blvd\, Kissimmee\, FL\, 34774\, United States
CATEGORIES:Tuesday
END:VEVENT
BEGIN:VEVENT
DTSTART;TZID=America/New_York:20251104T090000
DTEND;TZID=America/New_York:20251104T140000
DTSTAMP:20260423T133311
CREATED:20251021T000552Z
LAST-MODIFIED:20251021T000552Z
UID:5150-1762246800-1762264800@produffersorlando.com
SUMMARY:Golf at Ventura
DESCRIPTION:20 Players\nTee-Times\nCost is Inclusive\nContact: Josh
URL:https://produffersorlando.com/event/golf-at-ventura-17/
LOCATION:Ventura Country Club\, 3333 Woodgate Blvd\, Orlando\, FL\, 32822\, United States
CATEGORIES:Tuesday
END:VEVENT
BEGIN:VEVENT
DTSTART;TZID=America/New_York:20251028T080000
DTEND;TZID=America/New_York:20251028T140000
DTSTAMP:20260423T133311
CREATED:20251020T235927Z
LAST-MODIFIED:20251020T235927Z
UID:5146-1761638400-1761660000@produffersorlando.com
SUMMARY:Golf at Stoneybrook East
DESCRIPTION:20 Players\nTee-Times\nContact: Mike
URL:https://produffersorlando.com/event/golf-at-stoneybrook-east-16/
LOCATION:Stoneybrook East Golf Club\, 2900 Northampton Ave\, Orlando\, FL\, 32828\, United States
CATEGORIES:Tuesday
END:VEVENT
BEGIN:VEVENT
DTSTART;TZID=America/New_York:20250930T090000
DTEND;TZID=America/New_York:20250930T170000
DTSTAMP:20260423T133311
CREATED:20250903T010616Z
LAST-MODIFIED:20250903T010616Z
UID:5112-1759222800-1759251600@produffersorlando.com
SUMMARY:Golf at Champions Gate (International)
DESCRIPTION:24 Players\nTee-Times\nRange\nContact:Patrick
URL:https://produffersorlando.com/event/golf-at-champions-gate-international-3/
LOCATION:Champions Gate Golf Club\, 8575 White Shark Blvd\, Davenport\, FL\, 33896\, United States
CATEGORIES:Tuesday
END:VEVENT
BEGIN:VEVENT
DTSTART;TZID=America/New_York:20250923T083000
DTEND;TZID=America/New_York:20250923T140000
DTSTAMP:20260423T133311
CREATED:20250903T005014Z
LAST-MODIFIED:20250903T005014Z
UID:5108-1758616200-1758636000@produffersorlando.com
SUMMARY:Golf at Providence
DESCRIPTION:@0 Players\nTee-Times\nContact: Jerry
URL:https://produffersorlando.com/event/golf-at-providence-12/
LOCATION:Providence Golf Club\, 1518 Clubhouse Blvd\, Davenport\, FL\, 33837\, United States
CATEGORIES:Tuesday
END:VEVENT
BEGIN:VEVENT
DTSTART;TZID=America/New_York:20250916T090000
DTEND;TZID=America/New_York:20250916T140000
DTSTAMP:20260423T133311
CREATED:20250903T004531Z
LAST-MODIFIED:20250903T004531Z
UID:5104-1758013200-1758031200@produffersorlando.com
SUMMARY:Golf at Venetian Bay
DESCRIPTION:12 Players\nTee-Times\nContact: Ken
URL:https://produffersorlando.com/event/golf-at-venetian-bay-3/
LOCATION:Venetian Bay Golf Club\, 63 Airport Road\, New Smyma Beach\, FL\, 32168\, United States
CATEGORIES:Tuesday
END:VEVENT
BEGIN:VEVENT
DTSTART;TZID=America/New_York:20250909T083000
DTEND;TZID=America/New_York:20250909T140000
DTSTAMP:20260423T133311
CREATED:20250903T001715Z
LAST-MODIFIED:20250903T001715Z
UID:5100-1757406600-1757426400@produffersorlando.com
SUMMARY:Golf at Rio Pinar
DESCRIPTION:20 Players\nShotgun Start\n$5.00 Range Balls\nContact Tom
URL:https://produffersorlando.com/event/golf-at-rio-pinar-29/
LOCATION:Rio Pinar Country Club\, 8600 El Prado Ave\, Orlando\, FL\, 32825\, United States
CATEGORIES:Tuesday
END:VEVENT
BEGIN:VEVENT
DTSTART;TZID=America/New_York:20250826T075000
DTEND;TZID=America/New_York:20250826T140000
DTSTAMP:20260423T133311
CREATED:20250817T142234Z
LAST-MODIFIED:20250817T142234Z
UID:5095-1756194600-1756216800@produffersorlando.com
SUMMARY:Golf at Reunion (Nicklaus)
DESCRIPTION:24 Players\nTee-Times\nRange\nContact: Mack Johnson
URL:https://produffersorlando.com/event/golf-at-reunion-nicklaus-10/
LOCATION:Reunion Resort Golf Course\, 7593 Grathing Dr\, Kissimmee\, FL\, 34747\, United States
CATEGORIES:Tuesday
END:VEVENT
BEGIN:VEVENT
DTSTART;TZID=America/New_York:20250819T090000
DTEND;TZID=America/New_York:20250819T140000
DTSTAMP:20260423T133311
CREATED:20250624T024240Z
LAST-MODIFIED:20250624T024240Z
UID:5058-1755594000-1755612000@produffersorlando.com
SUMMARY:Golf at Champions Gate International
DESCRIPTION:20 Players\nTee-Times\nContact: Patrick D.
URL:https://produffersorlando.com/event/golf-at-champions-gate-international-2/
LOCATION:Champions Gate Golf Club\, 8575 White Shark Blvd\, Davenport\, FL\, 33896\, United States
CATEGORIES:Tuesday
END:VEVENT
BEGIN:VEVENT
DTSTART;TZID=America/New_York:20250805T083000
DTEND;TZID=America/New_York:20250805T140000
DTSTAMP:20260423T133311
CREATED:20250729T011158Z
LAST-MODIFIED:20250729T011158Z
UID:5083-1754382600-1754402400@produffersorlando.com
SUMMARY:Golf at Rio Pinar
DESCRIPTION:20 Players\nShotgun Start\nRange\nContact: Tom
URL:https://produffersorlando.com/event/golf-at-rio-pinar-28/
LOCATION:Rio Pinar Country Club\, 8600 El Prado Ave\, Orlando\, FL\, 32825\, United States
CATEGORIES:Tuesday
END:VEVENT
BEGIN:VEVENT
DTSTART;TZID=America/New_York:20250729T083000
DTEND;TZID=America/New_York:20250729T170000
DTSTAMP:20260423T133311
CREATED:20250624T023151Z
LAST-MODIFIED:20250624T023235Z
UID:5051-1753777800-1753808400@produffersorlando.com
SUMMARY:Golf at Northshore
DESCRIPTION:20 Players\nTee-Times\nContact: Robbie
URL:https://produffersorlando.com/event/golf-at-northshore-17/
LOCATION:North Shore Golf Club\, 11507 N Shore Golf Club Blvd\, Orlando\, FL\, 32832\, United States
CATEGORIES:Tuesday
END:VEVENT
BEGIN:VEVENT
DTSTART;TZID=America/New_York:20250724T090000
DTEND;TZID=America/New_York:20250724T140000
DTSTAMP:20260423T133311
CREATED:20250624T023005Z
LAST-MODIFIED:20250624T023732Z
UID:5049-1753347600-1753365600@produffersorlando.com
SUMMARY:Golf at Champions Gate International
DESCRIPTION:20 Players\nTee-Times\nContact: Patrick D.
URL:https://produffersorlando.com/event/golf-at-champions-gate-international/
LOCATION:Champions Gate Golf Club\, 8575 White Shark Blvd\, Davenport\, FL\, 33896\, United States
CATEGORIES:Tuesday
END:VEVENT
BEGIN:VEVENT
DTSTART;TZID=America/New_York:20250722T083000
DTEND;TZID=America/New_York:20250722T140000
DTSTAMP:20260423T133311
CREATED:20250624T022737Z
LAST-MODIFIED:20250624T022737Z
UID:5047-1753173000-1753192800@produffersorlando.com
SUMMARY:Golf at Providence
DESCRIPTION:20 Players\nTee-Times\nContact: Jerry
URL:https://produffersorlando.com/event/golf-at-providence-10/
LOCATION:Providence Golf Club\, 1518 Clubhouse Blvd\, Davenport\, FL\, 33837\, United States
CATEGORIES:Tuesday
END:VEVENT
BEGIN:VEVENT
DTSTART;TZID=America/New_York:20250715T083000
DTEND;TZID=America/New_York:20250715T140000
DTSTAMP:20260423T133311
CREATED:20250421T020932Z
LAST-MODIFIED:20250421T020932Z
UID:5000-1752568200-1752588000@produffersorlando.com
SUMMARY:Golf at Eagle Creek
DESCRIPTION:24 Players\nShotgun Start with 24 Players\nRange\nContact Mike
URL:https://produffersorlando.com/event/golf-at-eagle-creek-36/
LOCATION:Eagle Creek Golf Club\, 10350 Emerson Lake Blvd\, Orlando\, FL\, 32832\, United States
CATEGORIES:Tuesday
END:VEVENT
BEGIN:VEVENT
DTSTART;TZID=America/New_York:20250708T082600
DTEND;TZID=America/New_York:20250708T140000
DTSTAMP:20260423T133311
CREATED:20250624T012440Z
LAST-MODIFIED:20250624T014441Z
UID:5037-1751963160-1751983200@produffersorlando.com
SUMMARY:Golf at Orange County National
DESCRIPTION:24 Players\nTee-Times\nRange\nLunch Voucher\nContact Ray
URL:https://produffersorlando.com/event/golf-at-orange-county-national-3/
LOCATION:Orange County National Golf Center\, 16301 Phil Ritson Way\, Winter Garden\, FL\, 34787\, United States
CATEGORIES:Tuesday
END:VEVENT
BEGIN:VEVENT
DTSTART;TZID=America/New_York:20250701T085000
DTEND;TZID=America/New_York:20250701T140000
DTSTAMP:20260423T133311
CREATED:20250624T011805Z
LAST-MODIFIED:20250624T011805Z
UID:5033-1751359800-1751378400@produffersorlando.com
SUMMARY:Golf at Reunion (Nicklaus)
DESCRIPTION:24 Players\nTee-Times\nRange\nContact: Mack J.
URL:https://produffersorlando.com/event/golf-at-reunion-nicklaus-9/
LOCATION:Reunion Resort Golf Course\, 7593 Grathing Dr\, Kissimmee\, FL\, 34747\, United States
CATEGORIES:Tuesday
END:VEVENT
BEGIN:VEVENT
DTSTART;TZID=America/New_York:20250527T083000
DTEND;TZID=America/New_York:20250527T140000
DTSTAMP:20260423T133311
CREATED:20250419T013341Z
LAST-MODIFIED:20250419T013341Z
UID:4994-1748334600-1748354400@produffersorlando.com
SUMMARY:Golf at Rio Pinar
DESCRIPTION:24 Players\nShotgun Start\nContact: Tom J.
URL:https://produffersorlando.com/event/golf-at-rio-pinar-26/
LOCATION:Rio Pinar Country Club\, 8600 El Prado Ave\, Orlando\, FL\, 32825\, United States
CATEGORIES:Tuesday
END:VEVENT
BEGIN:VEVENT
DTSTART;TZID=America/New_York:20250520T080000
DTEND;TZID=America/New_York:20250520T140000
DTSTAMP:20260423T133311
CREATED:20250330T001717Z
LAST-MODIFIED:20250330T001717Z
UID:4975-1747728000-1747749600@produffersorlando.com
SUMMARY:Golf at Dubsdreed
DESCRIPTION:24 Players\nShotgun Start\nRange Unknown Condition\nContact: Virginia
URL:https://produffersorlando.com/event/golf-at-dubsdreed-6/
LOCATION:DubsDread Golf Course\, 549 West Par Street\, Orlando\, FL\, 32804\, United States
CATEGORIES:Tuesday
END:VEVENT
END:VCALENDAR