BEGIN:VCALENDAR
VERSION:2.0
PRODID:-//Pro-Duffers Orlando - ECPv6.15.20//NONSGML v1.0//EN
CALSCALE:GREGORIAN
METHOD:PUBLISH
X-ORIGINAL-URL:https://produffersorlando.com
X-WR-CALDESC:Events for Pro-Duffers Orlando
REFRESH-INTERVAL;VALUE=DURATION:PT1H
X-Robots-Tag:noindex
X-PUBLISHED-TTL:PT1H
BEGIN:VTIMEZONE
TZID:America/New_York
BEGIN:DAYLIGHT
TZOFFSETFROM:-0500
TZOFFSETTO:-0400
TZNAME:EDT
DTSTART:20190310T070000
END:DAYLIGHT
BEGIN:STANDARD
TZOFFSETFROM:-0400
TZOFFSETTO:-0500
TZNAME:EST
DTSTART:20191103T060000
END:STANDARD
BEGIN:DAYLIGHT
TZOFFSETFROM:-0500
TZOFFSETTO:-0400
TZNAME:EDT
DTSTART:20200308T070000
END:DAYLIGHT
BEGIN:STANDARD
TZOFFSETFROM:-0400
TZOFFSETTO:-0500
TZNAME:EST
DTSTART:20201101T060000
END:STANDARD
BEGIN:DAYLIGHT
TZOFFSETFROM:-0500
TZOFFSETTO:-0400
TZNAME:EDT
DTSTART:20210314T070000
END:DAYLIGHT
BEGIN:STANDARD
TZOFFSETFROM:-0400
TZOFFSETTO:-0500
TZNAME:EST
DTSTART:20211107T060000
END:STANDARD
BEGIN:DAYLIGHT
TZOFFSETFROM:-0500
TZOFFSETTO:-0400
TZNAME:EDT
DTSTART:20220313T070000
END:DAYLIGHT
BEGIN:STANDARD
TZOFFSETFROM:-0400
TZOFFSETTO:-0500
TZNAME:EST
DTSTART:20221106T060000
END:STANDARD
END:VTIMEZONE
BEGIN:VEVENT
DTSTART;TZID=America/New_York:20210119T083000
DTEND;TZID=America/New_York:20210119T140000
DTSTAMP:20260424T174323
CREATED:20201210T164140Z
LAST-MODIFIED:20201210T170643Z
UID:2589-1611045000-1611064800@produffersorlando.com
SUMMARY:Golf at Mission Inn (Los Colinas)
DESCRIPTION:28 Players\nShotgun Start\nRange\nSingle Cart Fee: $5.00\nContact: Nicole
URL:https://produffersorlando.com/event/golf-at-mission-inn-los-colinas-5/
LOCATION:FL
CATEGORIES:Tuesday
END:VEVENT
BEGIN:VEVENT
DTSTART;TZID=America/New_York:20210112T083000
DTEND;TZID=America/New_York:20210112T140000
DTSTAMP:20260424T174323
CREATED:20201204T205834Z
LAST-MODIFIED:20201204T205834Z
UID:2584-1610440200-1610460000@produffersorlando.com
SUMMARY:Golf at Deltona Hills
DESCRIPTION:24 Players\nShotgun Start\n$10 Single Cart Fee\nContact: Peggy/Bud
URL:https://produffersorlando.com/event/golf-at-deltona-hills/
LOCATION:Deltona Golf Club\, 1120 Elkcam Blvd\, Deltona\, FL\, 32725\, United States
CATEGORIES:Tuesday
END:VEVENT
BEGIN:VEVENT
DTSTART;TZID=America/New_York:20201229T083000
DTEND;TZID=America/New_York:20201229T140000
DTSTAMP:20260424T174323
CREATED:20201013T090453Z
LAST-MODIFIED:20201013T091220Z
UID:2521-1609230600-1609250400@produffersorlando.com
SUMMARY:Golf at Forest Lake
DESCRIPTION:24 Players\nShotgun Start\nContact: John\nNo Single Cart Fee at this time.
URL:https://produffersorlando.com/event/golf-at-forest-lake-15/
LOCATION:Forest Lake Golf Club\, 10521 Clarcona Ocoee Rd\, Apopka\, FL\, 32703\, United States
CATEGORIES:Tuesday
END:VEVENT
BEGIN:VEVENT
DTSTART;TZID=America/New_York:20201222T083000
DTEND;TZID=America/New_York:20201222T140000
DTSTAMP:20260424T174323
CREATED:20201013T090219Z
LAST-MODIFIED:20201013T090219Z
UID:2519-1608625800-1608645600@produffersorlando.com
SUMMARY:Golf at St. Cloud
DESCRIPTION:24 Players\nTee-Times\nRange\nContact: Heather\n$7.00 Single Cart Fee
URL:https://produffersorlando.com/event/golf-at-st-cloud-5/
LOCATION:St Cloud\, 5310 Michigan Ave\, Saint Cloud\, FL\, 34772\, United States
CATEGORIES:Tuesday
END:VEVENT
BEGIN:VEVENT
DTSTART;TZID=America/New_York:20201208T090200
DTEND;TZID=America/New_York:20201208T140000
DTSTAMP:20260424T174323
CREATED:20201013T085342Z
LAST-MODIFIED:20201203T210607Z
UID:2513-1607418120-1607436000@produffersorlando.com
SUMMARY:Golf at Providence
DESCRIPTION:24 Players\nTee-Times\nContact:Jerry\n$10.70 Single Cart Fee
URL:https://produffersorlando.com/event/golf-at-highland-reserve-7/
LOCATION:Providence Golf Club\, 1518 Clubhouse Blvd\, Davenport\, FL\, 33837\, United States
CATEGORIES:Tuesday
END:VEVENT
BEGIN:VEVENT
DTSTART;TZID=America/New_York:20201201T083000
DTEND;TZID=America/New_York:20201201T140000
DTSTAMP:20260424T174323
CREATED:20201107T092600Z
LAST-MODIFIED:20201107T092600Z
UID:2549-1606811400-1606831200@produffersorlando.com
SUMMARY:Golf at Eagle Creek
DESCRIPTION:24 Players\nShotgun Start\nRange\nContact: Mike
URL:https://produffersorlando.com/event/golf-at-eagle-creek-16/
LOCATION:Eagle Creek Golf Club\, 10350 Emerson Lake Blvd\, Orlando\, FL\, 32832\, United States
CATEGORIES:Tuesday
END:VEVENT
BEGIN:VEVENT
DTSTART;TZID=America/New_York:20201124T080000
DTEND;TZID=America/New_York:20201124T140000
DTSTAMP:20260424T174323
CREATED:20201009T235036Z
LAST-MODIFIED:20201109T155342Z
UID:2506-1606204800-1606226400@produffersorlando.com
SUMMARY:Golf at Dubsdread
DESCRIPTION:24 Players\nRange\nShotgun Start\nSingle Cart Fee:$9.00\nContact: Andrew
URL:https://produffersorlando.com/event/golf-at-swiss-fairways-2/
LOCATION:DubsDread Golf Course\, 549 West Par Street\, Orlando\, FL\, 32804\, United States
CATEGORIES:Tuesday
END:VEVENT
BEGIN:VEVENT
DTSTART;TZID=America/New_York:20201117T073000
DTEND;TZID=America/New_York:20201117T140000
DTSTAMP:20260424T174323
CREATED:20201009T234438Z
LAST-MODIFIED:20201009T234438Z
UID:2502-1605598200-1605621600@produffersorlando.com
SUMMARY:Golf at Mission Inn (El Campeon)
DESCRIPTION:24 Players\nShotgun Start\nRange\nSingle Cart Fee: None\nContact: Lou
URL:https://produffersorlando.com/event/golf-at-mission-inn-el-campeon-3/
LOCATION:Mission Inn\, 26000 Gasper Ct\, Howey in the Hills\, FL\, 34747
CATEGORIES:Tuesday
END:VEVENT
BEGIN:VEVENT
DTSTART;TZID=America/New_York:20201110T083000
DTEND;TZID=America/New_York:20201110T140000
DTSTAMP:20260424T174323
CREATED:20201009T233858Z
LAST-MODIFIED:20201009T233858Z
UID:2498-1604997000-1605016800@produffersorlando.com
SUMMARY:Golf at Forest Lake
DESCRIPTION:24 Players\nShotgun Start\nSingle Cart Fee: None\nContact: John
URL:https://produffersorlando.com/event/golf-at-forest-lake-14/
LOCATION:Forest Lake Golf Club\, 10521 Clarcona Ocoee Rd\, Apopka\, FL\, 32703\, United States
CATEGORIES:Tuesday
END:VEVENT
BEGIN:VEVENT
DTSTART;TZID=America/New_York:20201103T083000
DTEND;TZID=America/New_York:20201103T140000
DTSTAMP:20260424T174323
CREATED:20201009T233204Z
LAST-MODIFIED:20201009T233253Z
UID:2493-1604392200-1604412000@produffersorlando.com
SUMMARY:Golf at Hawk's Landing
DESCRIPTION:24 Players\nShotgun Start\nSingle Cart Fee: None\nContact: Auggie
URL:https://produffersorlando.com/event/golf-at-hawks-landing-4/
LOCATION:Hawk’s Landing Golf Club at the Orlando World Center Marriott\, 8701 World Center Drive\, Orlando\, FL\, 32821\, United States
CATEGORIES:Tuesday
END:VEVENT
BEGIN:VEVENT
DTSTART;TZID=America/New_York:20201027T083000
DTEND;TZID=America/New_York:20201027T140000
DTSTAMP:20260424T174323
CREATED:20201009T232809Z
LAST-MODIFIED:20201009T232809Z
UID:2490-1603787400-1603807200@produffersorlando.com
SUMMARY:Golf at Swiss Fairways
DESCRIPTION:24 Players\nShotgun Start\nSingle Cart Fee: None\nContact: John
URL:https://produffersorlando.com/event/golf-at-swiss-fairways/
LOCATION:Swiss Fairways\, 13114 Skiing Paradise Blvd\, Clermont\, FL\, 34711\, United States
CATEGORIES:Tuesday
END:VEVENT
BEGIN:VEVENT
DTSTART;TZID=America/New_York:20201020T083000
DTEND;TZID=America/New_York:20201020T140000
DTSTAMP:20260424T174323
CREATED:20201009T231607Z
LAST-MODIFIED:20201009T231607Z
UID:2486-1603182600-1603202400@produffersorlando.com
SUMMARY:Golf at Legacy
DESCRIPTION:24 Players\nTee-Times\nRange\nSingle Cart Charge:\nContact: Wayne
URL:https://produffersorlando.com/event/golf-at-legacy-9/
LOCATION:Legacy Club at Alaqua Lakes\, 1700 Alaqua Lakes Blvd\, Longwood\, FL\, 32779\, United States
CATEGORIES:Tuesday
END:VEVENT
BEGIN:VEVENT
DTSTART;TZID=America/New_York:20201013T083000
DTEND;TZID=America/New_York:20201013T140000
DTSTAMP:20260424T174323
CREATED:20200921T142242Z
LAST-MODIFIED:20200921T142242Z
UID:2472-1602577800-1602597600@produffersorlando.com
SUMMARY:Golf at Rio Pinar (Day 1 PDO Club Championship)
DESCRIPTION:30 Players\nShotgun Start\nRange\nContact: Tom
URL:https://produffersorlando.com/event/golf-at-rio-pinar-day-1-pdo-club-championship/
LOCATION:Rio Pinar Country Club\, 8600 El Prado Ave\, Orlando\, FL\, 32825\, United States
CATEGORIES:Tuesday
END:VEVENT
BEGIN:VEVENT
DTSTART;TZID=America/New_York:20201006T083000
DTEND;TZID=America/New_York:20201006T140000
DTSTAMP:20260424T174323
CREATED:20200921T135104Z
LAST-MODIFIED:20200921T135104Z
UID:2467-1601973000-1601992800@produffersorlando.com
SUMMARY:Golf at Redtail
DESCRIPTION:24 Players\nShotgun Start\nContact: Gage
URL:https://produffersorlando.com/event/golf-at-redtail-8/
LOCATION:Redtail Golf Club\, 21600 Covered Bridge Lane\, Sorrento\, FL\, 32776\, United States
CATEGORIES:Tuesday
END:VEVENT
BEGIN:VEVENT
DTSTART;TZID=America/New_York:20200929T083000
DTEND;TZID=America/New_York:20200929T140000
DTSTAMP:20260424T174323
CREATED:20200715T122958Z
LAST-MODIFIED:20200715T122958Z
UID:2425-1601368200-1601388000@produffersorlando.com
SUMMARY:Golf at Disney LBV
DESCRIPTION:20 Players\nTee-Times\nRange\nContact: Brooke
URL:https://produffersorlando.com/event/golf-at-disney-lbv-4/
LOCATION:Disney’s Lake Buena Vista Golf Course\, 1960 Broadway\, Lake Buena Vista\, FL\, 32836\, United States
CATEGORIES:Tuesday
END:VEVENT
BEGIN:VEVENT
DTSTART;TZID=America/New_York:20200922T083000
DTEND;TZID=America/New_York:20200922T140000
DTSTAMP:20260424T174323
CREATED:20200715T122708Z
LAST-MODIFIED:20200715T122708Z
UID:2423-1600763400-1600783200@produffersorlando.com
SUMMARY:Golf at Southern Dunes
DESCRIPTION:20 Players\nRange\nContact: Kevin
URL:https://produffersorlando.com/event/golf-at-southern-dunes-3/
LOCATION:Southern Dunes Golf and Country Club\, 2888 Southern Dunes Blvd\, Haines City\, FL\, 33844\, United States
CATEGORIES:Tuesday
END:VEVENT
BEGIN:VEVENT
DTSTART;TZID=America/New_York:20200915T072500
DTEND;TZID=America/New_York:20200915T140000
DTSTAMP:20260424T174323
CREATED:20200706T222203Z
LAST-MODIFIED:20200706T222613Z
UID:2400-1600154700-1600178400@produffersorlando.com
SUMMARY:Golf at Celebration
DESCRIPTION:20 Players\nTee-Times\nContact: Jeff
URL:https://produffersorlando.com/event/golf-at-celebration-9/
LOCATION:Celebration Golf Club\, 701 GolfparkDrive\, Kissimmee\, FL\, 34747\, United States
CATEGORIES:Tuesday
END:VEVENT
BEGIN:VEVENT
DTSTART;TZID=America/New_York:20200908T083000
DTEND;TZID=America/New_York:20200908T140000
DTSTAMP:20260424T174323
CREATED:20200708T110241Z
LAST-MODIFIED:20200708T110241Z
UID:2405-1599553800-1599573600@produffersorlando.com
SUMMARY:Golf at Mission Inn (El Campeon)
DESCRIPTION:20 Players\nShotgun Start\nRange\nContact: Lou
URL:https://produffersorlando.com/event/golf-at-mission-inn-el-campeon/
LOCATION:Mission Inn\, 26000 Gasper Ct\, Howey in the Hills\, FL\, 34747
CATEGORIES:Tuesday
END:VEVENT
BEGIN:VEVENT
DTSTART;TZID=America/New_York:20200901T090000
DTEND;TZID=America/New_York:20200901T140000
DTSTAMP:20260424T174323
CREATED:20200828T135624Z
LAST-MODIFIED:20200828T135624Z
UID:2445-1598950800-1598968800@produffersorlando.com
SUMMARY:Golf at Timacaun
DESCRIPTION:20 Players\nTee-Times\nContact: Ben
URL:https://produffersorlando.com/event/golf-at-timacaun-2/
LOCATION:Timacuan Golf Club\, 550 Timacuan Blvd\, Lake Mary\, FL\, 32746\, United States
CATEGORIES:Tuesday
END:VEVENT
BEGIN:VEVENT
DTSTART;TZID=America/New_York:20200825T083000
DTEND;TZID=America/New_York:20200825T140000
DTSTAMP:20260424T174323
CREATED:20200624T090503Z
LAST-MODIFIED:20200624T090503Z
UID:2370-1598344200-1598364000@produffersorlando.com
SUMMARY:Golf at Ventura
DESCRIPTION:20 Players\nTee-Times\nContact: Josh
URL:https://produffersorlando.com/event/golf-at-ventura-6/
LOCATION:Ventura Country Club\, 3333 Woodgate Blvd\, Orlando\, FL\, 32822\, United States
CATEGORIES:Tuesday
END:VEVENT
BEGIN:VEVENT
DTSTART;TZID=America/New_York:20200818T083000
DTEND;TZID=America/New_York:20200818T140000
DTSTAMP:20260424T174323
CREATED:20200624T085936Z
LAST-MODIFIED:20200624T085936Z
UID:2366-1597739400-1597759200@produffersorlando.com
SUMMARY:Golf at Providence
DESCRIPTION:20 Players\nTee-Times\nContact: Jerry
URL:https://produffersorlando.com/event/golf-at-providence-2/
LOCATION:Providence Golf Club\, 1518 Clubhouse Blvd\, Davenport\, FL\, 33837\, United States
CATEGORIES:Tuesday
END:VEVENT
BEGIN:VEVENT
DTSTART;TZID=America/New_York:20200811T083000
DTEND;TZID=America/New_York:20200811T140000
DTSTAMP:20260424T174323
CREATED:20200708T111421Z
LAST-MODIFIED:20200708T111421Z
UID:2410-1597134600-1597154400@produffersorlando.com
SUMMARY:Golf at Forest Lake
DESCRIPTION:20 players\nTee-Times\ncontact: John
URL:https://produffersorlando.com/event/golf-at-forest-lake-12/
LOCATION:Forest Lake Golf Club\, 10521 Clarcona Ocoee Rd\, Apopka\, FL\, 32703\, United States
CATEGORIES:Tuesday
END:VEVENT
BEGIN:VEVENT
DTSTART;TZID=America/New_York:20200804T080000
DTEND;TZID=America/New_York:20200804T140000
DTSTAMP:20260424T174323
CREATED:20200708T204708Z
LAST-MODIFIED:20200709T215223Z
UID:2414-1596528000-1596549600@produffersorlando.com
SUMMARY:Golf at Orange County National (Crooked Cat)
DESCRIPTION:24 Players\nTee-Times\nRange\nContact: Ray
URL:https://produffersorlando.com/event/golf-at-ocn-crooked-cat/
LOCATION:Orange County National Golf Center\, 16301 Phil Ritson Way\, Winter Garden\, FL\, 34787\, United States
CATEGORIES:Tuesday
END:VEVENT
BEGIN:VEVENT
DTSTART;TZID=America/New_York:20200728T083000
DTEND;TZID=America/New_York:20200728T140000
DTSTAMP:20260424T174323
CREATED:20200702T105428Z
LAST-MODIFIED:20200702T105428Z
UID:2394-1595925000-1595944800@produffersorlando.com
SUMMARY:Golf at Shingle Creek
DESCRIPTION:24 Players\nShotgun Staart\nRangeBalls\nContact: Corey
URL:https://produffersorlando.com/event/golf-at-shingle-creek-9/
LOCATION:Shingle Creek Golf Club\, 9939 Universal Boulevard\, Orlando\, FL\, 32819\, United States
CATEGORIES:Tuesday
END:VEVENT
BEGIN:VEVENT
DTSTART;TZID=America/New_York:20200721T083000
DTEND;TZID=America/New_York:20200721T140000
DTSTAMP:20260424T174323
CREATED:20200617T195424Z
LAST-MODIFIED:20200708T112002Z
UID:2357-1595320200-1595340000@produffersorlando.com
SUMMARY:Golf at Legacy
DESCRIPTION:NO PDO UNIFORM\n20 Players\nRange Balls\nShotgun Start\nContact: Wayne
URL:https://produffersorlando.com/event/golf-at-legacy-6/
LOCATION:Legacy Club at Alaqua Lakes\, 1700 Alaqua Lakes Blvd\, Longwood\, FL\, 32779\, United States
CATEGORIES:Tuesday
END:VEVENT
BEGIN:VEVENT
DTSTART;TZID=America/New_York:20200714T083000
DTEND;TZID=America/New_York:20200714T140000
DTSTAMP:20260424T174323
CREATED:20200617T194743Z
LAST-MODIFIED:20200617T194743Z
UID:2353-1594715400-1594735200@produffersorlando.com
SUMMARY:Golf at Eagle Creek
DESCRIPTION:20 Players\nShotgun Start\nContact: Mike
URL:https://produffersorlando.com/event/golf-at-eagle-creek-12/
LOCATION:Eagle Creek Golf Club\, 10350 Emerson Lake Blvd\, Orlando\, FL\, 32832\, United States
CATEGORIES:Tuesday
END:VEVENT
BEGIN:VEVENT
DTSTART;TZID=America/New_York:20200707T085200
DTEND;TZID=America/New_York:20200707T140000
DTSTAMP:20260424T174323
CREATED:20200617T194252Z
LAST-MODIFIED:20200706T190159Z
UID:2348-1594111920-1594130400@produffersorlando.com
SUMMARY:Golf at Providence (Changed to Forest Lake)
DESCRIPTION:20 Players\nTee-Times\nContact: Jerry/John Forest Lake
URL:https://produffersorlando.com/event/golf-at-providence/
LOCATION:Forest Lake Golf Club\, 10521 Clarcona Ocoee Road\, Ocoee\, FL\, 32703\, United States
CATEGORIES:Tuesday
END:VEVENT
BEGIN:VEVENT
DTSTART;TZID=America/New_York:20200630T083000
DTEND;TZID=America/New_York:20200630T170000
DTSTAMP:20260424T174323
CREATED:20200531T184233Z
LAST-MODIFIED:20200531T184233Z
UID:2320-1593505800-1593536400@produffersorlando.com
SUMMARY:Golf at Eagle Creek
DESCRIPTION:20 Players\nTee-Times\nRange Balls\nContact:Mike
URL:https://produffersorlando.com/event/golf-at-eagle-creek-11/
LOCATION:Eagle Creek Golf Club\, 10350 Emerson Lake Blvd\, Orlando\, FL\, 32832\, United States
CATEGORIES:Tuesday
END:VEVENT
BEGIN:VEVENT
DTSTART;TZID=America/New_York:20200623T083000
DTEND;TZID=America/New_York:20200623T140000
DTSTAMP:20260424T174323
CREATED:20200513T184721Z
LAST-MODIFIED:20200513T184721Z
UID:2273-1592901000-1592920800@produffersorlando.com
SUMMARY:Golf at Ventura
DESCRIPTION:12 Players\nTee-Times\nContact: Josh
URL:https://produffersorlando.com/event/golf-at-ventura-5/
LOCATION:Ventura Country Club\, 3333 Woodgate Blvd\, Orlando\, FL\, 32822\, United States
CATEGORIES:Tuesday
END:VEVENT
BEGIN:VEVENT
DTSTART;TZID=America/New_York:20200609T084000
DTEND;TZID=America/New_York:20200609T140000
DTSTAMP:20260424T174323
CREATED:20200513T183421Z
LAST-MODIFIED:20200513T183421Z
UID:2271-1591692000-1591711200@produffersorlando.com
SUMMARY:Golf at Champions Gate National
DESCRIPTION:12 Players\nTee-Times\nContact: Patrick
URL:https://produffersorlando.com/event/golf-at-champions-gate-national/
LOCATION:Champions Gate Golf Club\, 8575 White Shark Blvd\, Davenport\, FL\, 33896\, United States
CATEGORIES:Tuesday
END:VEVENT
END:VCALENDAR