BEGIN:VCALENDAR
VERSION:2.0
PRODID:-//Pro-Duffers Orlando - ECPv6.15.20//NONSGML v1.0//EN
CALSCALE:GREGORIAN
METHOD:PUBLISH
X-WR-CALNAME:Pro-Duffers Orlando
X-ORIGINAL-URL:https://produffersorlando.com
X-WR-CALDESC:Events for Pro-Duffers Orlando
REFRESH-INTERVAL;VALUE=DURATION:PT1H
X-Robots-Tag:noindex
X-PUBLISHED-TTL:PT1H
BEGIN:VTIMEZONE
TZID:America/New_York
BEGIN:DAYLIGHT
TZOFFSETFROM:-0500
TZOFFSETTO:-0400
TZNAME:EDT
DTSTART:20170312T070000
END:DAYLIGHT
BEGIN:STANDARD
TZOFFSETFROM:-0400
TZOFFSETTO:-0500
TZNAME:EST
DTSTART:20171105T060000
END:STANDARD
BEGIN:DAYLIGHT
TZOFFSETFROM:-0500
TZOFFSETTO:-0400
TZNAME:EDT
DTSTART:20180311T070000
END:DAYLIGHT
BEGIN:STANDARD
TZOFFSETFROM:-0400
TZOFFSETTO:-0500
TZNAME:EST
DTSTART:20181104T060000
END:STANDARD
BEGIN:DAYLIGHT
TZOFFSETFROM:-0500
TZOFFSETTO:-0400
TZNAME:EDT
DTSTART:20190310T070000
END:DAYLIGHT
BEGIN:STANDARD
TZOFFSETFROM:-0400
TZOFFSETTO:-0500
TZNAME:EST
DTSTART:20191103T060000
END:STANDARD
END:VTIMEZONE
BEGIN:VEVENT
DTSTART;TZID=America/New_York:20181218T083000
DTEND;TZID=America/New_York:20181218T140000
DTSTAMP:20260425T082628
CREATED:20181123T174921Z
LAST-MODIFIED:20181123T174921Z
UID:1365-1545121800-1545141600@produffersorlando.com
SUMMARY:Golf at Eagle Creek
DESCRIPTION:24 Players\nShotgun Start\nLunch\nContact: Mike
URL:https://produffersorlando.com/event/golf-at-eagle-creek-3/
LOCATION:Eagle Creek Golf Club\, 10350 Emerson Lake Blvd\, Orlando\, FL\, 32832\, United States
CATEGORIES:Tuesday
END:VEVENT
BEGIN:VEVENT
DTSTART;TZID=America/New_York:20181211T080000
DTEND;TZID=America/New_York:20181211T140000
DTSTAMP:20260425T082628
CREATED:20181123T174248Z
LAST-MODIFIED:20181123T174248Z
UID:1360-1544515200-1544536800@produffersorlando.com
SUMMARY:Golf at Dubsdread
DESCRIPTION:24 Players\nShotgun Start\nRange\nContact: Justin
URL:https://produffersorlando.com/event/golf-at-dubsdread-3/
LOCATION:DubsDread Golf Course\, 549 West Par Street\, Orlando\, FL\, 32804\, United States
CATEGORIES:Tuesday
END:VEVENT
BEGIN:VEVENT
DTSTART;TZID=America/New_York:20181204T080000
DTEND;TZID=America/New_York:20181204T140000
DTSTAMP:20260425T082628
CREATED:20181122T162859Z
LAST-MODIFIED:20181122T162859Z
UID:1354-1543910400-1543932000@produffersorlando.com
SUMMARY:Golf at Hunter's Creek
DESCRIPTION:24 Players\nTee-Times\nRange\nContact: Paul
URL:https://produffersorlando.com/event/golf-at-hunters-creek/
LOCATION:Hunters Creek Golf Club\, 14401 Sports Club Way\, Orlando\, FL\, 32837\, United States
CATEGORIES:Tuesday
END:VEVENT
BEGIN:VEVENT
DTSTART;TZID=America/New_York:20181127T083000
DTEND;TZID=America/New_York:20181127T140000
DTSTAMP:20260425T082628
CREATED:20181114T205642Z
LAST-MODIFIED:20181114T205642Z
UID:1348-1543307400-1543327200@produffersorlando.com
SUMMARY:Golf at Eagle Creek
DESCRIPTION:24 Players\nRange\nLunch\nShotgun Start\nContact: Mike
URL:https://produffersorlando.com/event/golf-at-eagle-creek-2/
LOCATION:Eagle Creek Golf Club\, 10350 Emerson Lake Blvd\, Orlando\, FL\, 32832\, United States
CATEGORIES:Tuesday
END:VEVENT
BEGIN:VEVENT
DTSTART;TZID=America/New_York:20181120T083000
DTEND;TZID=America/New_York:20181120T140000
DTSTAMP:20260425T082628
CREATED:20180822T224153Z
LAST-MODIFIED:20180822T224153Z
UID:1296-1542702600-1542722400@produffersorlando.com
SUMMARY:Golf at K-Bay
DESCRIPTION:24 Players\nGolf-Range-Lunch\nShotgun Start\nContact: Rick
URL:https://produffersorlando.com/event/golf-at-k-bay/
LOCATION:Kissimmee Bay Golf Club\, 2801 Kissimmee Bay Blvd\, Kissimmee\, FL\, 34744\, United States
CATEGORIES:Tuesday
END:VEVENT
BEGIN:VEVENT
DTSTART;TZID=America/New_York:20181113T083000
DTEND;TZID=America/New_York:20181113T140000
DTSTAMP:20260425T082628
CREATED:20181105T132909Z
LAST-MODIFIED:20181105T133706Z
UID:1340-1542097800-1542117600@produffersorlando.com
SUMMARY:Golf at Ridgewood Lakes
DESCRIPTION:24 Players\nShotgun Start\nGolf and Lunch\nRange not Included\nContact: Harold
URL:https://produffersorlando.com/event/golf-at-ridgewood-lakes-2/
LOCATION:White Heron at Ridgewood Lakes\, 200 Eagle Ridge Drive\, Davenport\, 33837\, United States
CATEGORIES:Tuesday
END:VEVENT
BEGIN:VEVENT
DTSTART;TZID=America/New_York:20181106T080000
DTEND;TZID=America/New_York:20181106T140000
DTSTAMP:20260425T082628
CREATED:20181026T183903Z
LAST-MODIFIED:20181026T183903Z
UID:1331-1541491200-1541512800@produffersorlando.com
SUMMARY:Golf at Falcon's Fire
DESCRIPTION:24 Players\nRange\nContact: Matt
URL:https://produffersorlando.com/event/golf-at-falcons-fire-2/
LOCATION:Falcon’s Fire Golf Club\, 3200 Seralago Boulevard\, Kissimmee\, FL\, 34746\, United States
CATEGORIES:Tuesday
END:VEVENT
BEGIN:VEVENT
DTSTART;TZID=America/New_York:20181030T080000
DTEND;TZID=America/New_York:20181030T140000
DTSTAMP:20260425T082628
CREATED:20181017T222611Z
LAST-MODIFIED:20181017T222611Z
UID:1325-1540886400-1540908000@produffersorlando.com
SUMMARY:Golf at Dubsdread
DESCRIPTION:24 Players\nShotgun Start\nRange\nContact: Tony
URL:https://produffersorlando.com/event/golf-at-dubsdread/
LOCATION:DubsDread Golf Course\, 549 West Par Street\, Orlando\, FL\, 32804\, United States
CATEGORIES:Tuesday
END:VEVENT
BEGIN:VEVENT
DTSTART;TZID=America/New_York:20181023T083000
DTEND;TZID=America/New_York:20181023T140000
DTSTAMP:20260425T082628
CREATED:20181017T221742Z
LAST-MODIFIED:20181017T221742Z
UID:1323-1540283400-1540303200@produffersorlando.com
SUMMARY:Golf at Metrowest
DESCRIPTION:24 Players\nRange\nContact: Jorge
URL:https://produffersorlando.com/event/golf-at-metrowest-6/
LOCATION:Metrowest Golf Club\, 2100 Hiawassee
CATEGORIES:Tuesday
END:VEVENT
BEGIN:VEVENT
DTSTART;TZID=America/New_York:20181016T090000
DTEND;TZID=America/New_York:20181016T140000
DTSTAMP:20260425T082628
CREATED:20180902T131439Z
LAST-MODIFIED:20180902T132411Z
UID:1312-1539680400-1539698400@produffersorlando.com
SUMMARY:Golf at C.C. of Winter Haven
DESCRIPTION:16 Players\nRange
URL:https://produffersorlando.com/event/c-c-of-winter-haven/
LOCATION:Country Club of Winter Haven\, 4200 Country Club Rd S.\, Winter Haven\, FL\, 33881\, United States
CATEGORIES:Tuesday
END:VEVENT
BEGIN:VEVENT
DTSTART;TZID=America/New_York:20181009T083000
DTEND;TZID=America/New_York:20181009T140000
DTSTAMP:20260425T082628
CREATED:20180819T182806Z
LAST-MODIFIED:20180819T182806Z
UID:1273-1539073800-1539093600@produffersorlando.com
SUMMARY:Golf at Orange Lake (Legends)
DESCRIPTION:24 Players\nShotgun Start\nRange\nContact: Emily
URL:https://produffersorlando.com/event/golf-at-orange-lake-legends/
LOCATION:Orange Lake Golf\, 8505 W Irlo Bronson Memorial Hwy\, Kissimmee\, FL\, 34747\, United States
CATEGORIES:Tuesday
END:VEVENT
BEGIN:VEVENT
DTSTART;TZID=America/New_York:20181002T083000
DTEND;TZID=America/New_York:20181002T140000
DTSTAMP:20260425T082628
CREATED:20180819T181902Z
LAST-MODIFIED:20180819T182159Z
UID:1269-1538469000-1538488800@produffersorlando.com
SUMMARY:Golf at Remington
DESCRIPTION:24 Players\nShotgun Start\nGolf\, Breakfast Sandwich\, Lunch
URL:https://produffersorlando.com/event/golf-at-remington-4/
LOCATION:Remington Golf Club\, 2995 Remingtong Blvd\, Kissimmee\, FL\, 34774\, United States
CATEGORIES:Tuesday
END:VEVENT
BEGIN:VEVENT
DTSTART;TZID=America/New_York:20180925T090000
DTEND;TZID=America/New_York:20180925T140000
DTSTAMP:20260425T082628
CREATED:20180819T175552Z
LAST-MODIFIED:20180819T175630Z
UID:1260-1537866000-1537884000@produffersorlando.com
SUMMARY:Golf at Solivato
DESCRIPTION:20 Players\nShotgun Start\nRange\nClaude
URL:https://produffersorlando.com/event/golf-at-solivato-2/
LOCATION:Solivato\, 404 Village Drive\, Kissimmee\, FL\, 34759\, United States
CATEGORIES:Tuesday
END:VEVENT
BEGIN:VEVENT
DTSTART;TZID=America/New_York:20180918T080000
DTEND;TZID=America/New_York:20180918T140000
DTSTAMP:20260425T082628
CREATED:20180804T103338Z
LAST-MODIFIED:20180804T103338Z
UID:1245-1537257600-1537279200@produffersorlando.com
SUMMARY:Golf at Disney (Magnolia)
DESCRIPTION:24 Players\nTee-Times\nRange
URL:https://produffersorlando.com/event/golf-at-disney-magnolia/
LOCATION:Disney’s Magnolia Golf Course\, 1950 Magnolia Palm Drive\, Orlando\, FL\, 32836\, United States
CATEGORIES:Tuesday
END:VEVENT
BEGIN:VEVENT
DTSTART;TZID=America/New_York:20180911T080000
DTEND;TZID=America/New_York:20180911T140000
DTSTAMP:20260425T082628
CREATED:20180804T102557Z
LAST-MODIFIED:20180805T233501Z
UID:1238-1536652800-1536674400@produffersorlando.com
SUMMARY:Golf at Metrowest
DESCRIPTION:24 Players\nShotgun Start\nContact: Jorge
URL:https://produffersorlando.com/event/golf-at-eastwood-3/
LOCATION:Eastwood Golf Club\, 13950 Golfway Blvd\, Orlando\, FL\, 32828\, United States
CATEGORIES:Tuesday
END:VEVENT
BEGIN:VEVENT
DTSTART;TZID=America/New_York:20180904T083000
DTEND;TZID=America/New_York:20180904T140000
DTSTAMP:20260425T082628
CREATED:20180804T100442Z
LAST-MODIFIED:20180804T100442Z
UID:1234-1536049800-1536069600@produffersorlando.com
SUMMARY:Golf at Celebration
DESCRIPTION:24 Players\nShotgun Start\nGolf-Range-Lunch
URL:https://produffersorlando.com/event/golf-at-celebration-7/
LOCATION:Celebration Golf Club\, 701 GolfparkDrive\, Kissimmee\, FL\, 34747\, United States
CATEGORIES:Tuesday
END:VEVENT
BEGIN:VEVENT
DTSTART;TZID=America/New_York:20180828T083000
DTEND;TZID=America/New_York:20180828T140000
DTSTAMP:20260425T082628
CREATED:20180712T191107Z
LAST-MODIFIED:20180712T191107Z
UID:1220-1535445000-1535464800@produffersorlando.com
SUMMARY:Golf at Timacaun
DESCRIPTION:20 Players\nShotgun Start\nRange\nContact: Joe L.
URL:https://produffersorlando.com/event/golf-at-timacaun/
LOCATION:Timacuan Golf Club\, 550 Timacuan Blvd\, Lake Mary\, FL\, 32746\, United States
CATEGORIES:Tuesday
END:VEVENT
BEGIN:VEVENT
DTSTART;TZID=America/New_York:20180821T083000
DTEND;TZID=America/New_York:20180821T140000
DTSTAMP:20260425T082628
CREATED:20180712T184513Z
LAST-MODIFIED:20180712T184513Z
UID:1213-1534840200-1534860000@produffersorlando.com
SUMMARY:Golf at Northshore
DESCRIPTION:24 Players\nShotgun Start\nContact: Robbie
URL:https://produffersorlando.com/event/golf-at-northshore-4/
LOCATION:North Shore Golf Club\, 11507 N Shore Golf Club Blvd\, Orlando\, FL\, 32832\, United States
CATEGORIES:Tuesday
END:VEVENT
BEGIN:VEVENT
DTSTART;TZID=America/New_York:20180814T083000
DTEND;TZID=America/New_York:20180814T140000
DTSTAMP:20260425T082628
CREATED:20180712T183847Z
LAST-MODIFIED:20180712T183847Z
UID:1209-1534235400-1534255200@produffersorlando.com
SUMMARY:Golf at Eagle Creek
DESCRIPTION:24 Players\nShotgun Start\nRange Balls\nContact: Mike
URL:https://produffersorlando.com/event/golf-at-eagle-creek/
LOCATION:Eagle Creek Golf Club\, 10350 Emerson Lake Blvd\, Orlando\, FL\, 32832\, United States
CATEGORIES:Tuesday
END:VEVENT
BEGIN:VEVENT
DTSTART;TZID=America/New_York:20180807T080000
DTEND;TZID=America/New_York:20180807T140000
DTSTAMP:20260425T082628
CREATED:20180712T183148Z
LAST-MODIFIED:20180712T183148Z
UID:1205-1533628800-1533650400@produffersorlando.com
SUMMARY:Golf at Monarch
DESCRIPTION:24 Players\nShotgun Start\nRange\nContact: Craig
URL:https://produffersorlando.com/event/golf-at-monarch/
LOCATION:Monarch Golf Club\, 5325 St. Andrews Arc\, Leesburg\, FL\, 34748-7964\, United States
CATEGORIES:Tuesday
END:VEVENT
BEGIN:VEVENT
DTSTART;TZID=America/New_York:20180731T080000
DTEND;TZID=America/New_York:20180731T140000
DTSTAMP:20260425T082628
CREATED:20180623T051801Z
LAST-MODIFIED:20180623T051801Z
UID:1197-1533024000-1533045600@produffersorlando.com
SUMMARY:Golf at Forest Lake
DESCRIPTION:20 Players\nContact: Arrow
URL:https://produffersorlando.com/event/golf-at-forest-lake-4/
LOCATION:Forest Lake Golf Club\, 10521 Clarcona Ocoee Rd\, Apopka\, FL\, 32703\, United States
CATEGORIES:Tuesday
END:VEVENT
BEGIN:VEVENT
DTSTART;TZID=America/New_York:20180724T080000
DTEND;TZID=America/New_York:20180724T140000
DTSTAMP:20260425T082628
CREATED:20180623T050433Z
LAST-MODIFIED:20180712T072139Z
UID:1189-1532419200-1532440800@produffersorlando.com
SUMMARY:Golf at Harmony
DESCRIPTION:24 Players\nShotgun Start\nRange\nContact: John
URL:https://produffersorlando.com/event/golf-at-harmony/
LOCATION:Harmony Golf Preserve\, 7252 5 Oaks Drive\, Saint Cloud\, FL\, 34773\, United States
CATEGORIES:Tuesday
END:VEVENT
BEGIN:VEVENT
DTSTART;TZID=America/New_York:20180717T080000
DTEND;TZID=America/New_York:20180717T170000
DTSTAMP:20260425T082628
CREATED:20180712T072332Z
LAST-MODIFIED:20180712T072332Z
UID:1200-1531814400-1531846800@produffersorlando.com
SUMMARY:NO PLAY
DESCRIPTION:
URL:https://produffersorlando.com/event/no-play-2/
LOCATION:FL
CATEGORIES:Tuesday
END:VEVENT
BEGIN:VEVENT
DTSTART;TZID=America/New_York:20180710T090000
DTEND;TZID=America/New_York:20180710T140000
DTSTAMP:20260425T082628
CREATED:20180509T202341Z
LAST-MODIFIED:20180509T202341Z
UID:1164-1531213200-1531231200@produffersorlando.com
SUMMARY:Golf at Solivato
DESCRIPTION:20 Players\nContact:
URL:https://produffersorlando.com/event/golf-at-solivato/
LOCATION:Solivato\, 404 Village Drive\, Kissimmee\, FL\, 34759\, United States
CATEGORIES:Tuesday
END:VEVENT
BEGIN:VEVENT
DTSTART;TZID=America/New_York:20180703T080000
DTEND;TZID=America/New_York:20180703T140000
DTSTAMP:20260425T082628
CREATED:20180427T184138Z
LAST-MODIFIED:20180427T184138Z
UID:1153-1530604800-1530626400@produffersorlando.com
SUMMARY:Golf at Highland Reserve
DESCRIPTION:20 Players\nRange\nContact: Greg
URL:https://produffersorlando.com/event/golf-at-highland-reserve-4/
LOCATION:Highland Reserve Golf Club\, 500 Highlands Reserve Blvd\, Davenport\, FL\, 33897\, United States
CATEGORIES:Tuesday
END:VEVENT
BEGIN:VEVENT
DTSTART;TZID=America/New_York:20180626T083000
DTEND;TZID=America/New_York:20180626T140000
DTSTAMP:20260425T082628
CREATED:20180413T023350Z
LAST-MODIFIED:20180413T023350Z
UID:1140-1530001800-1530021600@produffersorlando.com
SUMMARY:Golf at Zellwood
DESCRIPTION:24 Players\nShotgun Start\nContact: Steve
URL:https://produffersorlando.com/event/golf-at-zellwood/
LOCATION:Zellwood Station Golf Club\, 2126 Spillman Drive\, Zellwood\, FL\, 32798\, United States
CATEGORIES:Tuesday
END:VEVENT
BEGIN:VEVENT
DTSTART;TZID=America/New_York:20180619T083000
DTEND;TZID=America/New_York:20180619T140000
DTSTAMP:20260425T082628
CREATED:20180413T022855Z
LAST-MODIFIED:20180413T022855Z
UID:1136-1529397000-1529416800@produffersorlando.com
SUMMARY:Golf at Legacy
DESCRIPTION:24 Players\nShotgun Start\nRange\nContact: Wayne
URL:https://produffersorlando.com/event/golf-at-legacy-2/
LOCATION:Legacy Club at Alaqua Lakes\, 1700 Alaqua Lakes Blvd\, Longwood\, FL\, 32779\, United States
CATEGORIES:Tuesday
END:VEVENT
BEGIN:VEVENT
DTSTART;TZID=America/New_York:20180612T083000
DTEND;TZID=America/New_York:20180612T140000
DTSTAMP:20260425T082628
CREATED:20180413T022116Z
LAST-MODIFIED:20180413T022154Z
UID:1131-1528792200-1528812000@produffersorlando.com
SUMMARY:Golf at Falcon's Fire
DESCRIPTION:24 Players\nShotgun Start\nContact: Jason
URL:https://produffersorlando.com/event/golf-atfalcons-fire/
LOCATION:Falcon’s Fire Golf Club\, 3200 Seralago Boulevard\, Kissimmee\, FL\, 34746\, United States
CATEGORIES:Tuesday
END:VEVENT
BEGIN:VEVENT
DTSTART;TZID=America/New_York:20180605T083000
DTEND;TZID=America/New_York:20180605T140000
DTSTAMP:20260425T082628
CREATED:20180516T203901Z
LAST-MODIFIED:20180516T203901Z
UID:1172-1528187400-1528207200@produffersorlando.com
SUMMARY:Golf at Hawk's Landing
DESCRIPTION:24 Players\nGolf\, Range\, Shotgun Start\nContact: Derrick
URL:https://produffersorlando.com/event/golf-at-hawks-landing-2/
LOCATION:Hawk’s Landing Golf Club at the Orlando World Center Marriott\, 8701 World Center Drive\, Orlando\, FL\, 32821\, United States
CATEGORIES:Tuesday
END:VEVENT
BEGIN:VEVENT
DTSTART;TZID=America/New_York:20180529T080000
DTEND;TZID=America/New_York:20180529T140000
DTSTAMP:20260425T082628
CREATED:20180409T173839Z
LAST-MODIFIED:20180409T173839Z
UID:1124-1527580800-1527602400@produffersorlando.com
SUMMARY:Golf at Highland Reserve
DESCRIPTION:Shotgun Start\nGreg
URL:https://produffersorlando.com/event/golf-at-highland-reserve-3/
LOCATION:Highland Reserve Golf Club\, 500 Highlands Reserve Blvd\, Davenport\, FL\, 33897\, United States
CATEGORIES:Tuesday
END:VEVENT
END:VCALENDAR