BEGIN:VCALENDAR
VERSION:2.0
PRODID:-//Pro-Duffers Orlando - ECPv6.15.20//NONSGML v1.0//EN
CALSCALE:GREGORIAN
METHOD:PUBLISH
X-ORIGINAL-URL:https://produffersorlando.com
X-WR-CALDESC:Events for Pro-Duffers Orlando
REFRESH-INTERVAL;VALUE=DURATION:PT1H
X-Robots-Tag:noindex
X-PUBLISHED-TTL:PT1H
BEGIN:VTIMEZONE
TZID:America/New_York
BEGIN:DAYLIGHT
TZOFFSETFROM:-0500
TZOFFSETTO:-0400
TZNAME:EDT
DTSTART:20160313T070000
END:DAYLIGHT
BEGIN:STANDARD
TZOFFSETFROM:-0400
TZOFFSETTO:-0500
TZNAME:EST
DTSTART:20161106T060000
END:STANDARD
BEGIN:DAYLIGHT
TZOFFSETFROM:-0500
TZOFFSETTO:-0400
TZNAME:EDT
DTSTART:20170312T070000
END:DAYLIGHT
BEGIN:STANDARD
TZOFFSETFROM:-0400
TZOFFSETTO:-0500
TZNAME:EST
DTSTART:20171105T060000
END:STANDARD
BEGIN:DAYLIGHT
TZOFFSETFROM:-0500
TZOFFSETTO:-0400
TZNAME:EDT
DTSTART:20180311T070000
END:DAYLIGHT
BEGIN:STANDARD
TZOFFSETFROM:-0400
TZOFFSETTO:-0500
TZNAME:EST
DTSTART:20181104T060000
END:STANDARD
BEGIN:DAYLIGHT
TZOFFSETFROM:-0500
TZOFFSETTO:-0400
TZNAME:EDT
DTSTART:20190310T070000
END:DAYLIGHT
BEGIN:STANDARD
TZOFFSETFROM:-0400
TZOFFSETTO:-0500
TZNAME:EST
DTSTART:20191103T060000
END:STANDARD
END:VTIMEZONE
BEGIN:VTIMEZONE
TZID:UTC
BEGIN:STANDARD
TZOFFSETFROM:+0000
TZOFFSETTO:+0000
TZNAME:UTC
DTSTART:20160101T000000
END:STANDARD
END:VTIMEZONE
BEGIN:VEVENT
DTSTART;TZID=America/New_York:20180313T073000
DTEND;TZID=America/New_York:20180313T140000
DTSTAMP:20260425T141947
CREATED:20180221T192326Z
LAST-MODIFIED:20180221T192326Z
UID:1071-1520926200-1520949600@produffersorlando.com
SUMMARY:Golf at Highland Reserve
DESCRIPTION:24 Players\nShotgun Start\nGreg
URL:https://produffersorlando.com/event/golf-at-highland-reserve/
LOCATION:Highland Reserve Golf Club\, 500 Highlands Reserve Blvd\, Davenport\, FL\, 33897\, United States
CATEGORIES:Tuesday
END:VEVENT
BEGIN:VEVENT
DTSTART;TZID=America/New_York:20180306T084500
DTEND;TZID=America/New_York:20180306T140000
DTSTAMP:20260425T141947
CREATED:20180221T191916Z
LAST-MODIFIED:20180221T191916Z
UID:1067-1520325900-1520344800@produffersorlando.com
SUMMARY:Golf at Mission Inn (Los Colinas)
DESCRIPTION:24 Players\nShotgun Start\nRange\nJoe
URL:https://produffersorlando.com/event/golf-at-mission-inn-los-colinas/
LOCATION:Mission Inn\, 26000 Gasper Ct\, Howey in the Hills\, FL\, 34747
CATEGORIES:Tuesday
END:VEVENT
BEGIN:VEVENT
DTSTART;TZID=America/New_York:20180227T090000
DTEND;TZID=America/New_York:20180227T140000
DTSTAMP:20260425T141947
CREATED:20180221T191500Z
LAST-MODIFIED:20180221T191500Z
UID:1063-1519722000-1519740000@produffersorlando.com
SUMMARY:Golf at Ridgewood Lakes
DESCRIPTION:24 Players\nShotgun Start\nMike
URL:https://produffersorlando.com/event/golf-at-ridgewood-lakes/
LOCATION:White Heron at Ridgewood Lakes\, 200 Eagle Ridge Drive\, Davenport\, 33837\, United States
CATEGORIES:Tuesday
END:VEVENT
BEGIN:VEVENT
DTSTART;TZID=America/New_York:20180220T080000
DTEND;TZID=America/New_York:20180220T140000
DTSTAMP:20260425T141947
CREATED:20180204T145033Z
LAST-MODIFIED:20180204T145033Z
UID:1042-1519113600-1519135200@produffersorlando.com
SUMMARY:Golf at Deer Run
DESCRIPTION:28 Players\nGolf-Range-Lunch\nAltula
URL:https://produffersorlando.com/event/golf-at-deer-run/
LOCATION:FL
CATEGORIES:Tuesday
END:VEVENT
BEGIN:VEVENT
DTSTART;TZID=America/New_York:20180213T080000
DTEND;TZID=America/New_York:20180213T140000
DTSTAMP:20260425T141947
CREATED:20180204T144416Z
LAST-MODIFIED:20180204T144500Z
UID:1038-1518508800-1518530400@produffersorlando.com
SUMMARY:Golf at Indian River Preserve
DESCRIPTION:28 Players\nGolf-Range-lunch
URL:https://produffersorlando.com/event/golf-at-indian-river-preserve/
LOCATION:Indian River Preserve\, 3950 Clubhouse Drive\, Mims\, FL\, 32754\, United States
CATEGORIES:Tuesday
END:VEVENT
BEGIN:VEVENT
DTSTART;TZID=America/New_York:20180206T083000
DTEND;TZID=America/New_York:20180206T140000
DTSTAMP:20260425T141947
CREATED:20171108T152317Z
LAST-MODIFIED:20180204T142852Z
UID:1008-1517905800-1517925600@produffersorlando.com
SUMMARY:Golf at Oaks National
DESCRIPTION:28 Players\, Shotgun \nContact: Jeff
URL:https://produffersorlando.com/event/golf-at-oaks-national/
LOCATION:Oaks National Golf Club\, 1500 The Oaks Boulevard\, Kissimmee\, FL\, 34746\, United States
CATEGORIES:Tuesday
END:VEVENT
BEGIN:VEVENT
DTSTART;TZID=America/New_York:20180130T080000
DTEND;TZID=America/New_York:20180130T140000
DTSTAMP:20260425T141947
CREATED:20171108T151057Z
LAST-MODIFIED:20171108T151057Z
UID:1004-1517299200-1517320800@produffersorlando.com
SUMMARY:Golf at Eastwood
DESCRIPTION:3 Players Shotgun \nContact: Robbie
URL:https://produffersorlando.com/event/golf-at-eastwood-2/
LOCATION:Eastwood Golf Club\, 13950 Golfway Blvd\, Orlando\, FL\, 32828\, United States
CATEGORIES:Tuesday
END:VEVENT
BEGIN:VEVENT
DTSTART;TZID=America/New_York:20180123T083000
DTEND;TZID=America/New_York:20180123T140000
DTSTAMP:20260425T141947
CREATED:20171108T150436Z
LAST-MODIFIED:20171108T150802Z
UID:1000-1516696200-1516716000@produffersorlando.com
SUMMARY:Golf at Remington
DESCRIPTION:24 Players\, Range\, Lunch \nContact: Rick Smith
URL:https://produffersorlando.com/event/golf-at-remington/
LOCATION:Remington Golf Club\, 2995 Remingtong Blvd\, Kissimmee\, FL\, 34774\, United States
CATEGORIES:Tuesday
END:VEVENT
BEGIN:VEVENT
DTSTART;TZID=America/New_York:20180116T083000
DTEND;TZID=America/New_York:20180116T140000
DTSTAMP:20260425T141947
CREATED:20171104T165932Z
LAST-MODIFIED:20171104T165932Z
UID:986-1516091400-1516111200@produffersorlando.com
SUMMARY:Golf at North Shore
DESCRIPTION:28 Players \nContact: Robbie
URL:https://produffersorlando.com/event/golf-at-north-shore/
LOCATION:North Shore Golf Club\, 11507 N Shore Golf Club Blvd\, Orlando\, FL\, 32832\, United States
CATEGORIES:Tuesday
END:VEVENT
BEGIN:VEVENT
DTSTART;TZID=America/New_York:20180109T083000
DTEND;TZID=America/New_York:20180109T140000
DTSTAMP:20260425T141947
CREATED:20171104T163108Z
LAST-MODIFIED:20171104T164933Z
UID:981-1515486600-1515506400@produffersorlando.com
SUMMARY:Golf at Forest Lake
DESCRIPTION:28 Players\, Shotgun \nContact: Todd
URL:https://produffersorlando.com/event/golf-at-forest-lake-2/
LOCATION:Forest Lake Golf Club\, 10521 Clarcona Ocoee Rd\, Apopka\, FL\, 32703\, United States
CATEGORIES:Tuesday
END:VEVENT
BEGIN:VEVENT
DTSTART;TZID=America/New_York:20180102T080000
DTEND;TZID=America/New_York:20180102T140000
DTSTAMP:20260425T141947
CREATED:20171104T161600Z
LAST-MODIFIED:20171104T161600Z
UID:976-1514880000-1514901600@produffersorlando.com
SUMMARY:Golf at Celebration
DESCRIPTION:20 Players \nGolf\, Range\, Lunch \nContact: John B.
URL:https://produffersorlando.com/event/golf-at-celebration-4/
LOCATION:Celebration Golf Club\, 701 GolfparkDrive\, Kissimmee\, FL\, 34747\, United States
CATEGORIES:Tuesday
END:VEVENT
BEGIN:VEVENT
DTSTART;TZID=America/New_York:20171226T080000
DTEND;TZID=America/New_York:20171226T140000
DTSTAMP:20260425T141947
CREATED:20171104T052947Z
LAST-MODIFIED:20171104T052947Z
UID:970-1514275200-1514296800@produffersorlando.com
SUMMARY:Golf at Eastwood
DESCRIPTION:24 Players\, Range \nContact: Robbie
URL:https://produffersorlando.com/event/golf-at-eastwood/
LOCATION:Eastwood Golf Club\, 13950 Golfway Blvd\, Orlando\, FL\, 32828\, United States
CATEGORIES:Tuesday
END:VEVENT
BEGIN:VEVENT
DTSTART;TZID=America/New_York:20171219T083000
DTEND;TZID=America/New_York:20171219T140000
DTSTAMP:20260425T141947
CREATED:20171104T052506Z
LAST-MODIFIED:20171104T052506Z
UID:966-1513672200-1513692000@produffersorlando.com
SUMMARY:Golf at Remmington
DESCRIPTION:24 Players Golf\, Range\, Lunch \nContact: Chiping
URL:https://produffersorlando.com/event/golf-at-remmington/
LOCATION:Remington Golf Club\, 2995 Remingtong Blvd\, Kissimmee\, FL\, 34774\, United States
CATEGORIES:Tuesday
END:VEVENT
BEGIN:VEVENT
DTSTART;TZID=America/New_York:20171212T080000
DTEND;TZID=America/New_York:20171212T140000
DTSTAMP:20260425T141947
CREATED:20171104T051701Z
LAST-MODIFIED:20171206T143323Z
UID:962-1513065600-1513087200@produffersorlando.com
SUMMARY:Golf at Mystic Dunes
DESCRIPTION:28 Players \nContact: Cory
URL:https://produffersorlando.com/event/golf-at-metrowest-2/
LOCATION:Mystic Dunes Golf Club\, 7600 Mystic Dunes Lane\, Celebration\, FL\, 34747\, United States
CATEGORIES:Tuesday
END:VEVENT
BEGIN:VEVENT
DTSTART;TZID=America/New_York:20171205T083000
DTEND;TZID=America/New_York:20171205T140000
DTSTAMP:20260425T141947
CREATED:20171104T050922Z
LAST-MODIFIED:20171104T050922Z
UID:956-1512462600-1512482400@produffersorlando.com
SUMMARY:Golf at Mission Inn
DESCRIPTION:24 Players\, Range
URL:https://produffersorlando.com/event/golf-at-mission-inn-2/
LOCATION:Mission Inn\, 26000 Gasper Ct\, Howey in the Hills\, FL\, 34747
CATEGORIES:Tuesday
END:VEVENT
BEGIN:VEVENT
DTSTART;TZID=America/New_York:20171128T083000
DTEND;TZID=America/New_York:20171128T140000
DTSTAMP:20260425T141947
CREATED:20170904T142044Z
LAST-MODIFIED:20170904T142714Z
UID:907-1511857800-1511877600@produffersorlando.com
SUMMARY:Golf at Stoneybrook East
DESCRIPTION:Tee Times\, 24 players \nVouchers \nContact: Mike
URL:https://produffersorlando.com/event/golf-at-stoneybrook-east/
LOCATION:Stoneybrook East Golf Club\, 2900 Northampton Ave\, Orlando\, FL\, 32828\, United States
CATEGORIES:Tuesday
END:VEVENT
BEGIN:VEVENT
DTSTART;TZID=America/New_York:20171121T082800
DTEND;TZID=America/New_York:20171121T140000
DTSTAMP:20260425T141947
CREATED:20171102T213212Z
LAST-MODIFIED:20171102T213212Z
UID:951-1511252880-1511272800@produffersorlando.com
SUMMARY:Golf at Legends
DESCRIPTION:28 Players \nGolf-Range-Lunch \nTony
URL:https://produffersorlando.com/event/golf-at-legends/
LOCATION:Legends Golf and Country Club\, 1700 Legendary Blvd\, Clermont\, FL\, 34711\, United States
CATEGORIES:Tuesday
END:VEVENT
BEGIN:VEVENT
DTSTART;TZID=America/New_York:20171114T083000
DTEND;TZID=America/New_York:20171114T140000
DTSTAMP:20260425T141947
CREATED:20170902T043056Z
LAST-MODIFIED:20171101T051157Z
UID:894-1510648200-1510668000@produffersorlando.com
SUMMARY:Golf at Timacuan
DESCRIPTION:Shotgun\, Range \nContact: Steven
URL:https://produffersorlando.com/event/golf-at-legacy-at-alaqua-lakes/
LOCATION:Timacuan Golf Club\, 550 Timacuan Blvd\, Lake Mary\, FL\, 32746\, United States
CATEGORIES:Tuesday
END:VEVENT
BEGIN:VEVENT
DTSTART;TZID=America/New_York:20171107T083000
DTEND;TZID=America/New_York:20171107T143000
DTSTAMP:20260425T141947
CREATED:20170820T225001Z
LAST-MODIFIED:20170902T041530Z
UID:816-1510043400-1510065000@produffersorlando.com
SUMMARY:Golf at Rio Pinar
DESCRIPTION:0830. Add Lunch for $5.00 \nContact: Pete
URL:https://produffersorlando.com/event/golf-at-rio-pinar/
LOCATION:Rio Pinar Country Club\, 8600 El Prado Ave\, Orlando\, FL\, 32825\, United States
CATEGORIES:Tuesday
END:VEVENT
BEGIN:VEVENT
DTSTART;TZID=America/New_York:20171031T083000
DTEND;TZID=America/New_York:20171031T143000
DTSTAMP:20260425T141947
CREATED:20170820T223955Z
LAST-MODIFIED:20170902T041240Z
UID:807-1509438600-1509460200@produffersorlando.com
SUMMARY:PDO Club Championship at Eagle Creek
DESCRIPTION:(Day 3) 0830 Shotgun\, Range \nContact: Matt Zarbeck
URL:https://produffersorlando.com/event/pdo-club-championship-at-eagle-creek/
LOCATION:Eagle Creek Golf Club\, 10350 Emerson Lake Blvd\, Orlando\, FL\, 32832\, United States
CATEGORIES:Tuesday
END:VEVENT
BEGIN:VEVENT
DTSTART;TZID=America/New_York:20171024T083000
DTEND;TZID=America/New_York:20171024T143000
DTSTAMP:20260425T141947
CREATED:20170818T213118Z
LAST-MODIFIED:20170902T040824Z
UID:744-1508833800-1508855400@produffersorlando.com
SUMMARY:PDO Club Championship at Harmony Golf Preserve
DESCRIPTION:(Day1) Range\, Shotgun Start \nContact: John Harbison
URL:https://produffersorlando.com/event/pdo-club-championship-at-harmony-golf-preserve/
LOCATION:FL
CATEGORIES:Tuesday
END:VEVENT
BEGIN:VEVENT
DTSTART;TZID=America/New_York:20171017T083000
DTEND;TZID=America/New_York:20171017T140000
DTSTAMP:20260425T141947
CREATED:20170810T064349Z
LAST-MODIFIED:20170902T040335Z
UID:732-1508229000-1508248800@produffersorlando.com
SUMMARY:Golf at Kissimmee Bay
DESCRIPTION:0830 Shotgun\, Unlimited Golf\, Range\,Lunch \nContact- Chipping
URL:https://produffersorlando.com/event/golf-at-kissimmee-bay-2/
LOCATION:Kissimmee Bay Golf Club\, 2801 Kissimmee Bay Blvd\, Kissimmee\, FL\, 34744\, United States
CATEGORIES:Tuesday
END:VEVENT
BEGIN:VEVENT
DTSTART;TZID=America/New_York:20171010T080000
DTEND;TZID=America/New_York:20171010T140000
DTSTAMP:20260425T141947
CREATED:20170810T063113Z
LAST-MODIFIED:20171004T083146Z
UID:725-1507622400-1507644000@produffersorlando.com
SUMMARY:Golf at Highland Reserve
DESCRIPTION:Shotgun Start \nContact- George
URL:https://produffersorlando.com/event/golf-at-metrowest/
LOCATION:Highland Reserve Golf Club\, 500 Highlands Reserve Blvd\, Davenport\, FL\, 33897\, United States
CATEGORIES:Tuesday
END:VEVENT
BEGIN:VEVENT
DTSTART;TZID=America/New_York:20171003T083000
DTEND;TZID=America/New_York:20171003T140000
DTSTAMP:20260425T141947
CREATED:20170810T053715Z
LAST-MODIFIED:20170820T221401Z
UID:716-1507019400-1507039200@produffersorlando.com
SUMMARY:Golf at Remmington
DESCRIPTION:0830 SG\, Unlimited Golf\, Range\, Lunch
URL:https://produffersorlando.com/event/golf-at-remmngton/
LOCATION:FL
CATEGORIES:Tuesday
END:VEVENT
BEGIN:VEVENT
DTSTART;TZID=America/New_York:20170926T083000
DTEND;TZID=America/New_York:20170926T140000
DTSTAMP:20260425T141947
CREATED:20170810T020816Z
LAST-MODIFIED:20170902T035244Z
UID:707-1506414600-1506434400@produffersorlando.com
SUMMARY:Golf at Champions Gate Country Club
DESCRIPTION:Range/Shotgun Start \nContact- Jim
URL:https://produffersorlando.com/event/golf-at-champions-gate-country-club/
LOCATION:FL
CATEGORIES:Tuesday
END:VEVENT
BEGIN:VEVENT
DTSTART;TZID=America/New_York:20170919T083200
DTEND;TZID=America/New_York:20170919T143000
DTSTAMP:20260425T141947
CREATED:20170808T152705Z
LAST-MODIFIED:20170902T035003Z
UID:698-1505809920-1505831400@produffersorlando.com
SUMMARY:Golf at St. Cloud
DESCRIPTION:Range/Blue to Red \nContact- Brad/Doug
URL:https://produffersorlando.com/event/golf-at-st-cloud/
LOCATION:St Cloud\, 5310 Michigan Ave\, Saint Cloud\, FL\, 34772\, United States
CATEGORIES:Tuesday
END:VEVENT
BEGIN:VEVENT
DTSTART;TZID=America/New_York:20170912T083000
DTEND;TZID=America/New_York:20170912T143000
DTSTAMP:20260425T141947
CREATED:20170808T150948Z
LAST-MODIFIED:20170912T065944Z
UID:692-1505205000-1505226600@produffersorlando.com
SUMMARY:Golf at Wekiva (CANCELED DUE TO HURRICANE IRMA)
DESCRIPTION:Range/Shotgun Start \nContact- Tony
URL:https://produffersorlando.com/event/golf-at-wekiva/
LOCATION:Wekiva Golf Club\, 4100 Wekiva Club Court\, Longwood\, FL\, 32779\, United States
CATEGORIES:Tuesday
END:VEVENT
BEGIN:VEVENT
DTSTART;TZID=America/New_York:20170905T083000
DTEND;TZID=America/New_York:20170905T140000
DTSTAMP:20260425T141947
CREATED:20170802T231502Z
LAST-MODIFIED:20170902T034047Z
UID:683-1504600200-1504620000@produffersorlando.com
SUMMARY:Golf at Kissimmee Bay
DESCRIPTION:Shotgun Start @ 0830\, Golf\, Range Lunch\, Unlimited Golf \nContact- Austin
URL:https://produffersorlando.com/event/golf-at-kissimmee-bay/
LOCATION:Kissimmee Bay Golf Club\, 2801 Kissimmee Bay Blvd\, Kissimmee\, FL\, 34744\, United States
CATEGORIES:Tuesday
END:VEVENT
BEGIN:VEVENT
DTSTART;TZID=UTC:20170829T080000
DTEND;TZID=UTC:20170829T130000
DTSTAMP:20260425T141947
CREATED:20170629T092109Z
LAST-MODIFIED:20170629T092109Z
UID:128-1503993600-1504011600@produffersorlando.com
SUMMARY:Golf at West Orange
DESCRIPTION:Shotgun start at 8:00am. The $30 fee for golf includes range balls.
URL:https://produffersorlando.com/event/8-29-2017/
LOCATION:West Orange Golf Club\, 3300 West Orange Country Club Drive Winter Garden FL\, Winter Garden\, FL\, 34787\, United States
CATEGORIES:Tuesday
END:VEVENT
BEGIN:VEVENT
DTSTART;TZID=UTC:20170822T083000
DTEND;TZID=UTC:20170822T133000
DTSTAMP:20260425T141947
CREATED:20170629T091436Z
LAST-MODIFIED:20170629T091514Z
UID:124-1503390600-1503408600@produffersorlando.com
SUMMARY:Golf at Forest Lake
DESCRIPTION:Shotgun start at 8:30am. The $31 fee for golf includes range balls.
URL:https://produffersorlando.com/event/8-22-2017/
LOCATION:Forest Lake Golf Club\, 10521 Clarcona Ocoee Road\, Ocoee\, FL\, 32703\, United States
CATEGORIES:Tuesday
END:VEVENT
END:VCALENDAR