BEGIN:VCALENDAR
VERSION:2.0
PRODID:-//Pro-Duffers Orlando - ECPv6.15.20//NONSGML v1.0//EN
CALSCALE:GREGORIAN
METHOD:PUBLISH
X-WR-CALNAME:Pro-Duffers Orlando
X-ORIGINAL-URL:https://produffersorlando.com
X-WR-CALDESC:Events for Pro-Duffers Orlando
REFRESH-INTERVAL;VALUE=DURATION:PT1H
X-Robots-Tag:noindex
X-PUBLISHED-TTL:PT1H
BEGIN:VTIMEZONE
TZID:America/New_York
BEGIN:DAYLIGHT
TZOFFSETFROM:-0500
TZOFFSETTO:-0400
TZNAME:EDT
DTSTART:20240310T070000
END:DAYLIGHT
BEGIN:STANDARD
TZOFFSETFROM:-0400
TZOFFSETTO:-0500
TZNAME:EST
DTSTART:20241103T060000
END:STANDARD
BEGIN:DAYLIGHT
TZOFFSETFROM:-0500
TZOFFSETTO:-0400
TZNAME:EDT
DTSTART:20250309T070000
END:DAYLIGHT
BEGIN:STANDARD
TZOFFSETFROM:-0400
TZOFFSETTO:-0500
TZNAME:EST
DTSTART:20251102T060000
END:STANDARD
BEGIN:DAYLIGHT
TZOFFSETFROM:-0500
TZOFFSETTO:-0400
TZNAME:EDT
DTSTART:20260308T070000
END:DAYLIGHT
BEGIN:STANDARD
TZOFFSETFROM:-0400
TZOFFSETTO:-0500
TZNAME:EST
DTSTART:20261101T060000
END:STANDARD
END:VTIMEZONE
BEGIN:VEVENT
DTSTART;TZID=America/New_York:20250114T083000
DTEND;TZID=America/New_York:20250114T140000
DTSTAMP:20260425T100110
CREATED:20250103T150029Z
LAST-MODIFIED:20250103T150029Z
UID:4853-1736843400-1736863200@produffersorlando.com
SUMMARY:Golf at Legends
DESCRIPTION:24 Players\nTee-Times\nRange\nContact: Chris
URL:https://produffersorlando.com/event/golf-at-legends-15/
LOCATION:Legends Golf and Country Club\, 1700 Legendary Blvd\, Clermont\, FL\, 34711\, United States
CATEGORIES:Tuesday
END:VEVENT
BEGIN:VEVENT
DTSTART;TZID=America/New_York:20250116T083000
DTEND;TZID=America/New_York:20250116T170000
DTSTAMP:20260425T100110
CREATED:20250103T150225Z
LAST-MODIFIED:20250103T150225Z
UID:4855-1737016200-1737046800@produffersorlando.com
SUMMARY:Golf at Wedgefield
DESCRIPTION:24 Players\nTee-Times\nRange\nContact: Anthony
URL:https://produffersorlando.com/event/golf-at-wedgefield-4/
LOCATION:Wedgefield\, 20550 Maxim Pkwy\, Orlando\, FL\, 32833\, United States
CATEGORIES:Thursday
END:VEVENT
BEGIN:VEVENT
DTSTART;TZID=America/New_York:20250121T080000
DTEND;TZID=America/New_York:20250121T140000
DTSTAMP:20260425T100110
CREATED:20250109T215317Z
LAST-MODIFIED:20250109T215317Z
UID:4864-1737446400-1737468000@produffersorlando.com
SUMMARY:Golf at Sweetwater
DESCRIPTION:24 Players\nTee-Times\nContact: Kevin
URL:https://produffersorlando.com/event/golf-at-sweetwater-5/
LOCATION:Sweetwater\, 2700 Sweetwater Country Club Drive\, Apopka\, FL\, 32712\, United States
CATEGORIES:Tuesday
END:VEVENT
BEGIN:VEVENT
DTSTART;TZID=America/New_York:20250123T083000
DTEND;TZID=America/New_York:20250123T140000
DTSTAMP:20260425T100110
CREATED:20250109T214905Z
LAST-MODIFIED:20250109T215552Z
UID:4860-1737621000-1737640800@produffersorlando.com
SUMMARY:Golf at Forest Lake
DESCRIPTION:12 Players\nTee-Times\nContact:Anthony
URL:https://produffersorlando.com/event/golf-at-wedgefield-5/
LOCATION:Forest Lake Golf Club\, 10521 Clarcona Ocoee Rd\, Apopka\, FL\, 32703\, United States
CATEGORIES:Thursday
END:VEVENT
BEGIN:VEVENT
DTSTART;TZID=America/New_York:20250128T083000
DTEND;TZID=America/New_York:20250128T140000
DTSTAMP:20260425T100110
CREATED:20250115T163538Z
LAST-MODIFIED:20250115T163538Z
UID:4874-1738053000-1738072800@produffersorlando.com
SUMMARY:Golf at Oaks National
DESCRIPTION:24 Players\nTee-Times\nContact Jacob
URL:https://produffersorlando.com/event/golf-at-oaks-national-3/
LOCATION:Oaks National Golf Club\, 1500 The Oaks Blvd\, Kissimmee\, FL\, 34746\, United States
CATEGORIES:Tuesday
END:VEVENT
BEGIN:VEVENT
DTSTART;TZID=America/New_York:20250130T083000
DTEND;TZID=America/New_York:20250130T140000
DTSTAMP:20260425T100110
CREATED:20241226T212500Z
LAST-MODIFIED:20250108T184413Z
UID:4848-1738225800-1738245600@produffersorlando.com
SUMMARY:Golf at Rio Pinar
DESCRIPTION:24 Players\nShotgun Start\nRange $5.00\nContact: Tom
URL:https://produffersorlando.com/event/golf-at-rio-pinar-21/
LOCATION:Rio Pinar Country Club\, 8600 El Prado Ave\, Orlando\, FL\, 32825\, United States
CATEGORIES:Thursday
END:VEVENT
BEGIN:VEVENT
DTSTART;TZID=America/New_York:20250204T080000
DTEND;TZID=America/New_York:20250204T140000
DTSTAMP:20260425T100110
CREATED:20250129T142534Z
LAST-MODIFIED:20250129T142534Z
UID:4904-1738656000-1738677600@produffersorlando.com
SUMMARY:Golf at Redtail
DESCRIPTION:24 Players\nShotgun Start\nContact: Drew
URL:https://produffersorlando.com/event/golf-at-redtail-14/
LOCATION:Redtail Golf Club\, 21600 Covered Bridge Lane\, Sorrento\, FL\, 32776\, United States
CATEGORIES:Tuesday
END:VEVENT
BEGIN:VEVENT
DTSTART;TZID=America/New_York:20250206T090000
DTEND;TZID=America/New_York:20250206T140000
DTSTAMP:20260425T100110
CREATED:20250129T003408Z
LAST-MODIFIED:20250129T003408Z
UID:4882-1738832400-1738850400@produffersorlando.com
SUMMARY:Golf at Venetian Bay
DESCRIPTION:24 Players\nShotgun Start\nRange\nContact: Ben
URL:https://produffersorlando.com/event/golf-at-venetian-bay/
LOCATION:Venetian Bay Golf Club\, 63 Airport Road\, New Smyma Beach\, FL\, 32168\, United States
CATEGORIES:Thursday
END:VEVENT
BEGIN:VEVENT
DTSTART;TZID=America/New_York:20250211T080000
DTEND;TZID=America/New_York:20250211T140000
DTSTAMP:20260425T100110
CREATED:20250129T003628Z
LAST-MODIFIED:20250129T003628Z
UID:4885-1739260800-1739282400@produffersorlando.com
SUMMARY:Golf at Stoneybrook West
DESCRIPTION:24 Players\nShotgun Start\nContact: Rocky
URL:https://produffersorlando.com/event/golf-at-stoneybrook-west-5/
LOCATION:Stoneybrook West Golf Club\, 15501 Towne Commons Blvd\, Winter Garden\, FL\, 34787\, United States
CATEGORIES:Tuesday
END:VEVENT
BEGIN:VEVENT
DTSTART;TZID=America/New_York:20250213T080000
DTEND;TZID=America/New_York:20250213T140000
DTSTAMP:20260425T100110
CREATED:20250129T003912Z
LAST-MODIFIED:20250129T003912Z
UID:4887-1739433600-1739455200@produffersorlando.com
SUMMARY:Golf at Dubsdreed
DESCRIPTION:24 Players\nTee-Times\nContact Virginia
URL:https://produffersorlando.com/event/golf-at-dubsdreed-4/
LOCATION:DubsDread Golf Course\, 549 West Par Street\, Orlando\, FL\, 32804\, United States
CATEGORIES:Thursday
END:VEVENT
BEGIN:VEVENT
DTSTART;TZID=America/New_York:20250218T083000
DTEND;TZID=America/New_York:20250218T140000
DTSTAMP:20260425T100110
CREATED:20250129T004056Z
LAST-MODIFIED:20250129T004056Z
UID:4889-1739867400-1739887200@produffersorlando.com
SUMMARY:Golf at Forest Lake
DESCRIPTION:24 Players\nShotgun Start\nContact: John V.
URL:https://produffersorlando.com/event/golf-at-forest-lake-32/
LOCATION:Forest Lake Golf Club\, 10521 Clarcona Ocoee Rd\, Apopka\, FL\, 32703\, United States
CATEGORIES:Tuesday
END:VEVENT
BEGIN:VEVENT
DTSTART;TZID=America/New_York:20250220T083000
DTEND;TZID=America/New_York:20250220T140000
DTSTAMP:20260425T100110
CREATED:20250129T004306Z
LAST-MODIFIED:20250129T004306Z
UID:4891-1740040200-1740060000@produffersorlando.com
SUMMARY:Golf t Legends
DESCRIPTION:24 Players\nTee-Times\nRange\nContact: Chris
URL:https://produffersorlando.com/event/golf-t-legends/
LOCATION:Legends Golf and Country Club\, 1700 Legendary Blvd\, Clermont\, FL\, 34711\, United States
CATEGORIES:Thursday
END:VEVENT
BEGIN:VEVENT
DTSTART;TZID=America/New_York:20250225T080000
DTEND;TZID=America/New_York:20250225T140000
DTSTAMP:20260425T100110
CREATED:20250129T004512Z
LAST-MODIFIED:20250129T004512Z
UID:4893-1740470400-1740492000@produffersorlando.com
SUMMARY:Golf at Sweetwater
DESCRIPTION:24 Players\nTee-Times\nRange\nContact: Kevin
URL:https://produffersorlando.com/event/golf-at-sweetwater-6/
LOCATION:Sweetwater\, 2700 Sweetwater Country Club Drive\, Apopka\, FL\, 32712\, United States
CATEGORIES:Tuesday
END:VEVENT
BEGIN:VEVENT
DTSTART;TZID=America/New_York:20250304T080000
DTEND;TZID=America/New_York:20250304T140000
DTSTAMP:20260425T100110
CREATED:20250301T001134Z
LAST-MODIFIED:20250301T001224Z
UID:4933-1741075200-1741096800@produffersorlando.com
SUMMARY:Golf at Remmington
DESCRIPTION:24 Players\nShotgun Start\nContact: Austin
URL:https://produffersorlando.com/event/golf-at-remmiongton/
LOCATION:Remington Golf Club\, 2995 Remingtong Blvd\, Kissimmee\, FL\, 34774\, United States
CATEGORIES:Tuesday
END:VEVENT
BEGIN:VEVENT
DTSTART;TZID=America/New_York:20250306T080000
DTEND;TZID=America/New_York:20250306T170000
DTSTAMP:20260425T100110
CREATED:20250129T144247Z
LAST-MODIFIED:20250129T144247Z
UID:4906-1741248000-1741280400@produffersorlando.com
SUMMARY:Golf at Black Bear
DESCRIPTION:24 Players\nTee-Times\nContact: Rodger
URL:https://produffersorlando.com/event/golf-at-black-bear-4/
LOCATION:Black Bear Golf Club\, 24505 Calusa Blvd\, Eustis\, FL\, 32736\, United States
CATEGORIES:Thursday
END:VEVENT
BEGIN:VEVENT
DTSTART;TZID=America/New_York:20250311T090000
DTEND;TZID=America/New_York:20250311T140000
DTSTAMP:20260425T100110
CREATED:20250306T195426Z
LAST-MODIFIED:20250306T195426Z
UID:4939-1741683600-1741701600@produffersorlando.com
SUMMARY:Golf at Wekiva
DESCRIPTION:24Players\nShotgun Start\nRange\nContact: Tony
URL:https://produffersorlando.com/event/golf-at-wekiva-13/
LOCATION:Wekiva Golf Club\, 4100 Wekiva Club Court\, Longwood\, FL\, 32779\, United States
CATEGORIES:Tuesday
END:VEVENT
BEGIN:VEVENT
DTSTART;TZID=America/New_York:20250313T080000
DTEND;TZID=America/New_York:20250313T170000
DTSTAMP:20260425T100110
CREATED:20250129T004707Z
LAST-MODIFIED:20250129T004707Z
UID:4895-1741852800-1741885200@produffersorlando.com
SUMMARY:Golf at Forest Lake
DESCRIPTION:24 players\nShotgun Start\nContact: John V.
URL:https://produffersorlando.com/event/golf-at-forest-lake-33/
LOCATION:Forest Lake Golf Club\, 10521 Clarcona Ocoee Rd\, Apopka\, FL\, 32703\, United States
CATEGORIES:Thursday
END:VEVENT
BEGIN:VEVENT
DTSTART;TZID=America/New_York:20250318T083000
DTEND;TZID=America/New_York:20250318T140000
DTSTAMP:20260425T100110
CREATED:20250129T004921Z
LAST-MODIFIED:20250129T004921Z
UID:4897-1742286600-1742306400@produffersorlando.com
SUMMARY:Golf at Oaks National
DESCRIPTION:24 Players\nTee-Times/Shotgun Start?\nContact Jacob
URL:https://produffersorlando.com/event/golf-at-oaks-national-4/
LOCATION:Oaks National Golf Club\, 1500 The Oaks Blvd\, Kissimmee\, FL\, 34746\, United States
CATEGORIES:Tuesday
END:VEVENT
BEGIN:VEVENT
DTSTART;TZID=America/New_York:20250320T083000
DTEND;TZID=America/New_York:20250320T140000
DTSTAMP:20260425T100110
CREATED:20250129T010926Z
LAST-MODIFIED:20250129T010926Z
UID:4899-1742459400-1742479200@produffersorlando.com
SUMMARY:Golf at Sweetwater
DESCRIPTION:24 Players\nTee-Times\nContact: Kevin
URL:https://produffersorlando.com/event/golf-at-sweetwater-7/
LOCATION:Sweetwater\, 2700 Sweetwater Country Club Drive\, Apopka\, FL\, 32712\, United States
CATEGORIES:Thursday
END:VEVENT
BEGIN:VEVENT
DTSTART;TZID=America/New_York:20250325T083000
DTEND;TZID=America/New_York:20250325T140000
DTSTAMP:20260425T100110
CREATED:20250301T001608Z
LAST-MODIFIED:20250301T001608Z
UID:4936-1742891400-1742911200@produffersorlando.com
SUMMARY:Golf at Rio Pinar
DESCRIPTION:24 Players\nShotgun Start\ncontact: Tom
URL:https://produffersorlando.com/event/golf-at-rio-pinar-22/
LOCATION:Rio Pinar Country Club\, 8600 El Prado Ave\, Orlando\, FL\, 32825\, United States
CATEGORIES:Tuesday
END:VEVENT
BEGIN:VEVENT
DTSTART;TZID=America/New_York:20250327T080000
DTEND;TZID=America/New_York:20250327T170000
DTSTAMP:20260425T100110
CREATED:20250129T011323Z
LAST-MODIFIED:20250129T011323Z
UID:4901-1743062400-1743094800@produffersorlando.com
SUMMARY:Golf at Stoneybrook West
DESCRIPTION:24 Players\nShotgun Start\nContact: Rocky
URL:https://produffersorlando.com/event/golf-at-stoneybrook-west-6/
LOCATION:Stoneybrook West Golf Club\, 15501 Towne Commons Blvd\, Winter Garden\, FL\, 34787\, United States
CATEGORIES:Thursday
END:VEVENT
BEGIN:VEVENT
DTSTART;TZID=America/New_York:20250401T090000
DTEND;TZID=America/New_York:20250401T140000
DTSTAMP:20260425T100110
CREATED:20250326T215920Z
LAST-MODIFIED:20250326T215920Z
UID:4945-1743498000-1743516000@produffersorlando.com
SUMMARY:Golf at Venetian Bay
DESCRIPTION:24 Players\nShotgun Start\nRange\nContact:Ken
URL:https://produffersorlando.com/event/golf-at-venetian-bay-2/
LOCATION:Venetian Bay Golf Club\, 63 Airport Road\, New Smyma Beach\, FL\, 32168\, United States
CATEGORIES:Tuesday
END:VEVENT
BEGIN:VEVENT
DTSTART;TZID=America/New_York:20250403T083000
DTEND;TZID=America/New_York:20250403T140000
DTSTAMP:20260425T100110
CREATED:20250327T165127Z
LAST-MODIFIED:20250327T165127Z
UID:4963-1743669000-1743688800@produffersorlando.com
SUMMARY:Golf at Stoneybrook East
DESCRIPTION:24 Players\nTee=Times\nContact: Mike
URL:https://produffersorlando.com/event/golf-at-stoneybrook-east-15/
LOCATION:Stoneybrook East Golf Club\, 2900 Northampton Ave\, Orlando\, FL\, 32828\, United States
CATEGORIES:Thursday
END:VEVENT
BEGIN:VEVENT
DTSTART;TZID=America/New_York:20250408T082500
DTEND;TZID=America/New_York:20250408T140000
DTSTAMP:20260425T100110
CREATED:20250326T220325Z
LAST-MODIFIED:20250327T053830Z
UID:4947-1744100700-1744120800@produffersorlando.com
SUMMARY:Golf at Royal St. Cloud
DESCRIPTION:24 Players\nTee-Times\nBlue-Red\nContact: Nadia
URL:https://produffersorlando.com/event/golf-at-royal-st-cloud-2/
LOCATION:St Cloud\, 5310 Michigan Ave\, Saint Cloud\, FL\, 34772\, United States
CATEGORIES:Tuesday
END:VEVENT
BEGIN:VEVENT
DTSTART;TZID=America/New_York:20250410T083000
DTEND;TZID=America/New_York:20250410T170000
DTSTAMP:20260425T100110
CREATED:20250326T221849Z
LAST-MODIFIED:20250326T221849Z
UID:4951-1744273800-1744304400@produffersorlando.com
SUMMARY:Golf at Rio Pinar
DESCRIPTION:24 Players\nShotgun Start\nContact: Tom J.
URL:https://produffersorlando.com/event/golf-at-rio-pinar-24/
LOCATION:Rio Pinar Country Club\, 8600 El Prado Ave\, Orlando\, FL\, 32825\, United States
CATEGORIES:Thursday
END:VEVENT
BEGIN:VEVENT
DTSTART;TZID=America/New_York:20250415T083000
DTEND;TZID=America/New_York:20250415T140000
DTSTAMP:20260425T100110
CREATED:20250326T225525Z
LAST-MODIFIED:20250326T225525Z
UID:4954-1744705800-1744725600@produffersorlando.com
SUMMARY:Golf at Zellwood Station
DESCRIPTION:20 Players\nTee-Times\nContact: Stan
URL:https://produffersorlando.com/event/golf-at-zellwood-station-2/
LOCATION:Zellwood Station Golf Club\, 2126 Spillman Drive\, Zellwood\, FL\, 32798\, United States
CATEGORIES:Tuesday
END:VEVENT
BEGIN:VEVENT
DTSTART;TZID=America/New_York:20250417T080000
DTEND;TZID=America/New_York:20250417T170000
DTSTAMP:20260425T100110
CREATED:20250327T053710Z
LAST-MODIFIED:20250327T053710Z
UID:4956-1744876800-1744909200@produffersorlando.com
SUMMARY:Golf at Forest Lake
DESCRIPTION:24 Players\nShotgun Start\nContact: John V.
URL:https://produffersorlando.com/event/golf-at-forest-lake-34/
LOCATION:Forest Lake Golf Club\, 10521 Clarcona Ocoee Rd\, Apopka\, FL\, 32703\, United States
CATEGORIES:Thursday
END:VEVENT
BEGIN:VEVENT
DTSTART;TZID=America/New_York:20250422T080000
DTEND;TZID=America/New_York:20250422T140000
DTSTAMP:20260425T100110
CREATED:20250327T054427Z
LAST-MODIFIED:20250327T054427Z
UID:4958-1745308800-1745330400@produffersorlando.com
SUMMARY:Golf at Dubsdreed
DESCRIPTION:24 Players\nShotgun Start\nRange may be unaviable\nContact: Virginia
URL:https://produffersorlando.com/event/golf-at-dubsdreed-5/
LOCATION:DubsDread Golf Course\, 549 West Par Street\, Orlando\, FL\, 32804\, United States
CATEGORIES:Tuesday
END:VEVENT
BEGIN:VEVENT
DTSTART;TZID=America/New_York:20250424T083000
DTEND;TZID=America/New_York:20250424T140000
DTSTAMP:20260425T100110
CREATED:20250330T000508Z
LAST-MODIFIED:20250330T000508Z
UID:4966-1745483400-1745503200@produffersorlando.com
SUMMARY:Golf at Eagle Dunes
DESCRIPTION:20 Players\nShotgun Start\nRange\nContact: Alex
URL:https://produffersorlando.com/event/golf-at-eagle-dunes-17/
LOCATION:Eagle Dunes Golf Club\, 24000 Marbella Drive\, Sorrento\, FL\, 32776\, United States
CATEGORIES:Thursday
END:VEVENT
BEGIN:VEVENT
DTSTART;TZID=America/New_York:20250429T083000
DTEND;TZID=America/New_York:20250429T140000
DTSTAMP:20260425T100110
CREATED:20250326T221503Z
LAST-MODIFIED:20250326T222011Z
UID:4949-1745915400-1745935200@produffersorlando.com
SUMMARY:Golf at Rio Pinar
DESCRIPTION:24 Players\nShotgun Start\nContact: Tom J.
URL:https://produffersorlando.com/event/golf-at-rio-pinar-23/
LOCATION:Rio Pinar Country Club\, 8600 El Prado Ave\, Orlando\, FL\, 32825\, United States
CATEGORIES:Tuesday
END:VEVENT
END:VCALENDAR