BEGIN:VCALENDAR
VERSION:2.0
PRODID:-//Pro-Duffers Orlando - ECPv6.15.20//NONSGML v1.0//EN
CALSCALE:GREGORIAN
METHOD:PUBLISH
X-WR-CALNAME:Pro-Duffers Orlando
X-ORIGINAL-URL:https://produffersorlando.com
X-WR-CALDESC:Events for Pro-Duffers Orlando
REFRESH-INTERVAL;VALUE=DURATION:PT1H
X-Robots-Tag:noindex
X-PUBLISHED-TTL:PT1H
BEGIN:VTIMEZONE
TZID:America/New_York
BEGIN:DAYLIGHT
TZOFFSETFROM:-0500
TZOFFSETTO:-0400
TZNAME:EDT
DTSTART:20220313T070000
END:DAYLIGHT
BEGIN:STANDARD
TZOFFSETFROM:-0400
TZOFFSETTO:-0500
TZNAME:EST
DTSTART:20221106T060000
END:STANDARD
BEGIN:DAYLIGHT
TZOFFSETFROM:-0500
TZOFFSETTO:-0400
TZNAME:EDT
DTSTART:20230312T070000
END:DAYLIGHT
BEGIN:STANDARD
TZOFFSETFROM:-0400
TZOFFSETTO:-0500
TZNAME:EST
DTSTART:20231105T060000
END:STANDARD
BEGIN:DAYLIGHT
TZOFFSETFROM:-0500
TZOFFSETTO:-0400
TZNAME:EDT
DTSTART:20240310T070000
END:DAYLIGHT
BEGIN:STANDARD
TZOFFSETFROM:-0400
TZOFFSETTO:-0500
TZNAME:EST
DTSTART:20241103T060000
END:STANDARD
END:VTIMEZONE
BEGIN:VEVENT
DTSTART;TZID=America/New_York:20231207T083000
DTEND;TZID=America/New_York:20231207T170000
DTSTAMP:20260425T110342
CREATED:20231009T194439Z
LAST-MODIFIED:20231009T194439Z
UID:4175-1701937800-1701968400@produffersorlando.com
SUMMARY:Legends of Clermont
DESCRIPTION:
URL:https://produffersorlando.com/event/legends-of-clermont-5/
LOCATION:FL
END:VEVENT
BEGIN:VEVENT
DTSTART;TZID=America/New_York:20231205T083000
DTEND;TZID=America/New_York:20231205T170000
DTSTAMP:20260425T110342
CREATED:20230826T170122Z
LAST-MODIFIED:20230826T170122Z
UID:4150-1701765000-1701795600@produffersorlando.com
SUMMARY:Stonegate-Oaks
DESCRIPTION:
URL:https://produffersorlando.com/event/stonegate-oaks-3/
LOCATION:Stonegate Golf Club at Solivita\, 404 Village Drive\, Kissimmee\, FL\, 34759\, United States
END:VEVENT
BEGIN:VEVENT
DTSTART;TZID=America/New_York:20231130T080000
DTEND;TZID=America/New_York:20231130T170000
DTSTAMP:20260425T110342
CREATED:20231009T194801Z
LAST-MODIFIED:20231009T194824Z
UID:4177-1701331200-1701363600@produffersorlando.com
SUMMARY:Wedgefield
DESCRIPTION:
URL:https://produffersorlando.com/event/wedgefield-4/
LOCATION:Wedgefield\, 20550 Maxim Pkwy\, Orlando\, FL\, 32833\, United States
END:VEVENT
BEGIN:VEVENT
DTSTART;TZID=America/New_York:20231128T073000
DTEND;TZID=America/New_York:20231128T170000
DTSTAMP:20260425T110342
CREATED:20231029T114223Z
LAST-MODIFIED:20231029T114223Z
UID:4213-1701156600-1701190800@produffersorlando.com
SUMMARY:Remington
DESCRIPTION:
URL:https://produffersorlando.com/event/remington-3/
LOCATION:Remington Golf Club\, 2995 Remingtong Blvd\, Kissimmee\, FL\, 34774\, United States
END:VEVENT
BEGIN:VEVENT
DTSTART;VALUE=DATE:20231123
DTEND;VALUE=DATE:20231124
DTSTAMP:20260425T110342
CREATED:20231009T194130Z
LAST-MODIFIED:20231009T194130Z
UID:4171-1700697600-1700783999@produffersorlando.com
SUMMARY:Thanksgiving - No Scheduled Golf
DESCRIPTION:
URL:https://produffersorlando.com/event/thanksgiving-no-scheduled-golf/
LOCATION:FL
END:VEVENT
BEGIN:VEVENT
DTSTART;TZID=America/New_York:20231121T083000
DTEND;TZID=America/New_York:20231121T170000
DTSTAMP:20260425T110342
CREATED:20231009T194328Z
LAST-MODIFIED:20231009T194328Z
UID:4173-1700555400-1700586000@produffersorlando.com
SUMMARY:Legends of Clermont
DESCRIPTION:
URL:https://produffersorlando.com/event/legends-of-clermont-4/
LOCATION:Legends Golf and Country Club\, 1700 Legendary Blvd\, Clermont\, FL\, 34711\, United States
END:VEVENT
BEGIN:VEVENT
DTSTART;TZID=America/New_York:20231116T080000
DTEND;TZID=America/New_York:20231116T170000
DTSTAMP:20260425T110342
CREATED:20230822T161016Z
LAST-MODIFIED:20231107T034027Z
UID:4140-1700121600-1700154000@produffersorlando.com
SUMMARY:Day 2 Annual Championship @ Rio Pinar
DESCRIPTION:
URL:https://produffersorlando.com/event/day-4-annual-championship-rio-pinar/
LOCATION:Rio Pinar Country Club\, 8600 El Prado Ave\, Orlando\, FL\, 32825\, United States
ORGANIZER;CN="Eugene Bryant":MAILTO:EUGENEBRYANTJR@GMAIL.COM
END:VEVENT
BEGIN:VEVENT
DTSTART;TZID=America/New_York:20231114T083000
DTEND;TZID=America/New_York:20231114T170000
DTSTAMP:20260425T110342
CREATED:20230822T160833Z
LAST-MODIFIED:20231107T033953Z
UID:4138-1699950600-1699981200@produffersorlando.com
SUMMARY:Day 1 Annual Championship @ Royal St. Cloud
DESCRIPTION:
URL:https://produffersorlando.com/event/day-3-annual-championship-royal-st-cloud/
LOCATION:St Cloud\, 5310 Michigan Ave\, Saint Cloud\, FL\, 34772\, United States
END:VEVENT
BEGIN:VEVENT
DTSTART;TZID=America/New_York:20231109T080000
DTEND;TZID=America/New_York:20231109T170000
DTSTAMP:20260425T110342
CREATED:20230822T160554Z
LAST-MODIFIED:20231107T033921Z
UID:4136-1699516800-1699549200@produffersorlando.com
SUMMARY:Rio Pinar
DESCRIPTION:
URL:https://produffersorlando.com/event/day-2-annual-championship-highland-reserve/
LOCATION:Rio Pinar Country Club\, 8600 El Prado Ave\, Orlando\, FL\, 32825\, United States
ORGANIZER;CN="Eugene Bryant":MAILTO:EUGENEBRYANTJR@GMAIL.COM
END:VEVENT
BEGIN:VEVENT
DTSTART;TZID=America/New_York:20231107T083000
DTEND;TZID=America/New_York:20231107T170000
DTSTAMP:20260425T110342
CREATED:20230822T160335Z
LAST-MODIFIED:20231107T033723Z
UID:4134-1699345800-1699376400@produffersorlando.com
SUMMARY:Green Valley
DESCRIPTION:
URL:https://produffersorlando.com/event/day-1-annual-championship-green-valley/
LOCATION:Green Valley Country Club\, 14601 Green Vlley Blvd\, Clermont\, FL\, 34711\, United States
END:VEVENT
BEGIN:VEVENT
DTSTART;TZID=America/New_York:20231102T083000
DTEND;TZID=America/New_York:20231102T170000
DTSTAMP:20260425T110342
CREATED:20230826T165459Z
LAST-MODIFIED:20230826T165459Z
UID:4142-1698913800-1698944400@produffersorlando.com
SUMMARY:Stonegate-Cypress
DESCRIPTION:
URL:https://produffersorlando.com/event/stonegate-cypress-2/
LOCATION:Stonegate Golf Club at Solivita\, 404 Village Drive\, Kissimmee\, FL\, 34759\, United States
END:VEVENT
BEGIN:VEVENT
DTSTART;TZID=America/New_York:20231031T073000
DTEND;TZID=America/New_York:20231031T170000
DTSTAMP:20260425T110342
CREATED:20230822T160124Z
LAST-MODIFIED:20230822T160124Z
UID:4132-1698737400-1698771600@produffersorlando.com
SUMMARY:White Heron
DESCRIPTION:
URL:https://produffersorlando.com/event/white-heron-4/
LOCATION:White Heron at Ridgewood Lakes\, 200 Eagle Ridge Drive\, Davenport\, 33837\, United States
END:VEVENT
BEGIN:VEVENT
DTSTART;TZID=America/New_York:20231026T083000
DTEND;TZID=America/New_York:20231026T170000
DTSTAMP:20260425T110342
CREATED:20231009T192404Z
LAST-MODIFIED:20231009T192404Z
UID:4169-1698309000-1698339600@produffersorlando.com
SUMMARY:Legends of Clermont
DESCRIPTION:
URL:https://produffersorlando.com/event/legends-of-clermont-3/
LOCATION:Legends Golf and Country Club\, 1700 Legendary Blvd\, Clermont\, FL\, 34711\, United States
END:VEVENT
BEGIN:VEVENT
DTSTART;TZID=America/New_York:20231024T080000
DTEND;TZID=America/New_York:20231024T170000
DTSTAMP:20260425T110342
CREATED:20230822T155954Z
LAST-MODIFIED:20230822T155954Z
UID:4130-1698134400-1698166800@produffersorlando.com
SUMMARY:Dubsdread
DESCRIPTION:
URL:https://produffersorlando.com/event/dubsdread-5/
LOCATION:DubsDread Golf Course\, 549 West Par Street\, Orlando\, FL\, 32804\, United States
END:VEVENT
BEGIN:VEVENT
DTSTART;TZID=America/New_York:20231019T083000
DTEND;TZID=America/New_York:20231019T170000
DTSTAMP:20260425T110342
CREATED:20230822T155804Z
LAST-MODIFIED:20230822T155804Z
UID:4128-1697704200-1697734800@produffersorlando.com
SUMMARY:Royal St. Cloud
DESCRIPTION:
URL:https://produffersorlando.com/event/royal-st-cloud-5/
LOCATION:St Cloud\, 5310 Michigan Ave\, Saint Cloud\, FL\, 34772\, United States
END:VEVENT
BEGIN:VEVENT
DTSTART;TZID=America/New_York:20231017T073000
DTEND;TZID=America/New_York:20231017T170000
DTSTAMP:20260425T110342
CREATED:20230822T155626Z
LAST-MODIFIED:20230822T155626Z
UID:4126-1697527800-1697562000@produffersorlando.com
SUMMARY:Wedgefield
DESCRIPTION:
URL:https://produffersorlando.com/event/wedgefield-3/
LOCATION:Wedgefield\, 20550 Maxim Pkwy\, Orlando\, FL\, 32833\, United States
END:VEVENT
BEGIN:VEVENT
DTSTART;TZID=America/New_York:20231012T083000
DTEND;TZID=America/New_York:20231012T170000
DTSTAMP:20260425T110342
CREATED:20230822T155452Z
LAST-MODIFIED:20230822T155452Z
UID:4124-1697099400-1697130000@produffersorlando.com
SUMMARY:Green Valley
DESCRIPTION:
URL:https://produffersorlando.com/event/green-valley-5/
LOCATION:Green Valley Country Club\, 14601 Green Vlley Blvd\, Clermont\, FL\, 34711\, United States
END:VEVENT
BEGIN:VEVENT
DTSTART;TZID=America/New_York:20231010T083000
DTEND;TZID=America/New_York:20231010T170000
DTSTAMP:20260425T110342
CREATED:20230822T155258Z
LAST-MODIFIED:20230822T155258Z
UID:4122-1696926600-1696957200@produffersorlando.com
SUMMARY:Highland Reserve
DESCRIPTION:
URL:https://produffersorlando.com/event/highland-reserve-5/
LOCATION:FL
END:VEVENT
BEGIN:VEVENT
DTSTART;TZID=America/New_York:20231005T080000
DTEND;TZID=America/New_York:20231008T170000
DTSTAMP:20260425T110342
CREATED:20230312T004701Z
LAST-MODIFIED:20230312T004701Z
UID:3896-1696492800-1696784400@produffersorlando.com
SUMMARY:National ProDuffer Tournament - Jacksonville FL
DESCRIPTION:
URL:https://produffersorlando.com/event/national-produffer-tournament-jacksonville-fl/
LOCATION:FL
END:VEVENT
BEGIN:VEVENT
DTSTART;TZID=America/New_York:20231003T080000
DTEND;TZID=America/New_York:20231003T170000
DTSTAMP:20260425T110342
CREATED:20230822T155144Z
LAST-MODIFIED:20230822T155144Z
UID:4118-1696320000-1696352400@produffersorlando.com
SUMMARY:Stonegate Oaks
DESCRIPTION:
URL:https://produffersorlando.com/event/stonegate-oaks-2/
LOCATION:Stonegate Golf Club at Solivita\, 404 Village Drive\, Kissimmee\, FL\, 34759\, United States
END:VEVENT
BEGIN:VEVENT
DTSTART;TZID=America/New_York:20230928T073000
DTEND;TZID=America/New_York:20230928T170000
DTSTAMP:20260425T110342
CREATED:20230806T232525Z
LAST-MODIFIED:20230806T232525Z
UID:4105-1695886200-1695920400@produffersorlando.com
SUMMARY:OCN Crooked Cat
DESCRIPTION:
URL:https://produffersorlando.com/event/ocn-crooked-cat/
LOCATION:Orange County National Golf Center\, 16301 Phil Ritson Way\, Winter Garden\, FL\, 34787\, United States
END:VEVENT
BEGIN:VEVENT
DTSTART;TZID=America/New_York:20230926T073000
DTEND;TZID=America/New_York:20230926T170000
DTSTAMP:20260425T110342
CREATED:20230806T232420Z
LAST-MODIFIED:20230806T232420Z
UID:4103-1695713400-1695747600@produffersorlando.com
SUMMARY:OCN Panther
DESCRIPTION:
URL:https://produffersorlando.com/event/ocn-panther/
LOCATION:Orange County National Golf Center\, 16301 Phil Ritson Way\, Winter Garden\, FL\, 34787\, United States
END:VEVENT
BEGIN:VEVENT
DTSTART;TZID=America/New_York:20230921T083000
DTEND;TZID=America/New_York:20230921T170000
DTSTAMP:20260425T110342
CREATED:20230806T232226Z
LAST-MODIFIED:20230806T232226Z
UID:4101-1695285000-1695315600@produffersorlando.com
SUMMARY:Forest Lake
DESCRIPTION:
URL:https://produffersorlando.com/event/forest-lake-5/
LOCATION:Forest Lake Golf Club\, 10521 Clarcona Ocoee Rd\, Apopka\, FL\, 32703\, United States
END:VEVENT
BEGIN:VEVENT
DTSTART;TZID=America/New_York:20230919T083000
DTEND;TZID=America/New_York:20230919T170000
DTSTAMP:20260425T110342
CREATED:20230806T232029Z
LAST-MODIFIED:20230806T232029Z
UID:4099-1695112200-1695142800@produffersorlando.com
SUMMARY:Royal St. Cloud
DESCRIPTION:
URL:https://produffersorlando.com/event/royal-st-cloud-4/
LOCATION:St Cloud\, 5310 Michigan Ave\, Saint Cloud\, FL\, 34772\, United States
END:VEVENT
BEGIN:VEVENT
DTSTART;TZID=America/New_York:20230914T080000
DTEND;TZID=America/New_York:20230914T170000
DTSTAMP:20260425T110342
CREATED:20230806T231752Z
LAST-MODIFIED:20230806T231752Z
UID:4097-1694678400-1694710800@produffersorlando.com
SUMMARY:Highland Reserve
DESCRIPTION:
URL:https://produffersorlando.com/event/highland-reserve-4/
LOCATION:Highland Reserve Golf Club\, 500 Highlands Reserve Blvd\, Davenport\, FL\, 33897\, United States
END:VEVENT
BEGIN:VEVENT
DTSTART;TZID=America/New_York:20230912T090000
DTEND;TZID=America/New_York:20230912T170000
DTSTAMP:20260425T110342
CREATED:20230806T231525Z
LAST-MODIFIED:20230806T231525Z
UID:4095-1694509200-1694538000@produffersorlando.com
SUMMARY:Wedgefield
DESCRIPTION:
URL:https://produffersorlando.com/event/wedgefield-2/
LOCATION:Wedgefield\, 20550 Maxim Pkwy\, Orlando\, FL\, 32833\, United States
END:VEVENT
BEGIN:VEVENT
DTSTART;TZID=America/New_York:20230907T080000
DTEND;TZID=America/New_York:20230907T170000
DTSTAMP:20260425T110342
CREATED:20230806T231353Z
LAST-MODIFIED:20230806T231353Z
UID:4093-1694073600-1694106000@produffersorlando.com
SUMMARY:White Heron
DESCRIPTION:
URL:https://produffersorlando.com/event/white-heron-3/
LOCATION:White Heron at Ridgewood Lakes\, 200 Eagle Ridge Drive\, Davenport\, 33837\, United States
END:VEVENT
BEGIN:VEVENT
DTSTART;TZID=America/New_York:20230906T090000
DTEND;TZID=America/New_York:20230906T100000
DTSTAMP:20260425T110342
CREATED:20230830T163905Z
LAST-MODIFIED:20230830T163905Z
UID:4155-1693990800-1693994400@produffersorlando.com
SUMMARY:September CLT Mtg
DESCRIPTION:
URL:https://produffersorlando.com/event/september-clt-mtg/
LOCATION:FL
ORGANIZER;CN="Eugene Bryant":MAILTO:EUGENEBRYANTJR@GMAIL.COM
END:VEVENT
BEGIN:VEVENT
DTSTART;TZID=America/New_York:20230905T080000
DTEND;TZID=America/New_York:20230905T170000
DTSTAMP:20260425T110342
CREATED:20230806T231156Z
LAST-MODIFIED:20230806T231156Z
UID:4091-1693900800-1693933200@produffersorlando.com
SUMMARY:Dubsdread
DESCRIPTION:
URL:https://produffersorlando.com/event/dubsdread-4/
LOCATION:DubsDread Golf Course\, 549 West Par Street\, Orlando\, FL\, 32804\, United States
END:VEVENT
BEGIN:VEVENT
DTSTART;TZID=America/New_York:20230831T073000
DTEND;TZID=America/New_York:20230831T170000
DTSTAMP:20260425T110342
CREATED:20230524T132505Z
LAST-MODIFIED:20230524T132505Z
UID:4045-1693467000-1693501200@produffersorlando.com
SUMMARY:Golf at OCN Crooked Cat
DESCRIPTION:24 Players\nTee-times\nContact: Chuck
URL:https://produffersorlando.com/event/golf-at-ocn-crooked-cat-3/
LOCATION:Orange County National Golf Center\, 16301 Phil Ritson Way\, Winter Garden\, FL\, 34787\, United States
CATEGORIES:Thursday
END:VEVENT
END:VCALENDAR