BEGIN:VCALENDAR
VERSION:2.0
PRODID:-//Pro-Duffers Orlando - ECPv6.15.20//NONSGML v1.0//EN
CALSCALE:GREGORIAN
METHOD:PUBLISH
X-ORIGINAL-URL:https://produffersorlando.com
X-WR-CALDESC:Events for Pro-Duffers Orlando
REFRESH-INTERVAL;VALUE=DURATION:PT1H
X-Robots-Tag:noindex
X-PUBLISHED-TTL:PT1H
BEGIN:VTIMEZONE
TZID:America/New_York
BEGIN:DAYLIGHT
TZOFFSETFROM:-0500
TZOFFSETTO:-0400
TZNAME:EDT
DTSTART:20250309T070000
END:DAYLIGHT
BEGIN:STANDARD
TZOFFSETFROM:-0400
TZOFFSETTO:-0500
TZNAME:EST
DTSTART:20251102T060000
END:STANDARD
BEGIN:DAYLIGHT
TZOFFSETFROM:-0500
TZOFFSETTO:-0400
TZNAME:EDT
DTSTART:20260308T070000
END:DAYLIGHT
BEGIN:STANDARD
TZOFFSETFROM:-0400
TZOFFSETTO:-0500
TZNAME:EST
DTSTART:20261101T060000
END:STANDARD
BEGIN:DAYLIGHT
TZOFFSETFROM:-0500
TZOFFSETTO:-0400
TZNAME:EDT
DTSTART:20270314T070000
END:DAYLIGHT
BEGIN:STANDARD
TZOFFSETFROM:-0400
TZOFFSETTO:-0500
TZNAME:EST
DTSTART:20271107T060000
END:STANDARD
END:VTIMEZONE
BEGIN:VEVENT
DTSTART;TZID=America/New_York:20260205T083000
DTEND;TZID=America/New_York:20260205T140000
DTSTAMP:20260423T150912
CREATED:20260122T145439Z
LAST-MODIFIED:20260122T145439Z
UID:5289-1770280200-1770300000@produffersorlando.com
SUMMARY:Golf at Green Valley
DESCRIPTION:20 Players\nShotgun Start\nContact
URL:https://produffersorlando.com/event/golf-at-green-valley-5/
LOCATION:Green Valley Country Club\, 14601 Green Vlley Blvd\, Clermont\, FL\, 34711\, United States
CATEGORIES:Thursday
END:VEVENT
BEGIN:VEVENT
DTSTART;TZID=America/New_York:20260210T083000
DTEND;TZID=America/New_York:20260210T140000
DTSTAMP:20260423T150912
CREATED:20260122T145658Z
LAST-MODIFIED:20260122T145658Z
UID:5291-1770712200-1770732000@produffersorlando.com
SUMMARY:Golf at Eagle Dunes
DESCRIPTION:16 Players\nTee-Times\nContact
URL:https://produffersorlando.com/event/golf-at-eagle-dunes-18/
LOCATION:Eagle Dunes Golf Club\, 24000 Marbella Drive\, Sorrento\, FL\, 32776\, United States
CATEGORIES:Tuesday
END:VEVENT
BEGIN:VEVENT
DTSTART;TZID=America/New_York:20260212T083000
DTEND;TZID=America/New_York:20260212T140000
DTSTAMP:20260423T150912
CREATED:20260122T145948Z
LAST-MODIFIED:20260122T145948Z
UID:5293-1770885000-1770904800@produffersorlando.com
SUMMARY:Golf at Oaks National
DESCRIPTION:16 Players\nTee-Times\nContact
URL:https://produffersorlando.com/event/golf-at-oaks-national-6/
LOCATION:Oaks National Golf Club\, 1500 The Oaks Blvd\, Kissimmee\, FL\, 34746\, United States
CATEGORIES:Thursday
END:VEVENT
BEGIN:VEVENT
DTSTART;TZID=America/New_York:20260217T083000
DTEND;TZID=America/New_York:20260217T140000
DTSTAMP:20260423T150912
CREATED:20260122T150239Z
LAST-MODIFIED:20260122T150239Z
UID:5296-1771317000-1771336800@produffersorlando.com
SUMMARY:Golf at Wedgefield
DESCRIPTION:16 Players\nTee-Times\nContact
URL:https://produffersorlando.com/event/golf-at-wedgefield-6/
LOCATION:Wedgefield\, 20550 Maxim Pkwy\, Orlando\, FL\, 32833\, United States
CATEGORIES:Tuesday
END:VEVENT
BEGIN:VEVENT
DTSTART;TZID=America/New_York:20260219T083000
DTEND;TZID=America/New_York:20260219T140000
DTSTAMP:20260423T150912
CREATED:20260122T150518Z
LAST-MODIFIED:20260122T150518Z
UID:5298-1771489800-1771509600@produffersorlando.com
SUMMARY:Golf at Sweetwater
DESCRIPTION:16 Players\nShotgun Start\nContact
URL:https://produffersorlando.com/event/golf-at-sweetwater-9/
LOCATION:Sweetwater\, 2700 Sweetwater Country Club Drive\, Apopka\, FL\, 32712\, United States
CATEGORIES:Thursday
END:VEVENT
BEGIN:VEVENT
DTSTART;TZID=America/New_York:20260224T081500
DTEND;TZID=America/New_York:20260224T140000
DTSTAMP:20260423T150912
CREATED:20260122T150745Z
LAST-MODIFIED:20260122T150745Z
UID:5300-1771920900-1771941600@produffersorlando.com
SUMMARY:Golf at Forest Lake
DESCRIPTION:18 Players\nTee-Times\nContact
URL:https://produffersorlando.com/event/golf-at-forest-lake-39/
LOCATION:Forest Lake Golf Club\, 10521 Clarcona Ocoee Rd\, Apopka\, FL\, 32703\, United States
CATEGORIES:Tuesday
END:VEVENT
BEGIN:VEVENT
DTSTART;TZID=America/New_York:20260226T083000
DTEND;TZID=America/New_York:20260226T140000
DTSTAMP:20260423T150912
CREATED:20260122T150955Z
LAST-MODIFIED:20260122T150955Z
UID:5302-1772094600-1772114400@produffersorlando.com
SUMMARY:Golf at Kissimmee Bay
DESCRIPTION:16 Players\nTee-Times\nContact
URL:https://produffersorlando.com/event/golf-at-kissimmee-bay-11/
LOCATION:Kissimmee Bay Golf Club\, 2801 Kissimmee Bay Blvd\, Kissimmee\, FL\, 34744\, United States
CATEGORIES:Thursday
END:VEVENT
BEGIN:VEVENT
DTSTART;TZID=America/New_York:20260303T083000
DTEND;TZID=America/New_York:20260303T140000
DTSTAMP:20260423T150912
CREATED:20260227T222144Z
LAST-MODIFIED:20260227T222430Z
UID:5311-1772526600-1772546400@produffersorlando.com
SUMMARY:Golf at Redtail
DESCRIPTION:16 Players\nShotgun Start
URL:https://produffersorlando.com/event/golf-at-retail-3/
LOCATION:Redtail Golf Club\, 21600 Covered Bridge Lane\, Sorrento\, FL\, 32776\, United States
CATEGORIES:Tuesday
END:VEVENT
BEGIN:VEVENT
DTSTART;TZID=America/New_York:20260305T083000
DTEND;TZID=America/New_York:20260305T140000
DTSTAMP:20260423T150912
CREATED:20260227T222356Z
LAST-MODIFIED:20260227T222356Z
UID:5313-1772699400-1772719200@produffersorlando.com
SUMMARY:Golf at Sweetwater
DESCRIPTION:16 Players\nShotgun Start
URL:https://produffersorlando.com/event/golf-at-sweetwater-10/
LOCATION:Sweetwater\, 2700 Sweetwater Country Club Drive\, Apopka\, FL\, 32712\, United States
CATEGORIES:Thursday
END:VEVENT
BEGIN:VEVENT
DTSTART;TZID=America/New_York:20260310T083000
DTEND;TZID=America/New_York:20260310T140000
DTSTAMP:20260423T150912
CREATED:20260227T222747Z
LAST-MODIFIED:20260227T222747Z
UID:5318-1773131400-1773151200@produffersorlando.com
SUMMARY:Golf at Stoneybrook West
DESCRIPTION:16 Players\nTee-Times
URL:https://produffersorlando.com/event/golf-at-stoneybrook-west-9/
LOCATION:Stoneybrook West Golf Club\, 15501 Towne Commons Blvd\, Winter Garden\, FL\, 34787\, United States
CATEGORIES:Tuesday
END:VEVENT
BEGIN:VEVENT
DTSTART;TZID=America/New_York:20260312T083000
DTEND;TZID=America/New_York:20260312T140000
DTSTAMP:20260423T150912
CREATED:20260227T222936Z
LAST-MODIFIED:20260227T222936Z
UID:5320-1773304200-1773324000@produffersorlando.com
SUMMARY:Golf at Wekiva
DESCRIPTION:16 Players\nTee-Times
URL:https://produffersorlando.com/event/golf-at-wekiva-16/
LOCATION:Wekiva Golf Club\, 4100 Wekiva Club Court\, Longwood\, FL\, 32779\, United States
CATEGORIES:Thursday
END:VEVENT
BEGIN:VEVENT
DTSTART;TZID=America/New_York:20260317T083000
DTEND;TZID=America/New_York:20260317T140000
DTSTAMP:20260423T150912
CREATED:20260227T223327Z
LAST-MODIFIED:20260227T223327Z
UID:5322-1773736200-1773756000@produffersorlando.com
SUMMARY:Golf at Remington
DESCRIPTION:16 Players\nTee-Times
URL:https://produffersorlando.com/event/golf-at-remington-19/
LOCATION:Remington Golf Club\, 2995 Remingtong Blvd\, Kissimmee\, FL\, 34774\, United States
CATEGORIES:Tuesday
END:VEVENT
BEGIN:VEVENT
DTSTART;TZID=America/New_York:20260319T083000
DTEND;TZID=America/New_York:20260319T140000
DTSTAMP:20260423T150912
CREATED:20260227T223547Z
LAST-MODIFIED:20260227T223547Z
UID:5324-1773909000-1773928800@produffersorlando.com
SUMMARY:Golf at Rio Pinar
DESCRIPTION:16 Players\nTee-Times
URL:https://produffersorlando.com/event/golf-at-rio-pinar-33/
LOCATION:Rio Pinar Country Club\, 8600 El Prado Ave\, Orlando\, FL\, 32825\, United States
CATEGORIES:Thursday
END:VEVENT
BEGIN:VEVENT
DTSTART;TZID=America/New_York:20260324T083000
DTEND;TZID=America/New_York:20260324T140000
DTSTAMP:20260423T150912
CREATED:20260227T223741Z
LAST-MODIFIED:20260311T182808Z
UID:5326-1774341000-1774360800@produffersorlando.com
SUMMARY:Golf at Stoneybrook West
DESCRIPTION:16 Players\nRange\nTee-Times
URL:https://produffersorlando.com/event/golf-at-sweetwater-11/
LOCATION:Stoneybrook West Golf Club\, 15501 Towne Commons Blvd\, Winter Garden\, FL\, 34787\, United States
CATEGORIES:Tuesday
END:VEVENT
BEGIN:VEVENT
DTSTART;TZID=America/New_York:20260326T080000
DTEND;TZID=America/New_York:20260326T170000
DTSTAMP:20260423T150912
CREATED:20260227T223844Z
LAST-MODIFIED:20260227T223844Z
UID:5328-1774512000-1774544400@produffersorlando.com
SUMMARY:Florida Cup Challenge
DESCRIPTION:
URL:https://produffersorlando.com/event/florida-cup-challenge/
CATEGORIES:Thursday
END:VEVENT
BEGIN:VEVENT
DTSTART;TZID=America/New_York:20260331T083000
DTEND;TZID=America/New_York:20260331T140000
DTSTAMP:20260423T150912
CREATED:20260227T224029Z
LAST-MODIFIED:20260227T224029Z
UID:5330-1774945800-1774965600@produffersorlando.com
SUMMARY:Golf at Forest Lake
DESCRIPTION:18 Players\nTee-times
URL:https://produffersorlando.com/event/golf-at-forest-lake-40/
LOCATION:Forest Lake Golf Club\, 10521 Clarcona Ocoee Rd\, Apopka\, FL\, 32703\, United States
CATEGORIES:Tuesday
END:VEVENT
BEGIN:VEVENT
DTSTART;TZID=America/New_York:20260402T085700
DTEND;TZID=America/New_York:20260402T140000
DTSTAMP:20260423T150912
CREATED:20260326T110418Z
LAST-MODIFIED:20260326T110418Z
UID:5339-1775120220-1775138400@produffersorlando.com
SUMMARY:Golf at Wedgefield
DESCRIPTION:16 Players\nTee-Times
URL:https://produffersorlando.com/event/golf-at-wedgefield-7/
LOCATION:Wedgefield\, 20550 Maxim Pkwy\, Orlando\, FL\, 32833\, United States
CATEGORIES:Thursday
END:VEVENT
BEGIN:VEVENT
DTSTART;TZID=America/New_York:20260407T083000
DTEND;TZID=America/New_York:20260407T140000
DTSTAMP:20260423T150912
CREATED:20260326T110653Z
LAST-MODIFIED:20260326T112551Z
UID:5344-1775550600-1775570400@produffersorlando.com
SUMMARY:Golf at Mayfair
DESCRIPTION:16 Players
URL:https://produffersorlando.com/event/golfat-mayfair/
LOCATION:Mayfair Golf Club\, 3536 Country Club Rd\, Sanford\, 32773\, United States
CATEGORIES:Tuesday
END:VEVENT
BEGIN:VEVENT
DTSTART;TZID=America/New_York:20260409T083000
DTEND;TZID=America/New_York:20260409T140000
DTSTAMP:20260423T150912
CREATED:20260326T110847Z
LAST-MODIFIED:20260326T110847Z
UID:5346-1775723400-1775743200@produffersorlando.com
SUMMARY:Golf at Eagle Dunes
DESCRIPTION:16 Players\nRange
URL:https://produffersorlando.com/event/golf-at-eagle-dunes-19/
LOCATION:Eagle Dunes Golf Club\, 24000 Marbella Drive\, Sorrento\, FL\, 32776\, United States
CATEGORIES:Tuesday
END:VEVENT
BEGIN:VEVENT
DTSTART;TZID=America/New_York:20260414T083000
DTEND;TZID=America/New_York:20260414T140000
DTSTAMP:20260423T150912
CREATED:20260326T111044Z
LAST-MODIFIED:20260326T111044Z
UID:5348-1776155400-1776175200@produffersorlando.com
SUMMARY:Golf at Wekiva
DESCRIPTION:16 Players\nRange
URL:https://produffersorlando.com/event/golf-at-wekiva-17/
LOCATION:Wekiva Golf Club\, 4100 Wekiva Club Court\, Longwood\, FL\, 32779\, United States
CATEGORIES:Tuesday
END:VEVENT
BEGIN:VEVENT
DTSTART;TZID=America/New_York:20260416T083000
DTEND;TZID=America/New_York:20260416T140000
DTSTAMP:20260423T150912
CREATED:20260326T111206Z
LAST-MODIFIED:20260326T112328Z
UID:5350-1776328200-1776348000@produffersorlando.com
SUMMARY:Golf at Rio Pinar
DESCRIPTION:16 Players
URL:https://produffersorlando.com/event/golf-at-rio-pinar-34/
CATEGORIES:Tuesday
END:VEVENT
BEGIN:VEVENT
DTSTART;TZID=America/New_York:20260421T083000
DTEND;TZID=America/New_York:20260421T140000
DTSTAMP:20260423T150912
CREATED:20260326T111403Z
LAST-MODIFIED:20260326T111403Z
UID:5352-1776760200-1776780000@produffersorlando.com
SUMMARY:Golf at Redtail
DESCRIPTION:16 Players\nShotgun Start
URL:https://produffersorlando.com/event/golf-at-redtail-16/
LOCATION:Redtail Golf Club\, 21600 Covered Bridge Lane\, Sorrento\, FL\, 32776\, United States
CATEGORIES:Tuesday
END:VEVENT
BEGIN:VEVENT
DTSTART;TZID=America/New_York:20260423T083000
DTEND;TZID=America/New_York:20260423T140000
DTSTAMP:20260423T150912
CREATED:20260326T111607Z
LAST-MODIFIED:20260326T112417Z
UID:5354-1776933000-1776952800@produffersorlando.com
SUMMARY:Golf at Stoneybrook West
DESCRIPTION:16 Players\nShotgun Start
URL:https://produffersorlando.com/event/golf-at-stoneybrook-west-10/
LOCATION:Stoneybrook West Golf Club\, 15501 Towne Commons Blvd\, Winter Garden\, FL\, 34787\, United States
CATEGORIES:Tuesday
END:VEVENT
BEGIN:VEVENT
DTSTART;TZID=America/New_York:20260428T083000
DTEND;TZID=America/New_York:20260428T140000
DTSTAMP:20260423T150912
CREATED:20260326T111901Z
LAST-MODIFIED:20260326T111901Z
UID:5356-1777365000-1777384800@produffersorlando.com
SUMMARY:Golf at Sweetwater
DESCRIPTION:16 Players\nShotgun Start
URL:https://produffersorlando.com/event/golf-at-sweetwater-12/
LOCATION:Sweetwater\, 2700 Sweetwater Country Club Drive\, Apopka\, FL\, 32712\, United States
CATEGORIES:Tuesday
END:VEVENT
BEGIN:VEVENT
DTSTART;TZID=America/New_York:20260430T083000
DTEND;TZID=America/New_York:20260430T140000
DTSTAMP:20260423T150912
CREATED:20260326T112100Z
LAST-MODIFIED:20260326T112100Z
UID:5358-1777537800-1777557600@produffersorlando.com
SUMMARY:Golf at Remington
DESCRIPTION:16 Players
URL:https://produffersorlando.com/event/golf-at-remington-20/
LOCATION:Remington Golf Club\, 2995 Remingtong Blvd\, Kissimmee\, FL\, 34774\, United States
CATEGORIES:Thursday
END:VEVENT
END:VCALENDAR