BEGIN:VCALENDAR
VERSION:2.0
PRODID:-//Pro-Duffers Orlando - ECPv6.15.20//NONSGML v1.0//EN
CALSCALE:GREGORIAN
METHOD:PUBLISH
X-WR-CALNAME:Pro-Duffers Orlando
X-ORIGINAL-URL:https://produffersorlando.com
X-WR-CALDESC:Events for Pro-Duffers Orlando
REFRESH-INTERVAL;VALUE=DURATION:PT1H
X-Robots-Tag:noindex
X-PUBLISHED-TTL:PT1H
BEGIN:VTIMEZONE
TZID:America/New_York
BEGIN:DAYLIGHT
TZOFFSETFROM:-0500
TZOFFSETTO:-0400
TZNAME:EDT
DTSTART:20220313T070000
END:DAYLIGHT
BEGIN:STANDARD
TZOFFSETFROM:-0400
TZOFFSETTO:-0500
TZNAME:EST
DTSTART:20221106T060000
END:STANDARD
BEGIN:DAYLIGHT
TZOFFSETFROM:-0500
TZOFFSETTO:-0400
TZNAME:EDT
DTSTART:20230312T070000
END:DAYLIGHT
BEGIN:STANDARD
TZOFFSETFROM:-0400
TZOFFSETTO:-0500
TZNAME:EST
DTSTART:20231105T060000
END:STANDARD
BEGIN:DAYLIGHT
TZOFFSETFROM:-0500
TZOFFSETTO:-0400
TZNAME:EDT
DTSTART:20240310T070000
END:DAYLIGHT
BEGIN:STANDARD
TZOFFSETFROM:-0400
TZOFFSETTO:-0500
TZNAME:EST
DTSTART:20241103T060000
END:STANDARD
BEGIN:DAYLIGHT
TZOFFSETFROM:-0500
TZOFFSETTO:-0400
TZNAME:EDT
DTSTART:20250309T070000
END:DAYLIGHT
BEGIN:STANDARD
TZOFFSETFROM:-0400
TZOFFSETTO:-0500
TZNAME:EST
DTSTART:20251102T060000
END:STANDARD
END:VTIMEZONE
BEGIN:VEVENT
DTSTART;TZID=America/New_York:20231205T083000
DTEND;TZID=America/New_York:20231205T170000
DTSTAMP:20260425T112942
CREATED:20230826T170122Z
LAST-MODIFIED:20230826T170122Z
UID:4150-1701765000-1701795600@produffersorlando.com
SUMMARY:Stonegate-Oaks
DESCRIPTION:
URL:https://produffersorlando.com/event/stonegate-oaks-3/
LOCATION:Stonegate Golf Club at Solivita\, 404 Village Drive\, Kissimmee\, FL\, 34759\, United States
END:VEVENT
BEGIN:VEVENT
DTSTART;TZID=America/New_York:20231207T083000
DTEND;TZID=America/New_York:20231207T170000
DTSTAMP:20260425T112942
CREATED:20231009T194439Z
LAST-MODIFIED:20231009T194439Z
UID:4175-1701937800-1701968400@produffersorlando.com
SUMMARY:Legends of Clermont
DESCRIPTION:
URL:https://produffersorlando.com/event/legends-of-clermont-5/
LOCATION:FL
END:VEVENT
BEGIN:VEVENT
DTSTART;TZID=America/New_York:20231212T080000
DTEND;TZID=America/New_York:20231212T170000
DTSTAMP:20260425T112942
CREATED:20231209T163357Z
LAST-MODIFIED:20231209T163357Z
UID:4232-1702368000-1702400400@produffersorlando.com
SUMMARY:Highland Reserve
DESCRIPTION:
URL:https://produffersorlando.com/event/highland-reserve-6/
LOCATION:Highland Reserve Golf Club\, 500 Highlands Reserve Blvd\, Davenport\, FL\, 33897\, United States
END:VEVENT
BEGIN:VEVENT
DTSTART;TZID=America/New_York:20231214T080000
DTEND;TZID=America/New_York:20231214T170000
DTSTAMP:20260425T112942
CREATED:20231209T163536Z
LAST-MODIFIED:20231209T163710Z
UID:4234-1702540800-1702573200@produffersorlando.com
SUMMARY:Green Valley - $36
DESCRIPTION:
URL:https://produffersorlando.com/event/green-valley-36/
LOCATION:Green Valley Country Club\, 14601 Green Vlley Blvd\, Clermont\, FL\, 34711\, United States
END:VEVENT
BEGIN:VEVENT
DTSTART;TZID=America/New_York:20231219T080000
DTEND;TZID=America/New_York:20231219T170000
DTSTAMP:20260425T112942
CREATED:20231209T163819Z
LAST-MODIFIED:20231209T163819Z
UID:4236-1702972800-1703005200@produffersorlando.com
SUMMARY:Kissimmee Bay
DESCRIPTION:
URL:https://produffersorlando.com/event/kissimmee-bay-2/
LOCATION:Kissimmee Bay Golf Club\, 2801 Kissimmee Bay Blvd\, Kissimmee\, FL\, 34744\, United States
END:VEVENT
BEGIN:VEVENT
DTSTART;TZID=America/New_York:20231221T080000
DTEND;TZID=America/New_York:20231221T170000
DTSTAMP:20260425T112942
CREATED:20231209T164005Z
LAST-MODIFIED:20231209T164005Z
UID:4238-1703145600-1703178000@produffersorlando.com
SUMMARY:Royal St. Cloud - Rain Checks
DESCRIPTION:
URL:https://produffersorlando.com/event/royal-st-cloud-rain-checks/
LOCATION:St Cloud\, 5310 Michigan Ave\, Saint Cloud\, FL\, 34772\, United States
ORGANIZER;CN="Eugene Bryant":MAILTO:EUGENEBRYANTJR@GMAIL.COM
END:VEVENT
BEGIN:VEVENT
DTSTART;TZID=America/New_York:20231226T080000
DTEND;TZID=America/New_York:20231226T170000
DTSTAMP:20260425T112942
CREATED:20231209T164108Z
LAST-MODIFIED:20231209T164108Z
UID:4240-1703577600-1703610000@produffersorlando.com
SUMMARY:Dubsdread
DESCRIPTION:
URL:https://produffersorlando.com/event/dubsdread-6/
LOCATION:DubsDread Golf Course\, 549 West Par Street\, Orlando\, FL\, 32804\, United States
END:VEVENT
BEGIN:VEVENT
DTSTART;TZID=America/New_York:20231228T080000
DTEND;TZID=America/New_York:20231228T170000
DTSTAMP:20260425T112942
CREATED:20231209T164204Z
LAST-MODIFIED:20231209T164204Z
UID:4242-1703750400-1703782800@produffersorlando.com
SUMMARY:Wedgefield
DESCRIPTION:
URL:https://produffersorlando.com/event/wedgefield-5/
LOCATION:FL
ORGANIZER;CN="Eugene Bryant":MAILTO:EUGENEBRYANTJR@GMAIL.COM
END:VEVENT
BEGIN:VEVENT
DTSTART;TZID=America/New_York:20240102T090000
DTEND;TZID=America/New_York:20240102T170000
DTSTAMP:20260425T112942
CREATED:20231224T002724Z
LAST-MODIFIED:20231224T002724Z
UID:4253-1704186000-1704214800@produffersorlando.com
SUMMARY:Stoneybrook East
DESCRIPTION:
URL:https://produffersorlando.com/event/stoneybrook-east-3/
LOCATION:Stoneybrook East Golf Club\, 2900 Northampton Ave\, Orlando\, FL\, 32828\, United States
END:VEVENT
BEGIN:VEVENT
DTSTART;TZID=America/New_York:20240104T083000
DTEND;TZID=America/New_York:20240104T170000
DTSTAMP:20260425T112942
CREATED:20230826T165600Z
LAST-MODIFIED:20230826T165600Z
UID:4144-1704357000-1704387600@produffersorlando.com
SUMMARY:Stonegate-Cypress
DESCRIPTION:
URL:https://produffersorlando.com/event/stonegate-cypress-3/
LOCATION:FL
END:VEVENT
BEGIN:VEVENT
DTSTART;TZID=America/New_York:20240109T080000
DTEND;TZID=America/New_York:20240109T170000
DTSTAMP:20260425T112942
CREATED:20231209T164536Z
LAST-MODIFIED:20231209T164536Z
UID:4246-1704787200-1704819600@produffersorlando.com
SUMMARY:Highland Reserve  $45
DESCRIPTION:
URL:https://produffersorlando.com/event/highland-reserve-45/
LOCATION:Highland Reserve Golf Club\, 500 Highlands Reserve Blvd\, Davenport\, FL\, 33897\, United States
END:VEVENT
BEGIN:VEVENT
DTSTART;TZID=America/New_York:20240110T090000
DTEND;TZID=America/New_York:20240110T100000
DTSTAMP:20260425T112942
CREATED:20231224T183519Z
LAST-MODIFIED:20231224T183519Z
UID:4292-1704877200-1704880800@produffersorlando.com
SUMMARY:January 2024 CLT Meeting via Zoom
DESCRIPTION:
URL:https://produffersorlando.com/event/january-2024-clt-meeting-via-zoom/
LOCATION:FL
ORGANIZER;CN="Eugene Bryant":MAILTO:EUGENEBRYANTJR@GMAIL.COM
END:VEVENT
BEGIN:VEVENT
DTSTART;TZID=America/New_York:20240111T083000
DTEND;TZID=America/New_York:20240111T170000
DTSTAMP:20260425T112942
CREATED:20231224T003042Z
LAST-MODIFIED:20231224T003042Z
UID:4255-1704961800-1704992400@produffersorlando.com
SUMMARY:Remington
DESCRIPTION:
URL:https://produffersorlando.com/event/remington-4/
LOCATION:Remington Golf Club\, 2995 Remingtong Blvd\, Kissimmee\, FL\, 34774\, United States
ORGANIZER;CN="Eugene Bryant":MAILTO:EUGENEBRYANTJR@GMAIL.COM
END:VEVENT
BEGIN:VEVENT
DTSTART;TZID=America/New_York:20240116T083000
DTEND;TZID=America/New_York:20240116T170000
DTSTAMP:20260425T112942
CREATED:20231224T003306Z
LAST-MODIFIED:20231224T003306Z
UID:4257-1705393800-1705424400@produffersorlando.com
SUMMARY:Forest Lake
DESCRIPTION:
URL:https://produffersorlando.com/event/forest-lake-6/
LOCATION:Forest Lake Golf Club\, 10521 Clarcona Ocoee Road\, Ocoee\, FL\, 32703\, United States
END:VEVENT
BEGIN:VEVENT
DTSTART;TZID=America/New_York:20240118T083000
DTEND;TZID=America/New_York:20240118T170000
DTSTAMP:20260425T112942
CREATED:20231224T003525Z
LAST-MODIFIED:20231224T003525Z
UID:4259-1705566600-1705597200@produffersorlando.com
SUMMARY:Rio Pinar
DESCRIPTION:
URL:https://produffersorlando.com/event/rio-pinar-2/
LOCATION:Rio Pinar Country Club\, 8600 El Prado Ave\, Orlando\, FL\, 32825\, United States
END:VEVENT
BEGIN:VEVENT
DTSTART;TZID=America/New_York:20240123T083000
DTEND;TZID=America/New_York:20240123T140000
DTSTAMP:20260425T112942
CREATED:20240118T132909Z
LAST-MODIFIED:20240118T132909Z
UID:4302-1705998600-1706018400@produffersorlando.com
SUMMARY:Golf at Wekiva
DESCRIPTION:20 Players\nRange\nContact: Tony Miller
URL:https://produffersorlando.com/event/golf-at-wekiva-10/
LOCATION:Wekiva Golf Club\, 4100 Wekiva Club Court\, Longwood\, FL\, 32779\, United States
CATEGORIES:Tuesday
END:VEVENT
BEGIN:VEVENT
DTSTART;TZID=America/New_York:20240125T083000
DTEND;TZID=America/New_York:20240125T170000
DTSTAMP:20260425T112942
CREATED:20231224T003839Z
LAST-MODIFIED:20231224T003839Z
UID:4261-1706171400-1706202000@produffersorlando.com
SUMMARY:Legends of Clermont
DESCRIPTION:
URL:https://produffersorlando.com/event/legends-of-clermont-6/
LOCATION:Legends Golf and Country Club\, 1700 Legendary Blvd\, Clermont\, FL\, 34711\, United States
END:VEVENT
BEGIN:VEVENT
DTSTART;TZID=America/New_York:20240130T083000
DTEND;TZID=America/New_York:20240130T140000
DTSTAMP:20260425T112942
CREATED:20240125T151813Z
LAST-MODIFIED:20240125T151813Z
UID:4308-1706603400-1706623200@produffersorlando.com
SUMMARY:Golf at Eagle Dunes
DESCRIPTION:24 Players\nRange\nShotgun Start\nContact: Sean Holmes
URL:https://produffersorlando.com/event/golf-at-eagle-dunes-12/
LOCATION:Eagle Dunes Golf Club\, 24000 Marbella Drive\, Sorrento\, FL\, 32776\, United States
CATEGORIES:Tuesday
END:VEVENT
BEGIN:VEVENT
DTSTART;TZID=America/New_York:20240201T080000
DTEND;TZID=America/New_York:20240201T170000
DTSTAMP:20260425T112942
CREATED:20240129T175135Z
LAST-MODIFIED:20240129T175135Z
UID:4330-1706774400-1706806800@produffersorlando.com
SUMMARY:First Day of Black History Month
DESCRIPTION:
URL:https://produffersorlando.com/event/first-day-of-black-history-month/
LOCATION:FL
CATEGORIES:Thursday
END:VEVENT
BEGIN:VEVENT
DTSTART;TZID=America/New_York:20240206T083000
DTEND;TZID=America/New_York:20240206T170000
DTSTAMP:20260425T112942
CREATED:20231224T004039Z
LAST-MODIFIED:20231224T004039Z
UID:4263-1707208200-1707238800@produffersorlando.com
SUMMARY:Stonegate Oaks
DESCRIPTION:
URL:https://produffersorlando.com/event/stonegate-oaks-5/
LOCATION:Stonegate Golf Club at Solivita\, 404 Village Drive\, Kissimmee\, FL\, 34759\, United States
END:VEVENT
BEGIN:VEVENT
DTSTART;TZID=America/New_York:20240208T083000
DTEND;TZID=America/New_York:20240208T140000
DTSTAMP:20260425T112942
CREATED:20231224T004224Z
LAST-MODIFIED:20240128T003309Z
UID:4265-1707381000-1707400800@produffersorlando.com
SUMMARY:Golf at Kissimmee Bay
DESCRIPTION:24 Players\nShotgun Start\n$5.00 Range
URL:https://produffersorlando.com/event/kissimmee-bay-70/
LOCATION:Kissimmee Bay Golf Club\, 2801 Kissimmee Bay Blvd\, Kissimmee\, FL\, 34744\, United States
CATEGORIES:Thursday
END:VEVENT
BEGIN:VEVENT
DTSTART;TZID=America/New_York:20240213T083000
DTEND;TZID=America/New_York:20240213T140000
DTSTAMP:20260425T112942
CREATED:20240127T160948Z
LAST-MODIFIED:20240127T160948Z
UID:4313-1707813000-1707832800@produffersorlando.com
SUMMARY:Golf at Stoneybrook East
DESCRIPTION:24 Players\nTee Times
URL:https://produffersorlando.com/event/golf-at-stoneybrook-east-10/
LOCATION:Stoneybrook East Golf Club\, 2900 Northampton Ave\, Orlando\, FL\, 32828\, United States
CATEGORIES:Tuesday
END:VEVENT
BEGIN:VEVENT
DTSTART;TZID=America/New_York:20240214T090000
DTEND;TZID=America/New_York:20240214T170000
DTSTAMP:20260425T112942
CREATED:20240129T174221Z
LAST-MODIFIED:20240129T174317Z
UID:4322-1707901200-1707930000@produffersorlando.com
SUMMARY:PDO CLT Meeting via ZOOM
DESCRIPTION:Meeting ID: 8598147 9796\nPasscode: 413073
URL:https://produffersorlando.com/event/pdo-clt-meeting-via-zoom/
LOCATION:FL
CATEGORIES:Wednesday
END:VEVENT
BEGIN:VEVENT
DTSTART;TZID=America/New_York:20240215T083000
DTEND;TZID=America/New_York:20240215T140000
DTSTAMP:20260425T112942
CREATED:20240128T182343Z
LAST-MODIFIED:20240128T182343Z
UID:4319-1707985800-1708005600@produffersorlando.com
SUMMARY:Golf at Rio Pinar
DESCRIPTION:24-28 Players\nShotgun Start\nRange Balls Not included
URL:https://produffersorlando.com/event/golf-at-rio-pinar-15/
LOCATION:Rio Pinar Golf Club\, 8600 El Prado Avenue\, Orlando\, FL\, 32825\, United States
CATEGORIES:Thursday
END:VEVENT
BEGIN:VEVENT
DTSTART;TZID=America/New_York:20240219T080000
DTEND;TZID=America/New_York:20240219T170000
DTSTAMP:20260425T112942
CREATED:20240129T175340Z
LAST-MODIFIED:20240129T175340Z
UID:4332-1708329600-1708362000@produffersorlando.com
SUMMARY:Presidents Day
DESCRIPTION:
URL:https://produffersorlando.com/event/presidents-day-2/
LOCATION:FL
END:VEVENT
BEGIN:VEVENT
DTSTART;TZID=America/New_York:20240220T080000
DTEND;TZID=America/New_York:20240220T170000
DTSTAMP:20260425T112942
CREATED:20240127T161134Z
LAST-MODIFIED:20240127T161134Z
UID:4315-1708416000-1708448400@produffersorlando.com
SUMMARY:Golf at Zellwood
DESCRIPTION:24 players\nShotgun Start
URL:https://produffersorlando.com/event/golf-at-zellwood-5/
LOCATION:Zellwood Station Golf Club\, 2126 Spillman Drive\, Zellwood\, FL\, 32798\, United States
CATEGORIES:Tuesday
END:VEVENT
BEGIN:VEVENT
DTSTART;TZID=America/New_York:20240222T083000
DTEND;TZID=America/New_York:20240222T140000
DTSTAMP:20260425T112942
CREATED:20240207T211025Z
LAST-MODIFIED:20240207T211025Z
UID:4352-1708590600-1708610400@produffersorlando.com
SUMMARY:Golf at Mayfair
DESCRIPTION:24 Players\nShotgun Start
URL:https://produffersorlando.com/event/golf-at-mayfair-2/
LOCATION:Mayfair Golf Club\, 3536 Country Club Rd\, Sanford\, 32773\, United States
CATEGORIES:Thursday
END:VEVENT
BEGIN:VEVENT
DTSTART;TZID=America/New_York:20240225T120000
DTEND;TZID=America/New_York:20240225T170000
DTSTAMP:20260425T112942
CREATED:20240214T145332Z
LAST-MODIFIED:20240227T082339Z
UID:4397-1708862400-1708880400@produffersorlando.com
SUMMARY:Induction Ceremony Pro Duffers Sarasota-Bradenton (CANCELED)
DESCRIPTION:The Club at River Wilderness\n2250 Wilderness Blvd W\nParrish\, Fl 34219\n941-776-2691\n$38.00
URL:https://produffersorlando.com/event/induction-ceremony-pro-duffers-sarasota-bradenton/
LOCATION:FL
CATEGORIES:Sunday
ORGANIZER;CN="Eugene Bryant":MAILTO:EUGENEBRYANTJR@GMAIL.COM
END:VEVENT
BEGIN:VEVENT
DTSTART;TZID=America/New_York:20240227T083000
DTEND;TZID=America/New_York:20240227T170000
DTSTAMP:20260425T112942
CREATED:20231224T004534Z
LAST-MODIFIED:20231224T004534Z
UID:4267-1709022600-1709053200@produffersorlando.com
SUMMARY:Dubsdread
DESCRIPTION:
URL:https://produffersorlando.com/event/dubsdread-7/
LOCATION:DubsDread Golf Course\, 549 West Par Street\, Orlando\, FL\, 32804\, United States
END:VEVENT
BEGIN:VEVENT
DTSTART;TZID=America/New_York:20240229T083000
DTEND;TZID=America/New_York:20240229T170000
DTSTAMP:20260425T112942
CREATED:20231224T004729Z
LAST-MODIFIED:20231224T004729Z
UID:4269-1709195400-1709226000@produffersorlando.com
SUMMARY:Legends of Clermont
DESCRIPTION:
URL:https://produffersorlando.com/event/legends-of-clermont-7/
LOCATION:Legends Golf and Country Club\, 1700 Legendary Blvd\, Clermont\, FL\, 34711\, United States
END:VEVENT
END:VCALENDAR