BEGIN:VCALENDAR
VERSION:2.0
PRODID:-//Pro-Duffers Orlando - ECPv6.15.20//NONSGML v1.0//EN
CALSCALE:GREGORIAN
METHOD:PUBLISH
X-WR-CALNAME:Pro-Duffers Orlando
X-ORIGINAL-URL:https://produffersorlando.com
X-WR-CALDESC:Events for Pro-Duffers Orlando
REFRESH-INTERVAL;VALUE=DURATION:PT1H
X-Robots-Tag:noindex
X-PUBLISHED-TTL:PT1H
BEGIN:VTIMEZONE
TZID:America/New_York
BEGIN:DAYLIGHT
TZOFFSETFROM:-0500
TZOFFSETTO:-0400
TZNAME:EDT
DTSTART:20210314T070000
END:DAYLIGHT
BEGIN:STANDARD
TZOFFSETFROM:-0400
TZOFFSETTO:-0500
TZNAME:EST
DTSTART:20211107T060000
END:STANDARD
BEGIN:DAYLIGHT
TZOFFSETFROM:-0500
TZOFFSETTO:-0400
TZNAME:EDT
DTSTART:20220313T070000
END:DAYLIGHT
BEGIN:STANDARD
TZOFFSETFROM:-0400
TZOFFSETTO:-0500
TZNAME:EST
DTSTART:20221106T060000
END:STANDARD
BEGIN:DAYLIGHT
TZOFFSETFROM:-0500
TZOFFSETTO:-0400
TZNAME:EDT
DTSTART:20230312T070000
END:DAYLIGHT
BEGIN:STANDARD
TZOFFSETFROM:-0400
TZOFFSETTO:-0500
TZNAME:EST
DTSTART:20231105T060000
END:STANDARD
END:VTIMEZONE
BEGIN:VEVENT
DTSTART;TZID=America/New_York:20221201T083000
DTEND;TZID=America/New_York:20221201T140000
DTSTAMP:20260425T205523
CREATED:20221101T195420Z
LAST-MODIFIED:20221101T195420Z
UID:3673-1669883400-1669903200@produffersorlando.com
SUMMARY:Golf at Arlington Ridge
DESCRIPTION:24 Players\nShotgun  Start\nContact: John Ellis
URL:https://produffersorlando.com/event/golf-at-arlington-ridge-5/
LOCATION:Arlington Ridge\, 4436 Arlington Ridge Blvd\, Leesburg\, FL\, 34748\, United States
CATEGORIES:Thursday
END:VEVENT
BEGIN:VEVENT
DTSTART;TZID=America/New_York:20221129T083000
DTEND;TZID=America/New_York:20221129T140000
DTSTAMP:20260425T205523
CREATED:20221020T034438Z
LAST-MODIFIED:20221020T034438Z
UID:3650-1669710600-1669730400@produffersorlando.com
SUMMARY:Golf at Remington
DESCRIPTION:24 Players\nShotgun Start\nContact: Austin
URL:https://produffersorlando.com/event/golf-at-remington-15/
LOCATION:Remington Golf Club\, 2995 Remingtong Blvd\, Kissimmee\, FL\, 34774\, United States
CATEGORIES:Tuesday
END:VEVENT
BEGIN:VEVENT
DTSTART;VALUE=DATE:20221124
DTEND;VALUE=DATE:20221125
DTSTAMP:20260425T205523
CREATED:20221031T232227Z
LAST-MODIFIED:20221031T232330Z
UID:3670-1669248000-1669334399@produffersorlando.com
SUMMARY:THANKSGIVING DAY
DESCRIPTION:
URL:https://produffersorlando.com/event/thanksgiving-day-7/
LOCATION:FL
END:VEVENT
BEGIN:VEVENT
DTSTART;TZID=America/New_York:20221122T083000
DTEND;TZID=America/New_York:20221122T140000
DTSTAMP:20260425T205523
CREATED:20221020T034250Z
LAST-MODIFIED:20221020T034250Z
UID:3648-1669105800-1669125600@produffersorlando.com
SUMMARY:Golf at Eagle Creek
DESCRIPTION:24 Players\nShotgun Start\nRange\nContact: Mike
URL:https://produffersorlando.com/event/golf-at-eagle-creek-28/
LOCATION:Eagle Creek Golf Club\, 10350 Emerson Lake Blvd\, Orlando\, FL\, 32832\, United States
CATEGORIES:Tuesday
END:VEVENT
BEGIN:VEVENT
DTSTART;TZID=America/New_York:20221117T083000
DTEND;TZID=America/New_York:20221117T140000
DTSTAMP:20260425T205523
CREATED:20221020T034042Z
LAST-MODIFIED:20221020T034042Z
UID:3646-1668673800-1668693600@produffersorlando.com
SUMMARY:Golf at Legends
DESCRIPTION:24 Players\nShotgun Start\nContact: Chris
URL:https://produffersorlando.com/event/golf-at-legends-12/
LOCATION:Legends Golf and Country Club\, 1700 Legendary Blvd\, Clermont\, FL\, 34711\, United States
CATEGORIES:Thursday
END:VEVENT
BEGIN:VEVENT
DTSTART;TZID=America/New_York:20221115T083000
DTEND;TZID=America/New_York:20221115T140000
DTSTAMP:20260425T205523
CREATED:20221020T033834Z
LAST-MODIFIED:20221020T034644Z
UID:3644-1668501000-1668520800@produffersorlando.com
SUMMARY:Golf at Dubsdreed
DESCRIPTION:24 Players\nShotgun Start\nRange\nContact: Virginia
URL:https://produffersorlando.com/event/golf-at-dubsdreed-2/
LOCATION:DubsDread Golf Course\, 549 West Par Street\, Orlando\, FL\, 32804\, United States
CATEGORIES:Tuesday
END:VEVENT
BEGIN:VEVENT
DTSTART;TZID=America/New_York:20221110T083000
DTEND;TZID=America/New_York:20221110T140000
DTSTAMP:20260425T205523
CREATED:20221020T033609Z
LAST-MODIFIED:20221020T033609Z
UID:3642-1668069000-1668088800@produffersorlando.com
SUMMARY:Golf at St. Cloud
DESCRIPTION:24 Players\nTee-Times\nWhite to Blue\nContact: Doug
URL:https://produffersorlando.com/event/golf-at-st-cloud-9/
LOCATION:St Cloud\, 5310 Michigan Ave\, Saint Cloud\, FL\, 34772\, United States
CATEGORIES:Thursday
END:VEVENT
BEGIN:VEVENT
DTSTART;TZID=America/New_York:20221108T083000
DTEND;TZID=America/New_York:20221108T140000
DTSTAMP:20260425T205523
CREATED:20221031T232136Z
LAST-MODIFIED:20221031T232432Z
UID:3668-1667896200-1667916000@produffersorlando.com
SUMMARY:Golf at C.C. of Mount Dora
DESCRIPTION:24 Players\nTee-Times\nContact: Attaula
URL:https://produffersorlando.com/event/golf-at-c-c-of-mount-dora/
LOCATION:Country Club of Mt. Dora\, 1900 Country Club Blvd\, Mount Dora\, FL\, 32757\, United States
CATEGORIES:Tuesday
END:VEVENT
BEGIN:VEVENT
DTSTART;TZID=America/New_York:20221103T080000
DTEND;TZID=America/New_York:20221103T140000
DTSTAMP:20260425T205523
CREATED:20221031T231841Z
LAST-MODIFIED:20221101T195041Z
UID:3666-1667462400-1667484000@produffersorlando.com
SUMMARY:Golf at Eagle Dunes
DESCRIPTION:24 Players\nShotgun Start\nContact: Sean
URL:https://produffersorlando.com/event/golf-at-eagle-dunes-8/
LOCATION:Eagle Dunes Golf Club\, 24000 Marbella Drive\, Sorrento\, FL\, 32776\, United States
CATEGORIES:Thursday
END:VEVENT
BEGIN:VEVENT
DTSTART;TZID=America/New_York:20221101T080000
DTEND;TZID=America/New_York:20221101T170000
DTSTAMP:20260425T205523
CREATED:20221027T143843Z
LAST-MODIFIED:20221027T143843Z
UID:3659-1667289600-1667322000@produffersorlando.com
SUMMARY:Golf at Metrowest
DESCRIPTION:24 Players\nTee-Times\nContact: Chris/Matt
URL:https://produffersorlando.com/event/golf-at-metrowest-17/
LOCATION:Metrowest Golf Club\, 2100 Hiawassee
CATEGORIES:Tuesday
END:VEVENT
BEGIN:VEVENT
DTSTART;TZID=America/New_York:20221027T080000
DTEND;TZID=America/New_York:20221027T170000
DTSTAMP:20260425T205523
CREATED:20221020T033355Z
LAST-MODIFIED:20221020T204047Z
UID:3640-1666857600-1666890000@produffersorlando.com
SUMMARY:Golf at St. Cloud (PLAYDAY CANCELED)
DESCRIPTION:24 Players\nTee-Times\nWhite to Blue\nContact: Doug
URL:https://produffersorlando.com/event/golf-at-st-cloud-8/
LOCATION:St Cloud\, 5310 Michigan Ave\, Saint Cloud\, FL\, 34772\, United States
CATEGORIES:Thursday
END:VEVENT
BEGIN:VEVENT
DTSTART;TZID=America/New_York:20221025T080000
DTEND;TZID=America/New_York:20221025T140000
DTSTAMP:20260425T205523
CREATED:20221020T033204Z
LAST-MODIFIED:20221020T033204Z
UID:3638-1666684800-1666706400@produffersorlando.com
SUMMARY:Golf at Kissimmee Bay
DESCRIPTION:24 Players\nShotgun Start\nContact: Austin
URL:https://produffersorlando.com/event/golf-at-kissimmee-bay-7/
LOCATION:Kissimmee Bay Golf Club\, 2801 Kissimmee Bay Blvd\, Kissimmee\, FL\, 34744\, United States
CATEGORIES:Tuesday
END:VEVENT
BEGIN:VEVENT
DTSTART;TZID=America/New_York:20221020T083000
DTEND;TZID=America/New_York:20221020T140000
DTSTAMP:20260425T205523
CREATED:20220710T212536Z
LAST-MODIFIED:20221011T133226Z
UID:3521-1666254600-1666274400@produffersorlando.com
SUMMARY:Golf at Eagle Creek (Day 4 PDO Club Championship)
DESCRIPTION:28 Players\nShotgun Start\nRange\nContact: Mike
URL:https://produffersorlando.com/event/golf-at-eagle-creek-day-4-pdo-club-championship/
LOCATION:Eagle Creek Golf Club\, 10350 Emerson Lake Blvd\, Orlando\, FL\, 32832\, United States
CATEGORIES:Thursday
END:VEVENT
BEGIN:VEVENT
DTSTART;TZID=America/New_York:20221018T083000
DTEND;TZID=America/New_York:20221018T140000
DTSTAMP:20260425T205523
CREATED:20220710T212318Z
LAST-MODIFIED:20220710T212318Z
UID:3519-1666081800-1666101600@produffersorlando.com
SUMMARY:Golf at Eagle Creek (Day 3 PDO Club Championship)
DESCRIPTION:28 Players\nShotgun Start\nRange\nContact: Mike
URL:https://produffersorlando.com/event/golf-at-eagle-creek-day-3-pdo-club-championship/
LOCATION:Eagle Creek Golf Club\, 10350 Emerson Lake Blvd\, Orlando\, FL\, 32832\, United States
CATEGORIES:Tuesday
END:VEVENT
BEGIN:VEVENT
DTSTART;TZID=America/New_York:20221013T084500
DTEND;TZID=America/New_York:20221013T140000
DTSTAMP:20260425T205523
CREATED:20220710T212112Z
LAST-MODIFIED:20220927T192131Z
UID:3516-1665650700-1665669600@produffersorlando.com
SUMMARY:Golf at Forest Lake (Day 2 PDO Club Championship)
DESCRIPTION:28 Players\nShotgun Start\nContact: John V
URL:https://produffersorlando.com/event/golf-at-rio-pinar-day-2-pdo-club-championship/
LOCATION:Forest Lake Golf Club\, 10521 Clarcona Ocoee Rd\, Apopka\, FL\, 32703\, United States
CATEGORIES:Thursday
END:VEVENT
BEGIN:VEVENT
DTSTART;TZID=America/New_York:20221011T081500
DTEND;TZID=America/New_York:20221011T140000
DTSTAMP:20260425T205523
CREATED:20220710T210654Z
LAST-MODIFIED:20220927T192055Z
UID:3510-1665476100-1665496800@produffersorlando.com
SUMMARY:Golf at Forest Lake (Day 1 PDO Club Championship)
DESCRIPTION:28 Players\nShotgun Start\nContact: John V
URL:https://produffersorlando.com/event/golf-at-orange-lake-legends-5/
LOCATION:Forest Lake Golf Club\, 10521 Clarcona Ocoee Rd\, Apopka\, FL\, 32703\, United States
CATEGORIES:Tuesday
END:VEVENT
BEGIN:VEVENT
DTSTART;TZID=America/New_York:20221006T083000
DTEND;TZID=America/New_York:20221006T140000
DTSTAMP:20260425T205523
CREATED:20220927T191604Z
LAST-MODIFIED:20220927T191604Z
UID:3624-1665045000-1665064800@produffersorlando.com
SUMMARY:Golf at Stoneybrook East
DESCRIPTION:24 Players\nTee-Times\nContact: Mike
URL:https://produffersorlando.com/event/golf-at-stoneybrook-east-9/
LOCATION:Stoneybrook East Golf Club\, 2900 Northampton Ave\, Orlando\, FL\, 32828\, United States
CATEGORIES:Thursday
END:VEVENT
BEGIN:VEVENT
DTSTART;TZID=America/New_York:20221004T080000
DTEND;TZID=America/New_York:20221004T170000
DTSTAMP:20260425T205523
CREATED:20220527T225713Z
LAST-MODIFIED:20220527T225713Z
UID:3438-1664870400-1664902800@produffersorlando.com
SUMMARY:Golf at Northshore
DESCRIPTION:24 Players\nTee-Times\nContact: Robbie
URL:https://produffersorlando.com/event/golf-at-northshore-12/
LOCATION:North Shore Golf Club\, 11507 N Shore Golf Club Blvd\, Orlando\, FL\, 32832\, United States
CATEGORIES:Tuesday
END:VEVENT
BEGIN:VEVENT
DTSTART;TZID=America/New_York:20220929T080000
DTEND;TZID=America/New_York:20220929T140000
DTSTAMP:20260425T205523
CREATED:20220710T211431Z
LAST-MODIFIED:20220927T192510Z
UID:3512-1664438400-1664460000@produffersorlando.com
SUMMARY:Golf at Celebration CANCELED
DESCRIPTION:24 Players\nTee-Times\nContact: Jeff\nLunch Included
URL:https://produffersorlando.com/event/golf-at-celebration-15/
LOCATION:Celebration Golf Club\, 701 GolfparkDrive\, Kissimmee\, FL\, 34747\, United States
CATEGORIES:Thursday
END:VEVENT
BEGIN:VEVENT
DTSTART;TZID=America/New_York:20220927T080000
DTEND;TZID=America/New_York:20220927T170000
DTSTAMP:20260425T205523
CREATED:20220527T225332Z
LAST-MODIFIED:20220527T225332Z
UID:3435-1664265600-1664298000@produffersorlando.com
SUMMARY:Golf at Orange Lake Legends
DESCRIPTION:24 Players\nShotgun Start\nRange\nContact: jimmy
URL:https://produffersorlando.com/event/golf-at-orange-lake-legends-4/
LOCATION:Orange Lake Golf\, 8505 W Irlo Bronson Memorial Hwy\, Kissimmee\, FL\, 34747\, United States
CATEGORIES:Tuesday
END:VEVENT
BEGIN:VEVENT
DTSTART;TZID=America/New_York:20220922T083000
DTEND;TZID=America/New_York:20220922T140000
DTSTAMP:20260425T205523
CREATED:20220917T214147Z
LAST-MODIFIED:20220917T214147Z
UID:3616-1663835400-1663855200@produffersorlando.com
SUMMARY:Golf at Remingtion
DESCRIPTION:24 Players\nShotgun Start\nRange\nContact:Austin
URL:https://produffersorlando.com/event/golf-at-remingtion/
LOCATION:Remington Golf Club\, 2995 Remingtong Blvd\, Kissimmee\, FL\, 34774\, United States
CATEGORIES:Thursday
END:VEVENT
BEGIN:VEVENT
DTSTART;VALUE=DATE:20220922
DTEND;VALUE=DATE:20220925
DTSTAMP:20260425T205523
CREATED:20220710T213258Z
LAST-MODIFIED:20220710T213258Z
UID:3523-1663804800-1664063999@produffersorlando.com
SUMMARY:Pro Duffers USA National Dallas
DESCRIPTION:
URL:https://produffersorlando.com/event/pro-duffers-usa-national-dallas/
LOCATION:FL
CATEGORIES:Friday,Saturday,Thursday
END:VEVENT
BEGIN:VEVENT
DTSTART;TZID=America/New_York:20220920T091500
DTEND;TZID=America/New_York:20220920T140000
DTSTAMP:20260425T205523
CREATED:20220710T205932Z
LAST-MODIFIED:20220710T205932Z
UID:3507-1663665300-1663682400@produffersorlando.com
SUMMARY:Golf at Orange County National
DESCRIPTION:24 Players\nTee-Times\nRange\nContact: Chuck
URL:https://produffersorlando.com/event/golf-at-orange-county-national-2/
LOCATION:Orange County National Golf Center\, 16301 Phil Ritson Way\, Winter Garden\, FL\, 34787\, United States
CATEGORIES:Tuesday
END:VEVENT
BEGIN:VEVENT
DTSTART;TZID=America/New_York:20220915T083000
DTEND;TZID=America/New_York:20220915T140000
DTSTAMP:20260425T205523
CREATED:20220829T151305Z
LAST-MODIFIED:20220830T022108Z
UID:3550-1663230600-1663250400@produffersorlando.com
SUMMARY:Golf at Rio Pinar
DESCRIPTION:24 Players\nShotgun Start\nRange\nContact: Tom
URL:https://produffersorlando.com/event/golf-at-rio-pinar-12/
LOCATION:Rio Pinar Country Club\, 8600 El Prado Ave\, Orlando\, FL\, 32825\, United States
CATEGORIES:Thursday
END:VEVENT
BEGIN:VEVENT
DTSTART;TZID=America/New_York:20220913T083000
DTEND;TZID=America/New_York:20220913T140000
DTSTAMP:20260425T205523
CREATED:20220712T163815Z
LAST-MODIFIED:20220712T163815Z
UID:3531-1663057800-1663077600@produffersorlando.com
SUMMARY:Golf at Providence
DESCRIPTION:24  Players\nTee-Times\nContact” Jerry
URL:https://produffersorlando.com/event/golf-at-providence-6/
LOCATION:Providence Golf Club\, 1518 Clubhouse Blvd\, Davenport\, FL\, 33837\, United States
CATEGORIES:Tuesday
END:VEVENT
BEGIN:VEVENT
DTSTART;TZID=America/New_York:20220908T080000
DTEND;TZID=America/New_York:20220908T140000
DTSTAMP:20260425T205523
CREATED:20220710T204415Z
LAST-MODIFIED:20220710T204415Z
UID:3505-1662624000-1662645600@produffersorlando.com
SUMMARY:Golf at Eagle Creek
DESCRIPTION:24 Players\nShotgun Start\nRange\nContact: Mike
URL:https://produffersorlando.com/event/golf-at-eagle-creek-27/
LOCATION:Eagle Creek Golf Club\, 10350 Emerson Lake Blvd\, Orlando\, FL\, 32832\, United States
CATEGORIES:Thursday
END:VEVENT
BEGIN:VEVENT
DTSTART;TZID=America/New_York:20220906T080000
DTEND;TZID=America/New_York:20220906T140000
DTSTAMP:20260425T205523
CREATED:20220710T202823Z
LAST-MODIFIED:20220710T202838Z
UID:3503-1662451200-1662472800@produffersorlando.com
SUMMARY:Golf at Legends
DESCRIPTION:24 Players\nShotgun Start\nRange\nContact: Chris
URL:https://produffersorlando.com/event/golf-at-legends-11/
LOCATION:Legends Golf and Country Club\, 1700 Legendary Blvd\, Clermont\, FL\, 34711\, United States
CATEGORIES:Tuesday
END:VEVENT
BEGIN:VEVENT
DTSTART;TZID=America/New_York:20220901T080000
DTEND;TZID=America/New_York:20220901T140000
DTSTAMP:20260425T205523
CREATED:20220710T202616Z
LAST-MODIFIED:20220710T202616Z
UID:3501-1662019200-1662040800@produffersorlando.com
SUMMARY:Golf at Northshore
DESCRIPTION:24 Players\nTee-Times\nContact: Robbie
URL:https://produffersorlando.com/event/golf-at-northshore-14/
LOCATION:North Shore Golf Club\, 11507 N Shore Golf Club Blvd\, Orlando\, FL\, 32832\, United States
CATEGORIES:Thursday
END:VEVENT
BEGIN:VEVENT
DTSTART;TZID=America/New_York:20220830T083000
DTEND;TZID=America/New_York:20220830T140000
DTSTAMP:20260425T205523
CREATED:20220710T194449Z
LAST-MODIFIED:20220710T194449Z
UID:3499-1661848200-1661868000@produffersorlando.com
SUMMARY:Golf at Orange Lake Reserve
DESCRIPTION:24 Players\nShotgun Start\nRange\nContact:Jimmy
URL:https://produffersorlando.com/event/golf-at-orange-lake-reserve-6/
LOCATION:Orange Lake Golf\, 8505 W Irlo Bronson Memorial Hwy\, Kissimmee\, FL\, 34747\, United States
CATEGORIES:Tuesday
END:VEVENT
BEGIN:VEVENT
DTSTART;TZID=America/New_York:20220825T083000
DTEND;TZID=America/New_York:20220825T140000
DTSTAMP:20260425T205523
CREATED:20220712T141454Z
LAST-MODIFIED:20220712T141454Z
UID:3529-1661416200-1661436000@produffersorlando.com
SUMMARY:Golf at Championsgate National
DESCRIPTION:24 players (Firm)\nShotgun Start\nRange\nContact Patrick Dill
URL:https://produffersorlando.com/event/golf-at-championsgate-national-2/
LOCATION:Champions Gate Golf Club\, 8575 White Shark Blvd\, Davenport\, FL\, 33896\, United States
CATEGORIES:Thursday
END:VEVENT
END:VCALENDAR