BEGIN:VCALENDAR
VERSION:2.0
PRODID:-//Pro-Duffers Orlando - ECPv6.15.20//NONSGML v1.0//EN
CALSCALE:GREGORIAN
METHOD:PUBLISH
X-WR-CALNAME:Pro-Duffers Orlando
X-ORIGINAL-URL:https://produffersorlando.com
X-WR-CALDESC:Events for Pro-Duffers Orlando
REFRESH-INTERVAL;VALUE=DURATION:PT1H
X-Robots-Tag:noindex
X-PUBLISHED-TTL:PT1H
BEGIN:VTIMEZONE
TZID:America/New_York
BEGIN:DAYLIGHT
TZOFFSETFROM:-0500
TZOFFSETTO:-0400
TZNAME:EDT
DTSTART:20220313T070000
END:DAYLIGHT
BEGIN:STANDARD
TZOFFSETFROM:-0400
TZOFFSETTO:-0500
TZNAME:EST
DTSTART:20221106T060000
END:STANDARD
BEGIN:DAYLIGHT
TZOFFSETFROM:-0500
TZOFFSETTO:-0400
TZNAME:EDT
DTSTART:20230312T070000
END:DAYLIGHT
BEGIN:STANDARD
TZOFFSETFROM:-0400
TZOFFSETTO:-0500
TZNAME:EST
DTSTART:20231105T060000
END:STANDARD
BEGIN:DAYLIGHT
TZOFFSETFROM:-0500
TZOFFSETTO:-0400
TZNAME:EDT
DTSTART:20240310T070000
END:DAYLIGHT
BEGIN:STANDARD
TZOFFSETFROM:-0400
TZOFFSETTO:-0500
TZNAME:EST
DTSTART:20241103T060000
END:STANDARD
END:VTIMEZONE
BEGIN:VEVENT
DTSTART;TZID=America/New_York:20230103T090000
DTEND;TZID=America/New_York:20230103T160000
DTSTAMP:20260425T141915
CREATED:20221227T205124Z
LAST-MODIFIED:20221227T205124Z
UID:3773-1672736400-1672761600@produffersorlando.com
SUMMARY:Golf at Green Valley
DESCRIPTION:8 or 9am Shotgun\ncontact Max and Mike Epps\n24 players
URL:https://produffersorlando.com/event/golf-at-green-valley-2/
LOCATION:Green Valley Country Club\, 14601 Green Vlley Blvd\, Clermont\, FL\, 34711\, United States
END:VEVENT
BEGIN:VEVENT
DTSTART;TZID=America/New_York:20230105T083000
DTEND;TZID=America/New_York:20230105T170000
DTSTAMP:20260425T141915
CREATED:20221219T153551Z
LAST-MODIFIED:20221219T154050Z
UID:3775-1672907400-1672938000@produffersorlando.com
SUMMARY:Golf at Highland Reserve
DESCRIPTION:
URL:https://produffersorlando.com/event/golf-at-highland-reserve-17/
LOCATION:Highland Reserve Golf Club\, 500 Highlands Reserve Blvd\, Davenport\, FL\, 33897\, United States
END:VEVENT
BEGIN:VEVENT
DTSTART;TZID=America/New_York:20230110T100000
DTEND;TZID=America/New_York:20230110T160000
DTSTAMP:20260425T141915
CREATED:20221227T205448Z
LAST-MODIFIED:20221227T205448Z
UID:3783-1673344800-1673366400@produffersorlando.com
SUMMARY:Royal St Cloud
DESCRIPTION:
URL:https://produffersorlando.com/event/royal-st-cloud/
LOCATION:St Cloud\, 5310 Michigan Ave\, Saint Cloud\, FL\, 34772\, United States
END:VEVENT
BEGIN:VEVENT
DTSTART;TZID=America/New_York:20230111T090000
DTEND;TZID=America/New_York:20230111T110000
DTSTAMP:20260425T141915
CREATED:20221231T220751Z
LAST-MODIFIED:20221231T220751Z
UID:3798-1673427600-1673434800@produffersorlando.com
SUMMARY:PDO Chapter Leadership Team meeting (CLT) - January 11
DESCRIPTION:
URL:https://produffersorlando.com/event/pdo-chapter-leadership-team-meeting-clt-january-11/
LOCATION:FL
ORGANIZER;CN="Eugene Bryant":MAILTO:EUGENEBRYANTJR@GMAIL.COM
END:VEVENT
BEGIN:VEVENT
DTSTART;TZID=America/New_York:20230112T103000
DTEND;TZID=America/New_York:20230112T190000
DTSTAMP:20260425T141915
CREATED:20221227T205741Z
LAST-MODIFIED:20221227T205741Z
UID:3785-1673519400-1673550000@produffersorlando.com
SUMMARY:DURAN - South Florida Challenge
DESCRIPTION:
URL:https://produffersorlando.com/event/duran-south-florida-challenge/
LOCATION:Duran\, 7032 Stadium Pkwy\, Melbourne\, FL\, 32940\, United States
END:VEVENT
BEGIN:VEVENT
DTSTART;TZID=America/New_York:20230117T100000
DTEND;TZID=America/New_York:20230117T150000
DTSTAMP:20260425T141915
CREATED:20221227T210115Z
LAST-MODIFIED:20230113T223127Z
UID:3787-1673949600-1673967600@produffersorlando.com
SUMMARY:Stonegate-Cypress @Solivita
DESCRIPTION:
URL:https://produffersorlando.com/event/stonegate-cypress-solivita/
LOCATION:Solivato\, 404 Village Drive\, Kissimmee\, FL\, 34759\, United States
END:VEVENT
BEGIN:VEVENT
DTSTART;TZID=America/New_York:20230119T083000
DTEND;TZID=America/New_York:20230119T170000
DTSTAMP:20260425T141915
CREATED:20221227T210316Z
LAST-MODIFIED:20221227T210316Z
UID:3789-1674117000-1674147600@produffersorlando.com
SUMMARY:Forest Lake
DESCRIPTION:
URL:https://produffersorlando.com/event/forest-lake/
LOCATION:Forest Lake Golf Club\, 10521 Clarcona Ocoee Road\, Ocoee\, FL\, 32703\, United States
END:VEVENT
BEGIN:VEVENT
DTSTART;TZID=America/New_York:20230124T080000
DTEND;TZID=America/New_York:20230124T170000
DTSTAMP:20260425T141915
CREATED:20221227T210455Z
LAST-MODIFIED:20221227T210455Z
UID:3791-1674547200-1674579600@produffersorlando.com
SUMMARY:Eagle Dunes
DESCRIPTION:
URL:https://produffersorlando.com/event/eagle-dunes/
LOCATION:Eagle Dunes Golf Club\, 24000 Marbella Drive\, Sorrento\, FL\, 32776\, United States
END:VEVENT
BEGIN:VEVENT
DTSTART;TZID=America/New_York:20230126T093000
DTEND;TZID=America/New_York:20230126T153000
DTSTAMP:20260425T141915
CREATED:20230109T221503Z
LAST-MODIFIED:20230113T223400Z
UID:3819-1674725400-1674747000@produffersorlando.com
SUMMARY:Legends of Clermont
DESCRIPTION:
URL:https://produffersorlando.com/event/dubsdread-2/
LOCATION:Legends Golf and Country Club\, 1700 Legendary Blvd\, Clermont\, FL\, 34711\, United States
END:VEVENT
BEGIN:VEVENT
DTSTART;TZID=America/New_York:20230131T080000
DTEND;TZID=America/New_York:20230131T170000
DTSTAMP:20260425T141915
CREATED:20221227T211056Z
LAST-MODIFIED:20221227T211056Z
UID:3796-1675152000-1675184400@produffersorlando.com
SUMMARY:DUBSDREAD
DESCRIPTION:
URL:https://produffersorlando.com/event/dubsdread/
LOCATION:DubsDread Golf Course\, 549 West Par Street\, Orlando\, FL\, 32804\, United States
END:VEVENT
END:VCALENDAR