BEGIN:VCALENDAR
VERSION:2.0
PRODID:-//Pro-Duffers Orlando - ECPv6.15.20//NONSGML v1.0//EN
CALSCALE:GREGORIAN
METHOD:PUBLISH
X-ORIGINAL-URL:https://produffersorlando.com
X-WR-CALDESC:Events for Pro-Duffers Orlando
REFRESH-INTERVAL;VALUE=DURATION:PT1H
X-Robots-Tag:noindex
X-PUBLISHED-TTL:PT1H
BEGIN:VTIMEZONE
TZID:America/New_York
BEGIN:DAYLIGHT
TZOFFSETFROM:-0500
TZOFFSETTO:-0400
TZNAME:EDT
DTSTART:20220313T070000
END:DAYLIGHT
BEGIN:STANDARD
TZOFFSETFROM:-0400
TZOFFSETTO:-0500
TZNAME:EST
DTSTART:20221106T060000
END:STANDARD
BEGIN:DAYLIGHT
TZOFFSETFROM:-0500
TZOFFSETTO:-0400
TZNAME:EDT
DTSTART:20230312T070000
END:DAYLIGHT
BEGIN:STANDARD
TZOFFSETFROM:-0400
TZOFFSETTO:-0500
TZNAME:EST
DTSTART:20231105T060000
END:STANDARD
BEGIN:DAYLIGHT
TZOFFSETFROM:-0500
TZOFFSETTO:-0400
TZNAME:EDT
DTSTART:20240310T070000
END:DAYLIGHT
BEGIN:STANDARD
TZOFFSETFROM:-0400
TZOFFSETTO:-0500
TZNAME:EST
DTSTART:20241103T060000
END:STANDARD
END:VTIMEZONE
BEGIN:VEVENT
DTSTART;TZID=America/New_York:20230302T080000
DTEND;TZID=America/New_York:20230302T170000
DTSTAMP:20260425T112645
CREATED:20230109T222913Z
LAST-MODIFIED:20230109T222913Z
UID:3825-1677744000-1677776400@produffersorlando.com
SUMMARY:Redtail
DESCRIPTION:
URL:https://produffersorlando.com/event/redtail/
LOCATION:Redtail Golf Club\, 21600 Covered Bridge Lane\, Sorrento\, FL\, 32776\, United States
END:VEVENT
BEGIN:VEVENT
DTSTART;TZID=America/New_York:20230307T080000
DTEND;TZID=America/New_York:20230307T170000
DTSTAMP:20260425T112645
CREATED:20230109T215835Z
LAST-MODIFIED:20230109T215929Z
UID:3803-1678176000-1678208400@produffersorlando.com
SUMMARY:Green Valley
DESCRIPTION:
URL:https://produffersorlando.com/event/green-valley/
LOCATION:Green Valley Country Club\, 14601 Green Vlley Blvd\, Clermont\, FL\, 34711\, United States
END:VEVENT
BEGIN:VEVENT
DTSTART;TZID=America/New_York:20230309T083000
DTEND;TZID=America/New_York:20230309T170000
DTSTAMP:20260425T112645
CREATED:20230216T165346Z
LAST-MODIFIED:20230216T165346Z
UID:3874-1678350600-1678381200@produffersorlando.com
SUMMARY:Remington
DESCRIPTION:
URL:https://produffersorlando.com/event/remington/
LOCATION:Remington Golf Club\, 2995 Remingtong Blvd\, Kissimmee\, FL\, 34774\, United States
END:VEVENT
BEGIN:VEVENT
DTSTART;TZID=America/New_York:20230314T090000
DTEND;TZID=America/New_York:20230314T170000
DTSTAMP:20260425T112645
CREATED:20230109T220915Z
LAST-MODIFIED:20230109T220915Z
UID:3813-1678784400-1678813200@produffersorlando.com
SUMMARY:White Heron
DESCRIPTION:
URL:https://produffersorlando.com/event/white-heron-2/
LOCATION:White Heron at Ridgewood Lakes\, 200 Eagle Ridge Drive\, Davenport\, 33837\, United States
END:VEVENT
BEGIN:VEVENT
DTSTART;TZID=America/New_York:20230316T100000
DTEND;TZID=America/New_York:20230316T170000
DTSTAMP:20260425T112645
CREATED:20230216T165557Z
LAST-MODIFIED:20230216T165557Z
UID:3876-1678960800-1678986000@produffersorlando.com
SUMMARY:Stonegate - Cypress
DESCRIPTION:
URL:https://produffersorlando.com/event/stonegate-cypress/
LOCATION:FL
END:VEVENT
BEGIN:VEVENT
DTSTART;TZID=America/New_York:20230321T090000
DTEND;TZID=America/New_York:20230321T170000
DTSTAMP:20260425T112645
CREATED:20230216T170046Z
LAST-MODIFIED:20230216T170046Z
UID:3878-1679389200-1679418000@produffersorlando.com
SUMMARY:Stoneybrook East
DESCRIPTION:
URL:https://produffersorlando.com/event/stoneybrook-east-2/
LOCATION:Stoneybrook East Golf Club\, 2900 Northampton Ave\, Orlando\, FL\, 32828\, United States
END:VEVENT
BEGIN:VEVENT
DTSTART;TZID=America/New_York:20230323T083000
DTEND;TZID=America/New_York:20230323T170000
DTSTAMP:20260425T112645
CREATED:20230216T170348Z
LAST-MODIFIED:20230216T170348Z
UID:3880-1679560200-1679590800@produffersorlando.com
SUMMARY:Forest Lake
DESCRIPTION:
URL:https://produffersorlando.com/event/forest-lake-3/
LOCATION:Forest Lake Golf Club\, 10521 Clarcona Ocoee Rd\, Apopka\, FL\, 32703\, United States
END:VEVENT
BEGIN:VEVENT
DTSTART;TZID=America/New_York:20230323T130000
DTEND;TZID=America/New_York:20230323T170000
DTSTAMP:20260425T112645
CREATED:20230312T005610Z
LAST-MODIFIED:20230312T005610Z
UID:3900-1679576400-1679590800@produffersorlando.com
SUMMARY:Heritage Isles GC in Tampa
DESCRIPTION:
URL:https://produffersorlando.com/event/heritage-isles-gc-in-tampa/
LOCATION:FL
END:VEVENT
BEGIN:VEVENT
DTSTART;TZID=America/New_York:20230323T130000
DTEND;TZID=America/New_York:20230324T170000
DTSTAMP:20260425T112645
CREATED:20230312T004443Z
LAST-MODIFIED:20230312T005006Z
UID:3894-1679576400-1679677200@produffersorlando.com
SUMMARY:Golf and Fishing Outing - Heritage Isles GC
DESCRIPTION:
URL:https://produffersorlando.com/event/golf-and-fishing-outing-heritage-isles-gc/
LOCATION:FL
END:VEVENT
BEGIN:VEVENT
DTSTART;TZID=America/New_York:20230324T073000
DTEND;TZID=America/New_York:20230324T180000
DTSTAMP:20260425T112645
CREATED:20230312T005208Z
LAST-MODIFIED:20230312T005208Z
UID:3898-1679643000-1679680800@produffersorlando.com
SUMMARY:Fishing in the Gulf
DESCRIPTION:
URL:https://produffersorlando.com/event/fishing-in-the-gulf/
LOCATION:FL
END:VEVENT
BEGIN:VEVENT
DTSTART;TZID=America/New_York:20230328T083000
DTEND;TZID=America/New_York:20230328T170000
DTSTAMP:20260425T112645
CREATED:20230208T182309Z
LAST-MODIFIED:20230208T182309Z
UID:3870-1679992200-1680022800@produffersorlando.com
SUMMARY:Wekiva
DESCRIPTION:
URL:https://produffersorlando.com/event/wekiva/
LOCATION:Wekiva Golf Club\, 4100 Wekiva Club Court\, Longwood\, FL\, 32779\, United States
END:VEVENT
BEGIN:VEVENT
DTSTART;TZID=America/New_York:20230330T083000
DTEND;TZID=America/New_York:20230330T170000
DTSTAMP:20260425T112645
CREATED:20230216T170518Z
LAST-MODIFIED:20230216T170518Z
UID:3882-1680165000-1680195600@produffersorlando.com
SUMMARY:Eagle Dunes
DESCRIPTION:
URL:https://produffersorlando.com/event/eagle-dunes-3/
LOCATION:Eagle Dunes Golf Club\, 24000 Marbella Drive\, Sorrento\, FL\, 32776\, United States
END:VEVENT
END:VCALENDAR