BEGIN:VCALENDAR
VERSION:2.0
PRODID:-//Pro-Duffers Orlando - ECPv6.15.20//NONSGML v1.0//EN
CALSCALE:GREGORIAN
METHOD:PUBLISH
X-WR-CALNAME:Pro-Duffers Orlando
X-ORIGINAL-URL:https://produffersorlando.com
X-WR-CALDESC:Events for Pro-Duffers Orlando
REFRESH-INTERVAL;VALUE=DURATION:PT1H
X-Robots-Tag:noindex
X-PUBLISHED-TTL:PT1H
BEGIN:VTIMEZONE
TZID:America/New_York
BEGIN:DAYLIGHT
TZOFFSETFROM:-0500
TZOFFSETTO:-0400
TZNAME:EDT
DTSTART:20220313T070000
END:DAYLIGHT
BEGIN:STANDARD
TZOFFSETFROM:-0400
TZOFFSETTO:-0500
TZNAME:EST
DTSTART:20221106T060000
END:STANDARD
BEGIN:DAYLIGHT
TZOFFSETFROM:-0500
TZOFFSETTO:-0400
TZNAME:EDT
DTSTART:20230312T070000
END:DAYLIGHT
BEGIN:STANDARD
TZOFFSETFROM:-0400
TZOFFSETTO:-0500
TZNAME:EST
DTSTART:20231105T060000
END:STANDARD
BEGIN:DAYLIGHT
TZOFFSETFROM:-0500
TZOFFSETTO:-0400
TZNAME:EDT
DTSTART:20240310T070000
END:DAYLIGHT
BEGIN:STANDARD
TZOFFSETFROM:-0400
TZOFFSETTO:-0500
TZNAME:EST
DTSTART:20241103T060000
END:STANDARD
END:VTIMEZONE
BEGIN:VEVENT
DTSTART;TZID=America/New_York:20230404T080000
DTEND;TZID=America/New_York:20230404T170000
DTSTAMP:20260425T095658
CREATED:20230216T170653Z
LAST-MODIFIED:20230216T170653Z
UID:3884-1680595200-1680627600@produffersorlando.com
SUMMARY:Redtail
DESCRIPTION:
URL:https://produffersorlando.com/event/redtail-2/
LOCATION:Redtail Golf Club\, 21600 Covered Bridge Lane\, Sorrento\, FL\, 32776\, United States
END:VEVENT
BEGIN:VEVENT
DTSTART;TZID=America/New_York:20230411T090000
DTEND;TZID=America/New_York:20230411T170000
DTSTAMP:20260425T095658
CREATED:20230406T203042Z
LAST-MODIFIED:20230406T203042Z
UID:3910-1681203600-1681232400@produffersorlando.com
SUMMARY:Highland Reserve
DESCRIPTION:
URL:https://produffersorlando.com/event/highland-reserve-2/
LOCATION:Highland Reserve Golf Club\, 500 Highlands Reserve Blvd\, Davenport\, FL\, 33897\, United States
END:VEVENT
BEGIN:VEVENT
DTSTART;TZID=America/New_York:20230412T100000
DTEND;TZID=America/New_York:20230412T110000
DTSTAMP:20260425T095658
CREATED:20230409T021225Z
LAST-MODIFIED:20230409T021225Z
UID:3935-1681293600-1681297200@produffersorlando.com
SUMMARY:April CLT Meeting
DESCRIPTION:
URL:https://produffersorlando.com/event/april-clt-meeting/
LOCATION:FL
ORGANIZER;CN="Eugene Bryant":MAILTO:EUGENEBRYANTJR@GMAIL.COM
END:VEVENT
BEGIN:VEVENT
DTSTART;TZID=America/New_York:20230413T080000
DTEND;TZID=America/New_York:20230413T170000
DTSTAMP:20260425T095658
CREATED:20230406T203153Z
LAST-MODIFIED:20230406T203153Z
UID:3913-1681372800-1681405200@produffersorlando.com
SUMMARY:Green Valley
DESCRIPTION:
URL:https://produffersorlando.com/event/green-valley-3/
LOCATION:Green Valley Country Club\, 14601 Green Vlley Blvd\, Clermont\, FL\, 34711\, United States
END:VEVENT
BEGIN:VEVENT
DTSTART;TZID=America/New_York:20230418T090000
DTEND;TZID=America/New_York:20230418T170000
DTSTAMP:20260425T095658
CREATED:20230406T203319Z
LAST-MODIFIED:20230406T203319Z
UID:3915-1681808400-1681837200@produffersorlando.com
SUMMARY:Remington
DESCRIPTION:
URL:https://produffersorlando.com/event/remington-2/
LOCATION:Remington Golf Club\, 2995 Remingtong Blvd\, Kissimmee\, FL\, 34774\, United States
END:VEVENT
BEGIN:VEVENT
DTSTART;TZID=America/New_York:20230420T080000
DTEND;TZID=America/New_York:20230420T170000
DTSTAMP:20260425T095658
CREATED:20230406T203518Z
LAST-MODIFIED:20230406T203518Z
UID:3917-1681977600-1682010000@produffersorlando.com
SUMMARY:Royal St Cloud
DESCRIPTION:
URL:https://produffersorlando.com/event/royal-st-cloud-2/
LOCATION:St Cloud\, 5310 Michigan Ave\, Saint Cloud\, FL\, 34772\, United States
END:VEVENT
BEGIN:VEVENT
DTSTART;TZID=America/New_York:20230425T090000
DTEND;TZID=America/New_York:20230425T170000
DTSTAMP:20260425T095658
CREATED:20230406T203649Z
LAST-MODIFIED:20230421T000024Z
UID:3919-1682413200-1682442000@produffersorlando.com
SUMMARY:Forest Lake
DESCRIPTION:
URL:https://produffersorlando.com/event/wedgefield/
LOCATION:Forest Lake Golf Club\, 10521 Clarcona Ocoee Road\, Ocoee\, FL\, 32703\, United States
END:VEVENT
BEGIN:VEVENT
DTSTART;TZID=America/New_York:20230427T083000
DTEND;TZID=America/New_York:20230427T170000
DTSTAMP:20260425T095658
CREATED:20230406T203803Z
LAST-MODIFIED:20230406T203803Z
UID:3921-1682584200-1682614800@produffersorlando.com
SUMMARY:Zellwood
DESCRIPTION:
URL:https://produffersorlando.com/event/zellwood/
LOCATION:FL
END:VEVENT
END:VCALENDAR