BEGIN:VCALENDAR
VERSION:2.0
PRODID:-//Pro-Duffers Orlando - ECPv6.15.20//NONSGML v1.0//EN
CALSCALE:GREGORIAN
METHOD:PUBLISH
X-WR-CALNAME:Pro-Duffers Orlando
X-ORIGINAL-URL:https://produffersorlando.com
X-WR-CALDESC:Events for Pro-Duffers Orlando
REFRESH-INTERVAL;VALUE=DURATION:PT1H
X-Robots-Tag:noindex
X-PUBLISHED-TTL:PT1H
BEGIN:VTIMEZONE
TZID:America/New_York
BEGIN:DAYLIGHT
TZOFFSETFROM:-0500
TZOFFSETTO:-0400
TZNAME:EDT
DTSTART:20220313T070000
END:DAYLIGHT
BEGIN:STANDARD
TZOFFSETFROM:-0400
TZOFFSETTO:-0500
TZNAME:EST
DTSTART:20221106T060000
END:STANDARD
BEGIN:DAYLIGHT
TZOFFSETFROM:-0500
TZOFFSETTO:-0400
TZNAME:EDT
DTSTART:20230312T070000
END:DAYLIGHT
BEGIN:STANDARD
TZOFFSETFROM:-0400
TZOFFSETTO:-0500
TZNAME:EST
DTSTART:20231105T060000
END:STANDARD
BEGIN:DAYLIGHT
TZOFFSETFROM:-0500
TZOFFSETTO:-0400
TZNAME:EDT
DTSTART:20240310T070000
END:DAYLIGHT
BEGIN:STANDARD
TZOFFSETFROM:-0400
TZOFFSETTO:-0500
TZNAME:EST
DTSTART:20241103T060000
END:STANDARD
END:VTIMEZONE
BEGIN:VEVENT
DTSTART;TZID=America/New_York:20230502T080000
DTEND;TZID=America/New_York:20230502T170000
DTSTAMP:20260425T082603
CREATED:20230406T203929Z
LAST-MODIFIED:20230406T203929Z
UID:3923-1683014400-1683046800@produffersorlando.com
SUMMARY:MetroWest
DESCRIPTION:
URL:https://produffersorlando.com/event/metrowest/
LOCATION:Metrowest Golf Club\, 2100 Hiawassee
END:VEVENT
BEGIN:VEVENT
DTSTART;TZID=America/New_York:20230504T080000
DTEND;TZID=America/New_York:20230504T170000
DTSTAMP:20260425T082603
CREATED:20230406T204040Z
LAST-MODIFIED:20230406T204040Z
UID:3925-1683187200-1683219600@produffersorlando.com
SUMMARY:Kissimmee Bay
DESCRIPTION:
URL:https://produffersorlando.com/event/kissimmee-bay/
LOCATION:Kissimmee Bay Golf Club\, 2801 Kissimmee Bay Blvd\, Kissimmee\, FL\, 34744\, United States
END:VEVENT
BEGIN:VEVENT
DTSTART;TZID=America/New_York:20230509T080000
DTEND;TZID=America/New_York:20230509T170000
DTSTAMP:20260425T082603
CREATED:20230406T204226Z
LAST-MODIFIED:20230406T204226Z
UID:3927-1683619200-1683651600@produffersorlando.com
SUMMARY:Highland Reserve
DESCRIPTION:
URL:https://produffersorlando.com/event/highland-reserve-3/
LOCATION:Highland Reserve Golf Club\, 500 Highlands Reserve Blvd\, Davenport\, FL\, 33897\, United States
END:VEVENT
BEGIN:VEVENT
DTSTART;TZID=America/New_York:20230511T080000
DTEND;TZID=America/New_York:20230511T170000
DTSTAMP:20260425T082603
CREATED:20230406T204354Z
LAST-MODIFIED:20230510T124241Z
UID:3929-1683792000-1683824400@produffersorlando.com
SUMMARY:Reunion - Nickolaus
DESCRIPTION:
URL:https://produffersorlando.com/event/green-valley-4/
LOCATION:Reunion Resort Golf Course\, 7593 Grathing Dr\, Kissimmee\, FL\, 34747\, United States
END:VEVENT
BEGIN:VEVENT
DTSTART;TZID=America/New_York:20230516T080000
DTEND;TZID=America/New_York:20230516T170000
DTSTAMP:20260425T082603
CREATED:20230406T204504Z
LAST-MODIFIED:20230406T204504Z
UID:3931-1684224000-1684256400@produffersorlando.com
SUMMARY:Eagle Creek
DESCRIPTION:
URL:https://produffersorlando.com/event/eagle-creek/
LOCATION:Eagle Creek Golf Club\, 10350 Emerson Lake Blvd\, Orlando\, FL\, 32832\, United States
END:VEVENT
BEGIN:VEVENT
DTSTART;TZID=America/New_York:20230518T083000
DTEND;TZID=America/New_York:20230518T170000
DTSTAMP:20260425T082603
CREATED:20230406T204633Z
LAST-MODIFIED:20230406T204633Z
UID:3933-1684398600-1684429200@produffersorlando.com
SUMMARY:Royal St Cloud
DESCRIPTION:
URL:https://produffersorlando.com/event/royal-st-cloud-3/
LOCATION:St Cloud\, 5310 Michigan Ave\, Saint Cloud\, FL\, 34772\, United States
END:VEVENT
BEGIN:VEVENT
DTSTART;TZID=America/New_York:20230523T080000
DTEND;TZID=America/New_York:20230523T170000
DTSTAMP:20260425T082603
CREATED:20230510T124511Z
LAST-MODIFIED:20230510T124511Z
UID:3954-1684828800-1684861200@produffersorlando.com
SUMMARY:Rio  Pinar
DESCRIPTION:
URL:https://produffersorlando.com/event/rio-pinar/
LOCATION:Rio Pinar Country Club\, 8600 El Prado Ave\, Orlando\, FL\, 32825\, United States
END:VEVENT
BEGIN:VEVENT
DTSTART;TZID=America/New_York:20230525T080000
DTEND;TZID=America/New_York:20230525T170000
DTSTAMP:20260425T082603
CREATED:20230510T124657Z
LAST-MODIFIED:20230524T045112Z
UID:3956-1685001600-1685034000@produffersorlando.com
SUMMARY:Northshore(Course Change-Reunion Watson)
DESCRIPTION:20 Players\nTee-Times\nCredit Cards Only\nContact:Mack Johnson
URL:https://produffersorlando.com/event/northshore/
LOCATION:Reunion Resort Golf Course\, 7593 Grathing Dr\, Kissimmee\, FL\, 34747\, United States
CATEGORIES:Thursday
ORGANIZER;CN="Eugene Bryant":MAILTO:EUGENEBRYANTJR@GMAIL.COM
END:VEVENT
BEGIN:VEVENT
DTSTART;TZID=America/New_York:20230530T080000
DTEND;TZID=America/New_York:20230530T170000
DTSTAMP:20260425T082603
CREATED:20230510T124834Z
LAST-MODIFIED:20230510T124834Z
UID:3958-1685433600-1685466000@produffersorlando.com
SUMMARY:Forest Lake
DESCRIPTION:
URL:https://produffersorlando.com/event/forest-lake-4/
LOCATION:Forest Lake Golf Club\, 10521 Clarcona Ocoee Road\, Ocoee\, FL\, 32703\, United States
END:VEVENT
END:VCALENDAR