BEGIN:VCALENDAR
VERSION:2.0
PRODID:-//Pro-Duffers Orlando - ECPv6.15.20//NONSGML v1.0//EN
CALSCALE:GREGORIAN
METHOD:PUBLISH
X-ORIGINAL-URL:https://produffersorlando.com
X-WR-CALDESC:Events for Pro-Duffers Orlando
REFRESH-INTERVAL;VALUE=DURATION:PT1H
X-Robots-Tag:noindex
X-PUBLISHED-TTL:PT1H
BEGIN:VTIMEZONE
TZID:America/New_York
BEGIN:DAYLIGHT
TZOFFSETFROM:-0500
TZOFFSETTO:-0400
TZNAME:EDT
DTSTART:20220313T070000
END:DAYLIGHT
BEGIN:STANDARD
TZOFFSETFROM:-0400
TZOFFSETTO:-0500
TZNAME:EST
DTSTART:20221106T060000
END:STANDARD
BEGIN:DAYLIGHT
TZOFFSETFROM:-0500
TZOFFSETTO:-0400
TZNAME:EDT
DTSTART:20230312T070000
END:DAYLIGHT
BEGIN:STANDARD
TZOFFSETFROM:-0400
TZOFFSETTO:-0500
TZNAME:EST
DTSTART:20231105T060000
END:STANDARD
BEGIN:DAYLIGHT
TZOFFSETFROM:-0500
TZOFFSETTO:-0400
TZNAME:EDT
DTSTART:20240310T070000
END:DAYLIGHT
BEGIN:STANDARD
TZOFFSETFROM:-0400
TZOFFSETTO:-0500
TZNAME:EST
DTSTART:20241103T060000
END:STANDARD
END:VTIMEZONE
BEGIN:VEVENT
DTSTART;TZID=America/New_York:20230601T073000
DTEND;TZID=America/New_York:20230601T170000
DTSTAMP:20260425T070224
CREATED:20230510T125113Z
LAST-MODIFIED:20230510T125113Z
UID:3960-1685604600-1685638800@produffersorlando.com
SUMMARY:Providence
DESCRIPTION:
URL:https://produffersorlando.com/event/providence/
LOCATION:Providence Golf Club\, 1518 Clubhouse Blvd\, Davenport\, FL\, 33837\, United States
END:VEVENT
BEGIN:VEVENT
DTSTART;TZID=America/New_York:20230606T080000
DTEND;TZID=America/New_York:20230606T170000
DTSTAMP:20260425T070224
CREATED:20230515T154934Z
LAST-MODIFIED:20230515T154934Z
UID:3983-1686038400-1686070800@produffersorlando.com
SUMMARY:Golf at Highland Reserve
DESCRIPTION:24 Players\nShotgun Start\nContact: Donnie
URL:https://produffersorlando.com/event/golf-at-highland-reserve-18/
LOCATION:Highland Reserve Golf Club\, 500 Highlands Reserve Blvd\, Davenport\, FL\, 33897\, United States
CATEGORIES:Tuesday
END:VEVENT
BEGIN:VEVENT
DTSTART;TZID=America/New_York:20230608T080000
DTEND;TZID=America/New_York:20230608T170000
DTSTAMP:20260425T070224
CREATED:20230512T151022Z
LAST-MODIFIED:20230512T151022Z
UID:3980-1686211200-1686243600@produffersorlando.com
SUMMARY:Golf at Wedgefield
DESCRIPTION:20 Players
URL:https://produffersorlando.com/event/golf-at-wedgefield/
LOCATION:Wedgefield\, 20550 Maxim Pkwy\, Orlando\, FL\, 32833\, United States
CATEGORIES:Thursday
END:VEVENT
BEGIN:VEVENT
DTSTART;TZID=America/New_York:20230613T080000
DTEND;TZID=America/New_York:20230613T170000
DTSTAMP:20260425T070224
CREATED:20230515T155140Z
LAST-MODIFIED:20230515T155140Z
UID:3985-1686643200-1686675600@produffersorlando.com
SUMMARY:Golf at Green Valley
DESCRIPTION:20  Players\nTee Times\nContact:
URL:https://produffersorlando.com/event/golf-at-green-valley-3/
LOCATION:Green Valley Country Club\, 14601 Green Vlley Blvd\, Clermont\, FL\, 34711\, United States
CATEGORIES:Tuesday
END:VEVENT
BEGIN:VEVENT
DTSTART;TZID=America/New_York:20230615T090000
DTEND;TZID=America/New_York:20230615T150000
DTSTAMP:20260425T070224
CREATED:20230524T174704Z
LAST-MODIFIED:20230524T174704Z
UID:4053-1686819600-1686841200@produffersorlando.com
SUMMARY:Legends of Clermont
DESCRIPTION:
URL:https://produffersorlando.com/event/legends-of-clermont-2/
LOCATION:Legends Golf and Country Club\, 1700 Legendary Blvd\, Clermont\, FL\, 34711\, United States
END:VEVENT
BEGIN:VEVENT
DTSTART;TZID=America/New_York:20230620T091200
DTEND;TZID=America/New_York:20230620T170000
DTSTAMP:20260425T070224
CREATED:20230515T160042Z
LAST-MODIFIED:20230515T160042Z
UID:3987-1687252320-1687280400@produffersorlando.com
SUMMARY:Golf at St. Cloud
DESCRIPTION:20 Players\nTee Times\nContact: Doug
URL:https://produffersorlando.com/event/golf-at-st-cloud-11/
LOCATION:St Cloud\, 5310 Michigan Ave\, Saint Cloud\, FL\, 34772\, United States
CATEGORIES:Tuesday
END:VEVENT
BEGIN:VEVENT
DTSTART;TZID=America/New_York:20230622T080000
DTEND;TZID=America/New_York:20230622T170000
DTSTAMP:20260425T070224
CREATED:20230515T160358Z
LAST-MODIFIED:20230515T160358Z
UID:3989-1687420800-1687453200@produffersorlando.com
SUMMARY:Golf at Stonegate (Cypress)
DESCRIPTION:20 players\nTee Times\nContact:
URL:https://produffersorlando.com/event/golf-at-stonegate-cypress/
LOCATION:Stonegate Golf Club at Solivita\, 404 Village Drive\, Kissimmee\, FL\, 34759\, United States
CATEGORIES:Thursday
END:VEVENT
BEGIN:VEVENT
DTSTART;TZID=America/New_York:20230627T073000
DTEND;TZID=America/New_York:20230627T170000
DTSTAMP:20260425T070224
CREATED:20230515T160631Z
LAST-MODIFIED:20230515T160631Z
UID:3991-1687851000-1687885200@produffersorlando.com
SUMMARY:Golf at OCN (Panther Lake)
DESCRIPTION:24 Players\nTee-Times
URL:https://produffersorlando.com/event/golf-at-ocn-panther-lake-3/
LOCATION:Orange County National Golf Center\, 16301 Phil Ritson Way\, Winter Garden\, FL\, 34787\, United States
CATEGORIES:Tuesday
END:VEVENT
BEGIN:VEVENT
DTSTART;TZID=America/New_York:20230629T080000
DTEND;TZID=America/New_York:20230629T170000
DTSTAMP:20260425T070224
CREATED:20230515T160810Z
LAST-MODIFIED:20230515T160810Z
UID:3993-1688025600-1688058000@produffersorlando.com
SUMMARY:Golf at Rio Pinar
DESCRIPTION:20 Players\nShotgun Start\nContact: Tom
URL:https://produffersorlando.com/event/golf-at-rio-pinar-13/
LOCATION:Rio Pinar Country Club\, 8600 El Prado Ave\, Orlando\, FL\, 32825\, United States
CATEGORIES:Thursday
END:VEVENT
END:VCALENDAR