BEGIN:VCALENDAR
VERSION:2.0
PRODID:-//Pro-Duffers Orlando - ECPv6.15.20//NONSGML v1.0//EN
CALSCALE:GREGORIAN
METHOD:PUBLISH
X-ORIGINAL-URL:https://produffersorlando.com
X-WR-CALDESC:Events for Pro-Duffers Orlando
REFRESH-INTERVAL;VALUE=DURATION:PT1H
X-Robots-Tag:noindex
X-PUBLISHED-TTL:PT1H
BEGIN:VTIMEZONE
TZID:America/New_York
BEGIN:DAYLIGHT
TZOFFSETFROM:-0500
TZOFFSETTO:-0400
TZNAME:EDT
DTSTART:20220313T070000
END:DAYLIGHT
BEGIN:STANDARD
TZOFFSETFROM:-0400
TZOFFSETTO:-0500
TZNAME:EST
DTSTART:20221106T060000
END:STANDARD
BEGIN:DAYLIGHT
TZOFFSETFROM:-0500
TZOFFSETTO:-0400
TZNAME:EDT
DTSTART:20230312T070000
END:DAYLIGHT
BEGIN:STANDARD
TZOFFSETFROM:-0400
TZOFFSETTO:-0500
TZNAME:EST
DTSTART:20231105T060000
END:STANDARD
BEGIN:DAYLIGHT
TZOFFSETFROM:-0500
TZOFFSETTO:-0400
TZNAME:EDT
DTSTART:20240310T070000
END:DAYLIGHT
BEGIN:STANDARD
TZOFFSETFROM:-0400
TZOFFSETTO:-0500
TZNAME:EST
DTSTART:20241103T060000
END:STANDARD
END:VTIMEZONE
BEGIN:VEVENT
DTSTART;TZID=America/New_York:20231102T083000
DTEND;TZID=America/New_York:20231102T170000
DTSTAMP:20260424T234756
CREATED:20230826T165459Z
LAST-MODIFIED:20230826T165459Z
UID:4142-1698913800-1698944400@produffersorlando.com
SUMMARY:Stonegate-Cypress
DESCRIPTION:
URL:https://produffersorlando.com/event/stonegate-cypress-2/
LOCATION:Stonegate Golf Club at Solivita\, 404 Village Drive\, Kissimmee\, FL\, 34759\, United States
END:VEVENT
BEGIN:VEVENT
DTSTART;TZID=America/New_York:20231107T083000
DTEND;TZID=America/New_York:20231107T170000
DTSTAMP:20260424T234756
CREATED:20230822T160335Z
LAST-MODIFIED:20231107T033723Z
UID:4134-1699345800-1699376400@produffersorlando.com
SUMMARY:Green Valley
DESCRIPTION:
URL:https://produffersorlando.com/event/day-1-annual-championship-green-valley/
LOCATION:Green Valley Country Club\, 14601 Green Vlley Blvd\, Clermont\, FL\, 34711\, United States
END:VEVENT
BEGIN:VEVENT
DTSTART;TZID=America/New_York:20231109T080000
DTEND;TZID=America/New_York:20231109T170000
DTSTAMP:20260424T234756
CREATED:20230822T160554Z
LAST-MODIFIED:20231107T033921Z
UID:4136-1699516800-1699549200@produffersorlando.com
SUMMARY:Rio Pinar
DESCRIPTION:
URL:https://produffersorlando.com/event/day-2-annual-championship-highland-reserve/
LOCATION:Rio Pinar Country Club\, 8600 El Prado Ave\, Orlando\, FL\, 32825\, United States
ORGANIZER;CN="Eugene Bryant":MAILTO:EUGENEBRYANTJR@GMAIL.COM
END:VEVENT
BEGIN:VEVENT
DTSTART;TZID=America/New_York:20231114T083000
DTEND;TZID=America/New_York:20231114T170000
DTSTAMP:20260424T234756
CREATED:20230822T160833Z
LAST-MODIFIED:20231107T033953Z
UID:4138-1699950600-1699981200@produffersorlando.com
SUMMARY:Day 1 Annual Championship @ Royal St. Cloud
DESCRIPTION:
URL:https://produffersorlando.com/event/day-3-annual-championship-royal-st-cloud/
LOCATION:St Cloud\, 5310 Michigan Ave\, Saint Cloud\, FL\, 34772\, United States
END:VEVENT
BEGIN:VEVENT
DTSTART;TZID=America/New_York:20231116T080000
DTEND;TZID=America/New_York:20231116T170000
DTSTAMP:20260424T234756
CREATED:20230822T161016Z
LAST-MODIFIED:20231107T034027Z
UID:4140-1700121600-1700154000@produffersorlando.com
SUMMARY:Day 2 Annual Championship @ Rio Pinar
DESCRIPTION:
URL:https://produffersorlando.com/event/day-4-annual-championship-rio-pinar/
LOCATION:Rio Pinar Country Club\, 8600 El Prado Ave\, Orlando\, FL\, 32825\, United States
ORGANIZER;CN="Eugene Bryant":MAILTO:EUGENEBRYANTJR@GMAIL.COM
END:VEVENT
BEGIN:VEVENT
DTSTART;TZID=America/New_York:20231121T083000
DTEND;TZID=America/New_York:20231121T170000
DTSTAMP:20260424T234756
CREATED:20231009T194328Z
LAST-MODIFIED:20231009T194328Z
UID:4173-1700555400-1700586000@produffersorlando.com
SUMMARY:Legends of Clermont
DESCRIPTION:
URL:https://produffersorlando.com/event/legends-of-clermont-4/
LOCATION:Legends Golf and Country Club\, 1700 Legendary Blvd\, Clermont\, FL\, 34711\, United States
END:VEVENT
BEGIN:VEVENT
DTSTART;VALUE=DATE:20231123
DTEND;VALUE=DATE:20231124
DTSTAMP:20260424T234756
CREATED:20231009T194130Z
LAST-MODIFIED:20231009T194130Z
UID:4171-1700697600-1700783999@produffersorlando.com
SUMMARY:Thanksgiving - No Scheduled Golf
DESCRIPTION:
URL:https://produffersorlando.com/event/thanksgiving-no-scheduled-golf/
LOCATION:FL
END:VEVENT
BEGIN:VEVENT
DTSTART;TZID=America/New_York:20231128T073000
DTEND;TZID=America/New_York:20231128T170000
DTSTAMP:20260424T234756
CREATED:20231029T114223Z
LAST-MODIFIED:20231029T114223Z
UID:4213-1701156600-1701190800@produffersorlando.com
SUMMARY:Remington
DESCRIPTION:
URL:https://produffersorlando.com/event/remington-3/
LOCATION:Remington Golf Club\, 2995 Remingtong Blvd\, Kissimmee\, FL\, 34774\, United States
END:VEVENT
BEGIN:VEVENT
DTSTART;TZID=America/New_York:20231130T080000
DTEND;TZID=America/New_York:20231130T170000
DTSTAMP:20260424T234756
CREATED:20231009T194801Z
LAST-MODIFIED:20231009T194824Z
UID:4177-1701331200-1701363600@produffersorlando.com
SUMMARY:Wedgefield
DESCRIPTION:
URL:https://produffersorlando.com/event/wedgefield-4/
LOCATION:Wedgefield\, 20550 Maxim Pkwy\, Orlando\, FL\, 32833\, United States
END:VEVENT
END:VCALENDAR