BEGIN:VCALENDAR
VERSION:2.0
PRODID:-//Pro-Duffers Orlando - ECPv6.15.20//NONSGML v1.0//EN
CALSCALE:GREGORIAN
METHOD:PUBLISH
X-ORIGINAL-URL:https://produffersorlando.com
X-WR-CALDESC:Events for Pro-Duffers Orlando
REFRESH-INTERVAL;VALUE=DURATION:PT1H
X-Robots-Tag:noindex
X-PUBLISHED-TTL:PT1H
BEGIN:VTIMEZONE
TZID:America/New_York
BEGIN:DAYLIGHT
TZOFFSETFROM:-0500
TZOFFSETTO:-0400
TZNAME:EDT
DTSTART:20230312T070000
END:DAYLIGHT
BEGIN:STANDARD
TZOFFSETFROM:-0400
TZOFFSETTO:-0500
TZNAME:EST
DTSTART:20231105T060000
END:STANDARD
BEGIN:DAYLIGHT
TZOFFSETFROM:-0500
TZOFFSETTO:-0400
TZNAME:EDT
DTSTART:20240310T070000
END:DAYLIGHT
BEGIN:STANDARD
TZOFFSETFROM:-0400
TZOFFSETTO:-0500
TZNAME:EST
DTSTART:20241103T060000
END:STANDARD
BEGIN:DAYLIGHT
TZOFFSETFROM:-0500
TZOFFSETTO:-0400
TZNAME:EDT
DTSTART:20250309T070000
END:DAYLIGHT
BEGIN:STANDARD
TZOFFSETFROM:-0400
TZOFFSETTO:-0500
TZNAME:EST
DTSTART:20251102T060000
END:STANDARD
END:VTIMEZONE
BEGIN:VEVENT
DTSTART;TZID=America/New_York:20240401T080000
DTEND;TZID=America/New_York:20240401T170000
DTSTAMP:20260424T162805
CREATED:20240129T175014Z
LAST-MODIFIED:20240129T175014Z
UID:4327-1711958400-1711990800@produffersorlando.com
SUMMARY:April Fools Day
DESCRIPTION:
URL:https://produffersorlando.com/event/april-fools-day-2/
LOCATION:FL
CATEGORIES:Monday
END:VEVENT
BEGIN:VEVENT
DTSTART;TZID=America/New_York:20240402T083000
DTEND;TZID=America/New_York:20240402T140000
DTSTAMP:20260424T162805
CREATED:20240306T191218Z
LAST-MODIFIED:20240306T191218Z
UID:4473-1712046600-1712066400@produffersorlando.com
SUMMARY:Golf at Wedgefield
DESCRIPTION:24 Players\nTee-Times
URL:https://produffersorlando.com/event/golf-at-wedgefield-2/
LOCATION:Wedgefield\, 20550 Maxim Pkwy\, Orlando\, FL\, 32833\, United States
CATEGORIES:Tuesday
END:VEVENT
BEGIN:VEVENT
DTSTART;TZID=America/New_York:20240404T080000
DTEND;TZID=America/New_York:20240404T170000
DTSTAMP:20260424T162805
CREATED:20230826T165832Z
LAST-MODIFIED:20230826T165832Z
UID:4148-1712217600-1712250000@produffersorlando.com
SUMMARY:Stonegate-Cypress
DESCRIPTION:
URL:https://produffersorlando.com/event/stonegate-cypress-5/
LOCATION:Stonegate Golf Club at Solivita\, 404 Village Drive\, Kissimmee\, FL\, 34759\, United States
END:VEVENT
BEGIN:VEVENT
DTSTART;TZID=America/New_York:20240409T083000
DTEND;TZID=America/New_York:20240409T140000
DTSTAMP:20260424T162805
CREATED:20240306T195900Z
LAST-MODIFIED:20240306T195900Z
UID:4479-1712651400-1712671200@produffersorlando.com
SUMMARY:Golf at Casselberry
DESCRIPTION:24 Players\nShotgun Start
URL:https://produffersorlando.com/event/golf-at-casselberry/
LOCATION:FL
CATEGORIES:Tuesday
END:VEVENT
BEGIN:VEVENT
DTSTART;TZID=America/New_York:20240410T090000
DTEND;TZID=America/New_York:20240410T110000
DTSTAMP:20260424T162805
CREATED:20240405T073313Z
LAST-MODIFIED:20240405T073313Z
UID:4513-1712739600-1712746800@produffersorlando.com
SUMMARY:PDO CLT ZOOM MEETING
DESCRIPTION:
URL:https://produffersorlando.com/event/pdo-clt-zoom-meeting-2/
LOCATION:FL
CATEGORIES:Wednesday
ORGANIZER;CN="Eugene Bryant":MAILTO:EUGENEBRYANTJR@GMAIL.COM
END:VEVENT
BEGIN:VEVENT
DTSTART;TZID=America/New_York:20240411T083000
DTEND;TZID=America/New_York:20240411T140000
DTSTAMP:20260424T162805
CREATED:20240306T200034Z
LAST-MODIFIED:20240306T200207Z
UID:4481-1712824200-1712844000@produffersorlando.com
SUMMARY:Golf at Rio Pinar
DESCRIPTION:24 Players\nShotgun Start
URL:https://produffersorlando.com/event/golf-at-rio-pinar-16/
LOCATION:Rio Pinar Country Club\, 8600 El Prado Ave\, Orlando\, FL\, 32825\, United States
CATEGORIES:Thursday
END:VEVENT
BEGIN:VEVENT
DTSTART;TZID=America/New_York:20240416T083000
DTEND;TZID=America/New_York:20240416T140000
DTSTAMP:20260424T162805
CREATED:20240306T200432Z
LAST-MODIFIED:20240306T200432Z
UID:4489-1713256200-1713276000@produffersorlando.com
SUMMARY:Golf at Blackbear
DESCRIPTION:24 Players\nShotgun Start
URL:https://produffersorlando.com/event/golf-at-blackbear/
LOCATION:Black Bear Golf Club\, 24505 Calusa Blvd\, Eustis\, FL\, 32736\, United States
CATEGORIES:Tuesday
END:VEVENT
BEGIN:VEVENT
DTSTART;TZID=America/New_York:20240418T083000
DTEND;TZID=America/New_York:20240418T140000
DTSTAMP:20260424T162805
CREATED:20231224T010637Z
LAST-MODIFIED:20240416T203339Z
UID:4277-1713429000-1713448800@produffersorlando.com
SUMMARY:Forest Lake
DESCRIPTION:20 Players\nShotgun Start
URL:https://produffersorlando.com/event/kissimmee-bay-3/
LOCATION:Forest Lake Golf Club\, 10521 Clarcona Ocoee Rd\, Apopka\, FL\, 32703\, United States
CATEGORIES:Thursday
END:VEVENT
BEGIN:VEVENT
DTSTART;TZID=America/New_York:20240423T083000
DTEND;TZID=America/New_York:20240423T140000
DTSTAMP:20260424T162805
CREATED:20240225T195054Z
LAST-MODIFIED:20240225T195054Z
UID:4412-1713861000-1713880800@produffersorlando.com
SUMMARY:Golf at Forest Lake
DESCRIPTION:24 Players\nShotgun Start
URL:https://produffersorlando.com/event/golf-at-forest-lake-27/
LOCATION:Forest Lake Golf Club\, 10521 Clarcona Ocoee Rd\, Apopka\, FL\, 32703\, United States
CATEGORIES:Tuesday
END:VEVENT
BEGIN:VEVENT
DTSTART;TZID=America/New_York:20240425T083000
DTEND;TZID=America/New_York:20240425T140000
DTSTAMP:20260424T162805
CREATED:20240306T201547Z
LAST-MODIFIED:20240306T201547Z
UID:4493-1714033800-1714053600@produffersorlando.com
SUMMARY:Golf at Eagle Dunes
DESCRIPTION:24 Players\nShotgun Start
URL:https://produffersorlando.com/event/golf-at-eagle-dunes-14/
LOCATION:Eagle Dunes Golf Club\, 24000 Marbella Drive\, Sorrento\, FL\, 32776\, United States
CATEGORIES:Thursday
END:VEVENT
BEGIN:VEVENT
DTSTART;TZID=America/New_York:20240430T083000
DTEND;TZID=America/New_York:20240430T140000
DTSTAMP:20260424T162805
CREATED:20240306T201810Z
LAST-MODIFIED:20240306T201810Z
UID:4495-1714465800-1714485600@produffersorlando.com
SUMMARY:Golf at Dubsdread
DESCRIPTION:24 Players\nShotgun Start
URL:https://produffersorlando.com/event/golf-at-dubsdread-2/
LOCATION:DubsDread Golf Course\, 549 West Par Street\, Orlando\, FL\, 32804\, United States
CATEGORIES:Tuesday
END:VEVENT
END:VCALENDAR