BEGIN:VCALENDAR
VERSION:2.0
PRODID:-//Pro-Duffers Orlando - ECPv6.15.20//NONSGML v1.0//EN
CALSCALE:GREGORIAN
METHOD:PUBLISH
X-ORIGINAL-URL:https://produffersorlando.com
X-WR-CALDESC:Events for Pro-Duffers Orlando
REFRESH-INTERVAL;VALUE=DURATION:PT1H
X-Robots-Tag:noindex
X-PUBLISHED-TTL:PT1H
BEGIN:VTIMEZONE
TZID:America/New_York
BEGIN:DAYLIGHT
TZOFFSETFROM:-0500
TZOFFSETTO:-0400
TZNAME:EDT
DTSTART:20230312T070000
END:DAYLIGHT
BEGIN:STANDARD
TZOFFSETFROM:-0400
TZOFFSETTO:-0500
TZNAME:EST
DTSTART:20231105T060000
END:STANDARD
BEGIN:DAYLIGHT
TZOFFSETFROM:-0500
TZOFFSETTO:-0400
TZNAME:EDT
DTSTART:20240310T070000
END:DAYLIGHT
BEGIN:STANDARD
TZOFFSETFROM:-0400
TZOFFSETTO:-0500
TZNAME:EST
DTSTART:20241103T060000
END:STANDARD
BEGIN:DAYLIGHT
TZOFFSETFROM:-0500
TZOFFSETTO:-0400
TZNAME:EDT
DTSTART:20250309T070000
END:DAYLIGHT
BEGIN:STANDARD
TZOFFSETFROM:-0400
TZOFFSETTO:-0500
TZNAME:EST
DTSTART:20251102T060000
END:STANDARD
END:VTIMEZONE
BEGIN:VEVENT
DTSTART;TZID=America/New_York:20240801T080000
DTEND;TZID=America/New_York:20240801T140000
DTSTAMP:20260424T112927
CREATED:20231224T010841Z
LAST-MODIFIED:20240730T224654Z
UID:4279-1722499200-1722520800@produffersorlando.com
SUMMARY:Golf at Stoneybrook West
DESCRIPTION:20 Players\nShotgun Start\nContact: Rocky
URL:https://produffersorlando.com/event/kissimmee-bay-4/
LOCATION:Stoneybrook West Golf Club\, 15501 Towne Commons Blvd\, Winter Garden\, FL\, 34787\, United States
CATEGORIES:Thursday
END:VEVENT
BEGIN:VEVENT
DTSTART;TZID=America/New_York:20240806T083000
DTEND;TZID=America/New_York:20240806T140000
DTSTAMP:20260424T112927
CREATED:20240730T225215Z
LAST-MODIFIED:20240730T225215Z
UID:4645-1722933000-1722952800@produffersorlando.com
SUMMARY:Golf at Metrowest
DESCRIPTION:20 Players\nContact Alex
URL:https://produffersorlando.com/event/golf-at-metrowest-21/
LOCATION:Metrowest Golf Club\, 2100 Hiawassee
CATEGORIES:Tuesday
END:VEVENT
BEGIN:VEVENT
DTSTART;TZID=America/New_York:20240808T083000
DTEND;TZID=America/New_York:20240808T140000
DTSTAMP:20260424T112927
CREATED:20240718T120014Z
LAST-MODIFIED:20240718T120014Z
UID:4634-1723105800-1723125600@produffersorlando.com
SUMMARY:Golf at Ventura
DESCRIPTION:24 Players\nShotgun Start\nContact: Josh
URL:https://produffersorlando.com/event/golf-at-ventura-13/
LOCATION:Ventura Country Club\, 3333 Woodgate Blvd\, Orlando\, FL\, 32822\, United States
CATEGORIES:Thursday
END:VEVENT
BEGIN:VEVENT
DTSTART;TZID=America/New_York:20240813T083000
DTEND;TZID=America/New_York:20240813T140000
DTSTAMP:20260424T112927
CREATED:20240718T153607Z
LAST-MODIFIED:20240718T153607Z
UID:4640-1723537800-1723557600@produffersorlando.com
SUMMARY:Golf at Eagle Dunes
DESCRIPTION:24 Players\nShotgun Strat\nRange\nContact: Sean
URL:https://produffersorlando.com/event/golf-at-eagle-dunes-15/
LOCATION:Eagle Dunes Golf Club\, 24000 Marbella Drive\, Sorrento\, FL\, 32776\, United States
CATEGORIES:Tuesday
END:VEVENT
BEGIN:VEVENT
DTSTART;TZID=America/New_York:20240815T080000
DTEND;TZID=America/New_York:20240815T170000
DTSTAMP:20260424T112927
CREATED:20240306T180047Z
LAST-MODIFIED:20240306T180047Z
UID:4469-1723708800-1723741200@produffersorlando.com
SUMMARY:Golf at Eagle Creek
DESCRIPTION:24 Players\nShotgun Start
URL:https://produffersorlando.com/event/golf-at-eagle-creek-34/
LOCATION:Eagle Creek Golf Club\, 10350 Emerson Lake Blvd\, Orlando\, FL\, 32832\, United States
CATEGORIES:Thursday
END:VEVENT
BEGIN:VEVENT
DTSTART;TZID=America/New_York:20240820T083000
DTEND;TZID=America/New_York:20240820T140000
DTSTAMP:20260424T112927
CREATED:20240731T163207Z
LAST-MODIFIED:20240731T163207Z
UID:4653-1724142600-1724162400@produffersorlando.com
SUMMARY:Golf at Orange Lake (Legends)
DESCRIPTION:24 Players\nShotgun Start\nRange\nContact: Anthony
URL:https://produffersorlando.com/event/golf-at-orange-lake-legends-6/
LOCATION:Orange Lake Golf\, 8505 W Irlo Bronson Memorial Hwy\, Kissimmee\, FL\, 34747\, United States
CATEGORIES:Tuesday
END:VEVENT
BEGIN:VEVENT
DTSTART;TZID=America/New_York:20240822T073000
DTEND;TZID=America/New_York:20240822T140000
DTSTAMP:20260424T112927
CREATED:20240731T162258Z
LAST-MODIFIED:20240731T162258Z
UID:4647-1724311800-1724335200@produffersorlando.com
SUMMARY:Golf at Reunion (Nicklaus)
DESCRIPTION:24 Players\nTee- Times\nRange\nContact: Mack Johnson
URL:https://produffersorlando.com/event/golf-at-reunion-nicklaus-7/
LOCATION:Reunion Resort Golf Course\, 7593 Grathing Dr\, Kissimmee\, FL\, 34747\, United States
CATEGORIES:Thursday
END:VEVENT
BEGIN:VEVENT
DTSTART;TZID=America/New_York:20240827T083000
DTEND;TZID=America/New_York:20240827T140000
DTSTAMP:20260424T112927
CREATED:20240718T121112Z
LAST-MODIFIED:20240731T162758Z
UID:4636-1724747400-1724767200@produffersorlando.com
SUMMARY:Golf at Northshore
DESCRIPTION:20 Players\nTee-times\nContact: Robbie
URL:https://produffersorlando.com/event/golf-at-northshore-16/
LOCATION:North Shore Golf Club\, 11507 N Shore Golf Club Blvd\, Orlando\, FL\, 32832\, United States
CATEGORIES:Tuesday
END:VEVENT
BEGIN:VEVENT
DTSTART;TZID=America/New_York:20240829T080000
DTEND;TZID=America/New_York:20240829T140000
DTSTAMP:20260424T112927
CREATED:20240718T121630Z
LAST-MODIFIED:20240718T121630Z
UID:4638-1724918400-1724940000@produffersorlando.com
SUMMARY:Golf at Highland Reserve
DESCRIPTION:24 Players\nTee-Times\nContact Donnie
URL:https://produffersorlando.com/event/golf-at-highland-reserve-24/
LOCATION:Highland Reserve Golf Club\, 500 Highlands Reserve Blvd\, Davenport\, FL\, 33897\, United States
CATEGORIES:Thursday
END:VEVENT
END:VCALENDAR