BEGIN:VCALENDAR
VERSION:2.0
PRODID:-//Pro-Duffers Orlando - ECPv6.15.20//NONSGML v1.0//EN
CALSCALE:GREGORIAN
METHOD:PUBLISH
X-ORIGINAL-URL:https://produffersorlando.com
X-WR-CALDESC:Events for Pro-Duffers Orlando
REFRESH-INTERVAL;VALUE=DURATION:PT1H
X-Robots-Tag:noindex
X-PUBLISHED-TTL:PT1H
BEGIN:VTIMEZONE
TZID:America/New_York
BEGIN:DAYLIGHT
TZOFFSETFROM:-0500
TZOFFSETTO:-0400
TZNAME:EDT
DTSTART:20230312T070000
END:DAYLIGHT
BEGIN:STANDARD
TZOFFSETFROM:-0400
TZOFFSETTO:-0500
TZNAME:EST
DTSTART:20231105T060000
END:STANDARD
BEGIN:DAYLIGHT
TZOFFSETFROM:-0500
TZOFFSETTO:-0400
TZNAME:EDT
DTSTART:20240310T070000
END:DAYLIGHT
BEGIN:STANDARD
TZOFFSETFROM:-0400
TZOFFSETTO:-0500
TZNAME:EST
DTSTART:20241103T060000
END:STANDARD
BEGIN:DAYLIGHT
TZOFFSETFROM:-0500
TZOFFSETTO:-0400
TZNAME:EDT
DTSTART:20250309T070000
END:DAYLIGHT
BEGIN:STANDARD
TZOFFSETFROM:-0400
TZOFFSETTO:-0500
TZNAME:EST
DTSTART:20251102T060000
END:STANDARD
END:VTIMEZONE
BEGIN:VEVENT
DTSTART;TZID=America/New_York:20241001T074500
DTEND;TZID=America/New_York:20241001T140000
DTSTAMP:20260424T083926
CREATED:20240927T173506Z
LAST-MODIFIED:20240927T173506Z
UID:4739-1727768700-1727791200@produffersorlando.com
SUMMARY:Golf at Wedgefield
DESCRIPTION:24 Players\nTee-Times\nRange\nContact:Tina Anthony
URL:https://produffersorlando.com/event/golf-at-wedgefield-3/
LOCATION:Wedgefield\, 20550 Maxim Pkwy\, Orlando\, FL\, 32833\, United States
CATEGORIES:Tuesday
END:VEVENT
BEGIN:VEVENT
DTSTART;TZID=America/New_York:20241003T080000
DTEND;TZID=America/New_York:20241006T170000
DTSTAMP:20260424T083926
CREATED:20240303T083951Z
LAST-MODIFIED:20240303T083951Z
UID:4457-1727942400-1728234000@produffersorlando.com
SUMMARY:PD National Convention/Tournament
DESCRIPTION:
URL:https://produffersorlando.com/event/pd-national-convention-tournament/
LOCATION:FL
END:VEVENT
BEGIN:VEVENT
DTSTART;TZID=America/New_York:20241003T083600
DTEND;TZID=America/New_York:20241003T140000
DTSTAMP:20260424T083926
CREATED:20240927T173807Z
LAST-MODIFIED:20240927T173807Z
UID:4742-1727944560-1727964000@produffersorlando.com
SUMMARY:Golf at Metrowest
DESCRIPTION:12 Players\nTee-Times\nContact:Alex
URL:https://produffersorlando.com/event/golf-at-metrowest-22/
LOCATION:Metrowest Golf Club\, 2100 Hiawassee
CATEGORIES:Thursday
END:VEVENT
BEGIN:VEVENT
DTSTART;TZID=America/New_York:20241008T074500
DTEND;TZID=America/New_York:20241008T140000
DTSTAMP:20260424T083926
CREATED:20241003T183319Z
LAST-MODIFIED:20241003T183319Z
UID:4746-1728373500-1728396000@produffersorlando.com
SUMMARY:Golf at Forest Lake
DESCRIPTION:20 Players\nShotgun start\ncontact: John.V
URL:https://produffersorlando.com/event/golf-at-forest-lake-31/
LOCATION:Forest Lake Golf Club\, 10521 Clarcona Ocoee Rd\, Apopka\, FL\, 32703\, United States
CATEGORIES:Tuesday
END:VEVENT
BEGIN:VEVENT
DTSTART;VALUE=DATE:20241014
DTEND;VALUE=DATE:20241015
DTSTAMP:20260424T083926
CREATED:20240207T231908Z
LAST-MODIFIED:20240207T231908Z
UID:4371-1728864000-1728950399@produffersorlando.com
SUMMARY:Indigenous People's Day
DESCRIPTION:
URL:https://produffersorlando.com/event/indigenous-peoples-day/
LOCATION:FL
CATEGORIES:Monday
END:VEVENT
BEGIN:VEVENT
DTSTART;TZID=America/New_York:20241022T083000
DTEND;TZID=America/New_York:20241022T140000
DTSTAMP:20260424T083926
CREATED:20241018T002052Z
LAST-MODIFIED:20241018T002052Z
UID:4752-1729585800-1729605600@produffersorlando.com
SUMMARY:Golf at Rio Pinar
DESCRIPTION:20 Players\nShotgun Start\nContact: Tom Jackson
URL:https://produffersorlando.com/event/golf-at-rio-pinar-18/
LOCATION:Rio Pinar Country Club\, 8600 El Prado Ave\, Orlando\, FL\, 32825\, United States
CATEGORIES:Tuesday
END:VEVENT
BEGIN:VEVENT
DTSTART;TZID=America/New_York:20241024T083000
DTEND;TZID=America/New_York:20241024T140000
DTSTAMP:20260424T083926
CREATED:20241018T011515Z
LAST-MODIFIED:20241018T011515Z
UID:4755-1729758600-1729778400@produffersorlando.com
SUMMARY:Golf at Remington
DESCRIPTION:24 Players\nShotgun Start\nContact: Riley
URL:https://produffersorlando.com/event/golf-at-remington-16/
LOCATION:Remington Golf Club\, 2995 Remingtong Blvd\, Kissimmee\, FL\, 34774\, United States
CATEGORIES:Thursday
END:VEVENT
BEGIN:VEVENT
DTSTART;TZID=America/New_York:20241029T080000
DTEND;TZID=America/New_York:20241029T140000
DTSTAMP:20260424T083926
CREATED:20241021T142101Z
LAST-MODIFIED:20241021T142101Z
UID:4759-1730188800-1730210400@produffersorlando.com
SUMMARY:Golf at Highland Reserve
DESCRIPTION:20 Players\nTee-Times\nContact Sue
URL:https://produffersorlando.com/event/golf-at-highland-reserve-25/
LOCATION:Highland Reserve Golf Club\, 500 Highlands Reserve Blvd\, Davenport\, FL\, 33897\, United States
CATEGORIES:Tuesday
END:VEVENT
BEGIN:VEVENT
DTSTART;VALUE=DATE:20241031
DTEND;VALUE=DATE:20241101
DTSTAMP:20260424T083926
CREATED:20240207T232019Z
LAST-MODIFIED:20240207T232019Z
UID:4373-1730332800-1730419199@produffersorlando.com
SUMMARY:Halloween
DESCRIPTION:
URL:https://produffersorlando.com/event/halloween-2/
LOCATION:FL
CATEGORIES:Thursday
END:VEVENT
BEGIN:VEVENT
DTSTART;TZID=America/New_York:20241031T093000
DTEND;TZID=America/New_York:20241031T140000
DTSTAMP:20260424T083926
CREATED:20241021T142321Z
LAST-MODIFIED:20241021T142321Z
UID:4761-1730367000-1730383200@produffersorlando.com
SUMMARY:Golf at Legends
DESCRIPTION:20 Players\nTee-Times\nContact: Chris
URL:https://produffersorlando.com/event/golf-at-legends-14/
LOCATION:Legends Golf and Country Club\, 1700 Legendary Blvd\, Clermont\, FL\, 34711\, United States
CATEGORIES:Thursday
END:VEVENT
END:VCALENDAR