BEGIN:VCALENDAR
VERSION:2.0
PRODID:-//Pro-Duffers Orlando - ECPv6.15.20//NONSGML v1.0//EN
CALSCALE:GREGORIAN
METHOD:PUBLISH
X-WR-CALNAME:Pro-Duffers Orlando
X-ORIGINAL-URL:https://produffersorlando.com
X-WR-CALDESC:Events for Pro-Duffers Orlando
REFRESH-INTERVAL;VALUE=DURATION:PT1H
X-Robots-Tag:noindex
X-PUBLISHED-TTL:PT1H
BEGIN:VTIMEZONE
TZID:America/New_York
BEGIN:DAYLIGHT
TZOFFSETFROM:-0500
TZOFFSETTO:-0400
TZNAME:EDT
DTSTART:20240310T070000
END:DAYLIGHT
BEGIN:STANDARD
TZOFFSETFROM:-0400
TZOFFSETTO:-0500
TZNAME:EST
DTSTART:20241103T060000
END:STANDARD
BEGIN:DAYLIGHT
TZOFFSETFROM:-0500
TZOFFSETTO:-0400
TZNAME:EDT
DTSTART:20250309T070000
END:DAYLIGHT
BEGIN:STANDARD
TZOFFSETFROM:-0400
TZOFFSETTO:-0500
TZNAME:EST
DTSTART:20251102T060000
END:STANDARD
BEGIN:DAYLIGHT
TZOFFSETFROM:-0500
TZOFFSETTO:-0400
TZNAME:EDT
DTSTART:20260308T070000
END:DAYLIGHT
BEGIN:STANDARD
TZOFFSETFROM:-0400
TZOFFSETTO:-0500
TZNAME:EST
DTSTART:20261101T060000
END:STANDARD
END:VTIMEZONE
BEGIN:VEVENT
DTSTART;TZID=America/New_York:20250204T080000
DTEND;TZID=America/New_York:20250204T140000
DTSTAMP:20260424T030507
CREATED:20250129T142534Z
LAST-MODIFIED:20250129T142534Z
UID:4904-1738656000-1738677600@produffersorlando.com
SUMMARY:Golf at Redtail
DESCRIPTION:24 Players\nShotgun Start\nContact: Drew
URL:https://produffersorlando.com/event/golf-at-redtail-14/
LOCATION:Redtail Golf Club\, 21600 Covered Bridge Lane\, Sorrento\, FL\, 32776\, United States
CATEGORIES:Tuesday
END:VEVENT
BEGIN:VEVENT
DTSTART;TZID=America/New_York:20250206T090000
DTEND;TZID=America/New_York:20250206T140000
DTSTAMP:20260424T030507
CREATED:20250129T003408Z
LAST-MODIFIED:20250129T003408Z
UID:4882-1738832400-1738850400@produffersorlando.com
SUMMARY:Golf at Venetian Bay
DESCRIPTION:24 Players\nShotgun Start\nRange\nContact: Ben
URL:https://produffersorlando.com/event/golf-at-venetian-bay/
LOCATION:Venetian Bay Golf Club\, 63 Airport Road\, New Smyma Beach\, FL\, 32168\, United States
CATEGORIES:Thursday
END:VEVENT
BEGIN:VEVENT
DTSTART;TZID=America/New_York:20250211T080000
DTEND;TZID=America/New_York:20250211T140000
DTSTAMP:20260424T030507
CREATED:20250129T003628Z
LAST-MODIFIED:20250129T003628Z
UID:4885-1739260800-1739282400@produffersorlando.com
SUMMARY:Golf at Stoneybrook West
DESCRIPTION:24 Players\nShotgun Start\nContact: Rocky
URL:https://produffersorlando.com/event/golf-at-stoneybrook-west-5/
LOCATION:Stoneybrook West Golf Club\, 15501 Towne Commons Blvd\, Winter Garden\, FL\, 34787\, United States
CATEGORIES:Tuesday
END:VEVENT
BEGIN:VEVENT
DTSTART;TZID=America/New_York:20250213T080000
DTEND;TZID=America/New_York:20250213T140000
DTSTAMP:20260424T030507
CREATED:20250129T003912Z
LAST-MODIFIED:20250129T003912Z
UID:4887-1739433600-1739455200@produffersorlando.com
SUMMARY:Golf at Dubsdreed
DESCRIPTION:24 Players\nTee-Times\nContact Virginia
URL:https://produffersorlando.com/event/golf-at-dubsdreed-4/
LOCATION:DubsDread Golf Course\, 549 West Par Street\, Orlando\, FL\, 32804\, United States
CATEGORIES:Thursday
END:VEVENT
BEGIN:VEVENT
DTSTART;TZID=America/New_York:20250218T083000
DTEND;TZID=America/New_York:20250218T140000
DTSTAMP:20260424T030507
CREATED:20250129T004056Z
LAST-MODIFIED:20250129T004056Z
UID:4889-1739867400-1739887200@produffersorlando.com
SUMMARY:Golf at Forest Lake
DESCRIPTION:24 Players\nShotgun Start\nContact: John V.
URL:https://produffersorlando.com/event/golf-at-forest-lake-32/
LOCATION:Forest Lake Golf Club\, 10521 Clarcona Ocoee Rd\, Apopka\, FL\, 32703\, United States
CATEGORIES:Tuesday
END:VEVENT
BEGIN:VEVENT
DTSTART;TZID=America/New_York:20250220T083000
DTEND;TZID=America/New_York:20250220T140000
DTSTAMP:20260424T030507
CREATED:20250129T004306Z
LAST-MODIFIED:20250129T004306Z
UID:4891-1740040200-1740060000@produffersorlando.com
SUMMARY:Golf t Legends
DESCRIPTION:24 Players\nTee-Times\nRange\nContact: Chris
URL:https://produffersorlando.com/event/golf-t-legends/
LOCATION:Legends Golf and Country Club\, 1700 Legendary Blvd\, Clermont\, FL\, 34711\, United States
CATEGORIES:Thursday
END:VEVENT
BEGIN:VEVENT
DTSTART;TZID=America/New_York:20250225T080000
DTEND;TZID=America/New_York:20250225T140000
DTSTAMP:20260424T030507
CREATED:20250129T004512Z
LAST-MODIFIED:20250129T004512Z
UID:4893-1740470400-1740492000@produffersorlando.com
SUMMARY:Golf at Sweetwater
DESCRIPTION:24 Players\nTee-Times\nRange\nContact: Kevin
URL:https://produffersorlando.com/event/golf-at-sweetwater-6/
LOCATION:Sweetwater\, 2700 Sweetwater Country Club Drive\, Apopka\, FL\, 32712\, United States
CATEGORIES:Tuesday
END:VEVENT
END:VCALENDAR