BEGIN:VCALENDAR
VERSION:2.0
PRODID:-//Pro-Duffers Orlando - ECPv6.15.20//NONSGML v1.0//EN
CALSCALE:GREGORIAN
METHOD:PUBLISH
X-ORIGINAL-URL:https://produffersorlando.com
X-WR-CALDESC:Events for Pro-Duffers Orlando
REFRESH-INTERVAL;VALUE=DURATION:PT1H
X-Robots-Tag:noindex
X-PUBLISHED-TTL:PT1H
BEGIN:VTIMEZONE
TZID:America/New_York
BEGIN:DAYLIGHT
TZOFFSETFROM:-0500
TZOFFSETTO:-0400
TZNAME:EDT
DTSTART:20240310T070000
END:DAYLIGHT
BEGIN:STANDARD
TZOFFSETFROM:-0400
TZOFFSETTO:-0500
TZNAME:EST
DTSTART:20241103T060000
END:STANDARD
BEGIN:DAYLIGHT
TZOFFSETFROM:-0500
TZOFFSETTO:-0400
TZNAME:EDT
DTSTART:20250309T070000
END:DAYLIGHT
BEGIN:STANDARD
TZOFFSETFROM:-0400
TZOFFSETTO:-0500
TZNAME:EST
DTSTART:20251102T060000
END:STANDARD
BEGIN:DAYLIGHT
TZOFFSETFROM:-0500
TZOFFSETTO:-0400
TZNAME:EDT
DTSTART:20260308T070000
END:DAYLIGHT
BEGIN:STANDARD
TZOFFSETFROM:-0400
TZOFFSETTO:-0500
TZNAME:EST
DTSTART:20261101T060000
END:STANDARD
END:VTIMEZONE
BEGIN:VEVENT
DTSTART;TZID=America/New_York:20250501T083000
DTEND;TZID=America/New_York:20250501T140000
DTSTAMP:20260423T225818
CREATED:20250330T000952Z
LAST-MODIFIED:20250419T012520Z
UID:4970-1746088200-1746108000@produffersorlando.com
SUMMARY:Golf at Providence
DESCRIPTION:24 Players\nTee-Times\nContact: Bruce
URL:https://produffersorlando.com/event/golf-at-providence-9/
LOCATION:Providence Golf Club\, 1518 Clubhouse Blvd\, Davenport\, FL\, 33837\, United States
CATEGORIES:Thursday
END:VEVENT
BEGIN:VEVENT
DTSTART;TZID=America/New_York:20250506T085200
DTEND;TZID=America/New_York:20250506T140000
DTSTAMP:20260423T225818
CREATED:20250421T014016Z
LAST-MODIFIED:20250421T014016Z
UID:4996-1746521520-1746540000@produffersorlando.com
SUMMARY:Golf at Twin Rivers
DESCRIPTION:20 Players\nTee-Times\nRange\nContact: Kim
URL:https://produffersorlando.com/event/golf-at-twin-rivers-6/
LOCATION:Twin Rivers\, 2100 EkanaDrive\, Oviedo\, FL\, 32765\, United States
CATEGORIES:Tuesday
END:VEVENT
BEGIN:VEVENT
DTSTART;TZID=America/New_York:20250508T083000
DTEND;TZID=America/New_York:20250508T140000
DTSTAMP:20260423T225818
CREATED:20250419T013057Z
LAST-MODIFIED:20250419T013057Z
UID:4992-1746693000-1746712800@produffersorlando.com
SUMMARY:Golf at Rio Pinar
DESCRIPTION:24 Players\nShotgun Start\nContact: Tom J.
URL:https://produffersorlando.com/event/golf-at-rio-pinar-25/
LOCATION:Rio Pinar Country Club\, 8600 El Prado Ave\, Orlando\, FL\, 32825\, United States
CATEGORIES:Thursday
END:VEVENT
BEGIN:VEVENT
DTSTART;TZID=America/New_York:20250513T080000
DTEND;TZID=America/New_York:20250513T140000
DTSTAMP:20260423T225818
CREATED:20250419T012802Z
LAST-MODIFIED:20250419T012802Z
UID:4989-1747123200-1747144800@produffersorlando.com
SUMMARY:Golf at Reunion (Nicklaus)
DESCRIPTION:24 Players\nTee-Times\nRange\nContact M. Johnson
URL:https://produffersorlando.com/event/golf-at-reunion-nicklaus-8/
LOCATION:Reunion Resort Golf Course\, 7593 Grathing Dr\, Kissimmee\, FL\, 34747\, United States
CATEGORIES:Tuesday
END:VEVENT
BEGIN:VEVENT
DTSTART;TZID=America/New_York:20250515T083000
DTEND;TZID=America/New_York:20250515T140000
DTSTAMP:20260423T225818
CREATED:20250330T001303Z
LAST-MODIFIED:20250330T001303Z
UID:4972-1747297800-1747317600@produffersorlando.com
SUMMARY:Golf at Oaks National
DESCRIPTION:24 Players\nShotgun Start\nContact: Jacab/John
URL:https://produffersorlando.com/event/golf-at-oaks-national-5/
LOCATION:Oaks National Golf Club\, 1500 The Oaks Blvd\, Kissimmee\, FL\, 34746\, United States
CATEGORIES:Thursday
END:VEVENT
BEGIN:VEVENT
DTSTART;TZID=America/New_York:20250520T080000
DTEND;TZID=America/New_York:20250520T140000
DTSTAMP:20260423T225818
CREATED:20250330T001717Z
LAST-MODIFIED:20250330T001717Z
UID:4975-1747728000-1747749600@produffersorlando.com
SUMMARY:Golf at Dubsdreed
DESCRIPTION:24 Players\nShotgun Start\nRange Unknown Condition\nContact: Virginia
URL:https://produffersorlando.com/event/golf-at-dubsdreed-6/
LOCATION:DubsDread Golf Course\, 549 West Par Street\, Orlando\, FL\, 32804\, United States
CATEGORIES:Tuesday
END:VEVENT
BEGIN:VEVENT
DTSTART;TZID=America/New_York:20250522T075600
DTEND;TZID=America/New_York:20250522T140000
DTSTAMP:20260423T225818
CREATED:20250330T002025Z
LAST-MODIFIED:20250330T002025Z
UID:4977-1747900560-1747922400@produffersorlando.com
SUMMARY:Golf at Zellwood
DESCRIPTION:20 Players\nRange\nTee-Times\nContact: Stan
URL:https://produffersorlando.com/event/golf-at-zellwood-7/
LOCATION:Zellwood Station Golf Club\, 2126 Spillman Drive\, Zellwood\, FL\, 32798\, United States
CATEGORIES:Thursday
END:VEVENT
BEGIN:VEVENT
DTSTART;TZID=America/New_York:20250527T083000
DTEND;TZID=America/New_York:20250527T140000
DTSTAMP:20260423T225818
CREATED:20250419T013341Z
LAST-MODIFIED:20250419T013341Z
UID:4994-1748334600-1748354400@produffersorlando.com
SUMMARY:Golf at Rio Pinar
DESCRIPTION:24 Players\nShotgun Start\nContact: Tom J.
URL:https://produffersorlando.com/event/golf-at-rio-pinar-26/
LOCATION:Rio Pinar Country Club\, 8600 El Prado Ave\, Orlando\, FL\, 32825\, United States
CATEGORIES:Tuesday
END:VEVENT
BEGIN:VEVENT
DTSTART;TZID=America/New_York:20250529T080000
DTEND;TZID=America/New_York:20250529T170000
DTSTAMP:20260423T225818
CREATED:20250330T002238Z
LAST-MODIFIED:20250330T002238Z
UID:4979-1748505600-1748538000@produffersorlando.com
SUMMARY:Golf at Forest Lake
DESCRIPTION:24 Players\nShotgun Start\nContact John V.
URL:https://produffersorlando.com/event/golf-at-forest-lake-35/
LOCATION:Forest Lake Golf Club\, 10521 Clarcona Ocoee Rd\, Apopka\, FL\, 32703\, United States
CATEGORIES:Thursday
END:VEVENT
END:VCALENDAR