BEGIN:VCALENDAR
VERSION:2.0
PRODID:-//Pro-Duffers Orlando - ECPv6.15.20//NONSGML v1.0//EN
CALSCALE:GREGORIAN
METHOD:PUBLISH
X-ORIGINAL-URL:https://produffersorlando.com
X-WR-CALDESC:Events for Pro-Duffers Orlando
REFRESH-INTERVAL;VALUE=DURATION:PT1H
X-Robots-Tag:noindex
X-PUBLISHED-TTL:PT1H
BEGIN:VTIMEZONE
TZID:America/New_York
BEGIN:DAYLIGHT
TZOFFSETFROM:-0500
TZOFFSETTO:-0400
TZNAME:EDT
DTSTART:20250309T070000
END:DAYLIGHT
BEGIN:STANDARD
TZOFFSETFROM:-0400
TZOFFSETTO:-0500
TZNAME:EST
DTSTART:20251102T060000
END:STANDARD
BEGIN:DAYLIGHT
TZOFFSETFROM:-0500
TZOFFSETTO:-0400
TZNAME:EDT
DTSTART:20260308T070000
END:DAYLIGHT
BEGIN:STANDARD
TZOFFSETFROM:-0400
TZOFFSETTO:-0500
TZNAME:EST
DTSTART:20261101T060000
END:STANDARD
BEGIN:DAYLIGHT
TZOFFSETFROM:-0500
TZOFFSETTO:-0400
TZNAME:EDT
DTSTART:20270314T070000
END:DAYLIGHT
BEGIN:STANDARD
TZOFFSETFROM:-0400
TZOFFSETTO:-0500
TZNAME:EST
DTSTART:20271107T060000
END:STANDARD
END:VTIMEZONE
BEGIN:VEVENT
DTSTART;VALUE=DATE:20260101
DTEND;VALUE=DATE:20260102
DTSTAMP:20260423T121041
CREATED:20251129T113621Z
LAST-MODIFIED:20251129T114244Z
UID:5208-1767225600-1767311999@produffersorlando.com
SUMMARY:NEW YEARS DAY
DESCRIPTION:
URL:https://produffersorlando.com/event/new-years-day-3/
LOCATION:FL
CATEGORIES:Thursday
END:VEVENT
BEGIN:VEVENT
DTSTART;TZID=America/New_York:20260106T083000
DTEND;TZID=America/New_York:20260106T140000
DTSTAMP:20260423T121041
CREATED:20251223T014828Z
LAST-MODIFIED:20251223T014828Z
UID:5218-1767688200-1767708000@produffersorlando.com
SUMMARY:Golf at Stoneybrook West
DESCRIPTION:15 Players\nShotgun Start\nContact:
URL:https://produffersorlando.com/event/golf-at-stoneybrook-west-8/
LOCATION:Stoneybrook West Golf Club\, 15501 Towne Commons Blvd\, Winter Garden\, FL\, 34787\, United States
CATEGORIES:Tuesday
END:VEVENT
BEGIN:VEVENT
DTSTART;TZID=America/New_York:20260108T090000
DTEND;TZID=America/New_York:20260108T140000
DTSTAMP:20260423T121041
CREATED:20251223T035341Z
LAST-MODIFIED:20251223T035341Z
UID:5222-1767862800-1767880800@produffersorlando.com
SUMMARY:Golf at Sweetwater
DESCRIPTION:15 Players\nShotgun Start\nContact:
URL:https://produffersorlando.com/event/golf-at-sweetwater-8/
LOCATION:Sweetwater\, 2700 Sweetwater Country Club Drive\, Apopka\, FL\, 32712\, United States
CATEGORIES:Thursday
END:VEVENT
BEGIN:VEVENT
DTSTART;TZID=America/New_York:20260113T083000
DTEND;TZID=America/New_York:20260113T140000
DTSTAMP:20260423T121041
CREATED:20251223T035611Z
LAST-MODIFIED:20251223T035611Z
UID:5225-1768293000-1768312800@produffersorlando.com
SUMMARY:Golf at Mayfair
DESCRIPTION:14 Players\nTee-Times\nContact:
URL:https://produffersorlando.com/event/golf-at-mayfair-3/
LOCATION:Mayfair Golf Club\, 3536 Country Club Rd\, Sanford\, 32773\, United States
CATEGORIES:Tuesday
END:VEVENT
BEGIN:VEVENT
DTSTART;TZID=America/New_York:20260115T090000
DTEND;TZID=America/New_York:20260115T140000
DTSTAMP:20260423T121041
CREATED:20260111T215624Z
LAST-MODIFIED:20260111T215624Z
UID:5249-1768467600-1768485600@produffersorlando.com
SUMMARY:Golf at Green Valley
DESCRIPTION:16 Players\nTee Times
URL:https://produffersorlando.com/event/golf-at-green-valley-6/
LOCATION:Green Valley Country Club\, 14601 Green Vlley Blvd\, Clermont\, FL\, 34711\, United States
CATEGORIES:Thursday
END:VEVENT
BEGIN:VEVENT
DTSTART;TZID=America/New_York:20260120T090000
DTEND;TZID=America/New_York:20260120T140000
DTSTAMP:20260423T121041
CREATED:20260111T215909Z
LAST-MODIFIED:20260111T215909Z
UID:5251-1768899600-1768917600@produffersorlando.com
SUMMARY:Golf at Redtail
DESCRIPTION:16 Players\nTee Times
URL:https://produffersorlando.com/event/golf-at-redtail-15/
LOCATION:Redtail Golf Club\, 21600 Covered Bridge Lane\, Sorrento\, FL\, 32776\, United States
CATEGORIES:Tuesday
END:VEVENT
BEGIN:VEVENT
DTSTART;TZID=America/New_York:20260122T083000
DTEND;TZID=America/New_York:20260122T140000
DTSTAMP:20260423T121041
CREATED:20260111T220111Z
LAST-MODIFIED:20260111T220111Z
UID:5253-1769070600-1769090400@produffersorlando.com
SUMMARY:Golf at Remington
DESCRIPTION:16 Players\nTee Times
URL:https://produffersorlando.com/event/golf-at-remington-18/
LOCATION:Remington Golf Club\, 2995 Remingtong Blvd\, Kissimmee\, FL\, 34774\, United States
CATEGORIES:Thursday
END:VEVENT
BEGIN:VEVENT
DTSTART;TZID=America/New_York:20260127T083000
DTEND;TZID=America/New_York:20260127T140000
DTSTAMP:20260423T121041
CREATED:20260111T220326Z
LAST-MODIFIED:20260111T220326Z
UID:5255-1769502600-1769522400@produffersorlando.com
SUMMARY:Golf at rio Pinar
DESCRIPTION:16 Players\nTee Times
URL:https://produffersorlando.com/event/golf-at-rio-pinar-31/
LOCATION:Rio Pinar Country Club\, 8600 El Prado Ave\, Orlando\, FL\, 32825\, United States
CATEGORIES:Tuesday
END:VEVENT
BEGIN:VEVENT
DTSTART;TZID=America/New_York:20260129T083000
DTEND;TZID=America/New_York:20260129T140000
DTSTAMP:20260423T121041
CREATED:20260111T220513Z
LAST-MODIFIED:20260111T220513Z
UID:5257-1769675400-1769695200@produffersorlando.com
SUMMARY:Golf at Wikeva
DESCRIPTION:16 Players\nTee Times
URL:https://produffersorlando.com/event/golf-at-wikeva/
LOCATION:Wekiva Golf Club\, 4100 Wekiva Club Court\, Longwood\, FL\, 32779\, United States
CATEGORIES:Thursday
END:VEVENT
END:VCALENDAR